Workbook

Sheet Guía de uso
A1: GUÍA DE USO — LIBRO INDIVIDUAL DE CALIFICACIONES
A5: Recurso | B5: Libro individual para registro, cálculo y seguimiento de calificaciones
A6: Desarrollado por | B6: Ing. Reynaldo R Castillo Martínez
A7: Contacto | B7: contacto@ingnovar.com
A8: Sitio web | B8: https://ingnovar.com/
A9: Docentes | B9: https://ingnovar.com/docentes/
A11: CÓMO FUNCIONA EL ACUMULADO
A12: 1 | B12: Cada indicador contiene C1 (5 pts), C2 (10 pts), C3 (5 pts), Total (20 pts) y Acumulado.
A13: 2 | B13: Indicador 1: Acumulado = Total del Indicador 1 (máximo 20).
A14: 3 | B14: Indicador 2: Acumulado = Indicadores 1 + 2 (máximo 40).
A15: 4 | B15: Indicador 3: Acumulado = Indicadores 1 + 2 + 3 (máximo 60).
A16: 5 | B16: Indicador 4: Acumulado = Indicadores 1 + 2 + 3 + 4 (máximo 80).
A17: 6 | B17: Indicador 5: Acumulado = los cinco indicadores (máximo 100).
A18: 7 | B18: Al completar el Indicador 3, si el acumulado es menor de 60, el nombre del estudiante se marca como alerta.
A19: 8 | B19: Al completar el Indicador 4, la alerta se recalcula. Si el acumulado llega a 60 o más, desaparece automáticamente.
A20: 9 | B20: La Nota final del corte se muestra únicamente cuando los cinco indicadores están completos.
A22: ESCALA DE DESEMPEÑO
A23: Nivel | B23: Rango | C23: Interpretación | D23: Seguimiento
A24: AI | B24: 1–59 | C24: Aprendizaje inicial | D24: Prioritario
A25: AF | B25: 60–75 | C25: Aprendizaje fundamental | D25: Preventivo
A26: AS | B26: 76–89 | C26: Aprendizaje satisfactorio | D26: Sin alerta por nota
A27: AA | B27: 90–100 | C27: Aprendizaje avanzado | D27: Sin alerta por nota
A29: Autoría: Ing. Reynaldo R Castillo Martínez · IngNovaR · contacto@ingnovar.com · https://ingnovar.com/

Sheet Dashboard
A1: DASHBOARD — SEGUIMIENTO DE CALIFICACIONES
A4: Docente | B4: =IF(Configuración!B4="","",Configuración!B4) | C4: Asignatura | D4: =IF(Configuración!B5="","",Configuración!B5) | E4: Grado / Sección | F4: =IF(Configuración!B6="","",Configuración!B6) | G4: Año | H4: =Configuración!B7 -> 0
A5: Centro | B5: =IF(Configuración!B8="","",Configuración!B8)
A7: Matrícula | C7: Mujeres | E7: Hombres | G7: Promedio final
A8: =COUNTIF(Configuración!B11:B60,"<>") -> 0 | C8: =COUNTIFS(Configuración!B11:B60,"<>",Configuración!E11:E60,"F") -> 0 | E8: =COUNTIFS(Configuración!B11:B60,"<>",Configuración!E11:E60,"M") -> 0 | G8: =IFERROR(ROUND(AVERAGE('Nota Final'!G5:G54),1),"—") -> —
A11: AVANCE DE REGISTRO POR CADA CORTE DE EVALUACIÓN
A12: Periodo | B12: Matrícula | C12: Indicador 1 | D12: Indicador 2 | E12: Indicador 3 | F12: Indicador 4 | G12: Indicador 5 | H12: Corte completo | I12: Avance
A13: I Corte | B13: =COUNTIF(Configuración!B11:B60,"<>")-COUNTIFS(Configuración!B11:B60,"<>",Configuración!D11:D60,"Retirado") -> 0 | C13: =COUNTIFS('I Corte'!D8:D57,"<>",'I Corte'!E8:E57,"<>",'I Corte'!F8:F57,"<>") -> 0 | D13: =COUNTIFS('I Corte'!I8:I57,"<>",'I Corte'!J8:J57,"<>",'I Corte'!K8:K57,"<>") -> 0 | E13: =COUNTIFS('I Corte'!N8:N57,"<>",'I Corte'!O8:O57,"<>",'I Corte'!P8:P57,"<>") -> 0 | F13: =COUNTIFS('I Corte'!S8:S57,"<>",'I Corte'!T8:T57,"<>",'I Corte'!U8:U57,"<>") -> 0 | G13: =COUNTIFS('I Corte'!X8:X57,"<>",'I Corte'!Y8:Y57,"<>",'I Corte'!Z8:Z57,"<>") -> 0 | H13: =COUNT('I Corte'!AC8:AC57) -> 0 | I13: =IFERROR(SUM(C13:G13)/(B13*5),0) -> 0
A14: II Corte | B14: =COUNTIF(Configuración!B11:B60,"<>")-COUNTIFS(Configuración!B11:B60,"<>",Configuración!D11:D60,"Retirado") -> 0 | C14: =COUNTIFS('II Corte'!D8:D57,"<>",'II Corte'!E8:E57,"<>",'II Corte'!F8:F57,"<>") -> 0 | D14: =COUNTIFS('II Corte'!I8:I57,"<>",'II Corte'!J8:J57,"<>",'II Corte'!K8:K57,"<>") -> 0 | E14: =COUNTIFS('II Corte'!N8:N57,"<>",'II Corte'!O8:O57,"<>",'II Corte'!P8:P57,"<>") -> 0 | F14: =COUNTIFS('II Corte'!S8:S57,"<>",'II Corte'!T8:T57,"<>",'II Corte'!U8:U57,"<>") -> 0 | G14: =COUNTIFS('II Corte'!X8:X57,"<>",'II Corte'!Y8:Y57,"<>",'II Corte'!Z8:Z57,"<>") -> 0 | H14: =COUNT('II Corte'!AC8:AC57) -> 0 | I14: =IFERROR(SUM(C14:G14)/(B14*5),0) -> 0
A15: III Corte | B15: =COUNTIF(Configuración!B11:B60,"<>")-COUNTIFS(Configuración!B11:B60,"<>",Configuración!D11:D60,"Retirado") -> 0 | C15: =COUNTIFS('III Corte'!D8:D57,"<>",'III Corte'!E8:E57,"<>",'III Corte'!F8:F57,"<>") -> 0 | D15: =COUNTIFS('III Corte'!I8:I57,"<>",'III Corte'!J8:J57,"<>",'III Corte'!K8:K57,"<>") -> 0 | E15: =COUNTIFS('III Corte'!N8:N57,"<>",'III Corte'!O8:O57,"<>",'III Corte'!P8:P57,"<>") -> 0 | F15: =COUNTIFS('III Corte'!S8:S57,"<>",'III Corte'!T8:T57,"<>",'III Corte'!U8:U57,"<>") -> 0 | G15: =COUNTIFS('III Corte'!X8:X57,"<>",'III Corte'!Y8:Y57,"<>",'III Corte'!Z8:Z57,"<>") -> 0 | H15: =COUNT('III Corte'!AC8:AC57) -> 0 | I15: =IFERROR(SUM(C15:G15)/(B15*5),0) -> 0
A16: IV Corte | B16: =COUNTIF(Configuración!B11:B60,"<>")-COUNTIFS(Configuración!B11:B60,"<>",Configuración!D11:D60,"Retirado") -> 0 | C16: =COUNTIFS('IV Corte'!D8:D57,"<>",'IV Corte'!E8:E57,"<>",'IV Corte'!F8:F57,"<>") -> 0 | D16: =COUNTIFS('IV Corte'!I8:I57,"<>",'IV Corte'!J8:J57,"<>",'IV Corte'!K8:K57,"<>") -> 0 | E16: =COUNTIFS('IV Corte'!N8:N57,"<>",'IV Corte'!O8:O57,"<>",'IV Corte'!P8:P57,"<>") -> 0 | F16: =COUNTIFS('IV Corte'!S8:S57,"<>",'IV Corte'!T8:T57,"<>",'IV Corte'!U8:U57,"<>") -> 0 | G16: =COUNTIFS('IV Corte'!X8:X57,"<>",'IV Corte'!Y8:Y57,"<>",'IV Corte'!Z8:Z57,"<>") -> 0 | H16: =COUNT('IV Corte'!AC8:AC57) -> 0 | I16: =IFERROR(SUM(C16:G16)/(B16*5),0) -> 0
A17: Avance = indicadores completos registrados ÷ (matrícula activa × 5 indicadores). El Corte completo indica cuántos estudiantes ya tienen los cinco indicadores registrados.
A19: RECURSOS Y AUTORÍA
A20: Desarrollado por | B20: Ing. Reynaldo R Castillo Martínez
A21: Contacto | B21: contacto@ingnovar.com
A22: Sitio | B22: https://ingnovar.com/
A23: Docentes | B23: https://ingnovar.com/docentes/
A26: AVANCE DE REGISTRO POR CORTE
A27: Periodo | B27: Estudiantes con nota | C27: Promedio | D27: AI | E27: AF | F27: AS | G27: AA | H27: Avance
A28: I Corte | B28: =COUNT('I Corte'!AC8:AC57) -> 0 | C28: =IFERROR(ROUND(AVERAGE('I Corte'!AC8:AC57),1),"") | D28: =COUNTIF('I Corte'!AD8:AD57,"AI") -> 0 | E28: =COUNTIF('I Corte'!AD8:AD57,"AF") -> 0 | F28: =COUNTIF('I Corte'!AD8:AD57,"AS") -> 0 | G28: =COUNTIF('I Corte'!AD8:AD57,"AA") -> 0 | H28: =IFERROR(B28/(COUNTIF(Configuración!B11:B60,"<>")-COUNTIFS(Configuración!B11:B60,"<>",Configuración!D11:D60,"Retirado")),0) -> 0
A29: II Corte | B29: =COUNT('II Corte'!AC8:AC57) -> 0 | C29: =IFERROR(ROUND(AVERAGE('II Corte'!AC8:AC57),1),"") | D29: =COUNTIF('II Corte'!AD8:AD57,"AI") -> 0 | E29: =COUNTIF('II Corte'!AD8:AD57,"AF") -> 0 | F29: =COUNTIF('II Corte'!AD8:AD57,"AS") -> 0 | G29: =COUNTIF('II Corte'!AD8:AD57,"AA") -> 0 | H29: =IFERROR(B29/(COUNTIF(Configuración!B11:B60,"<>")-COUNTIFS(Configuración!B11:B60,"<>",Configuración!D11:D60,"Retirado")),0) -> 0
A30: I Semestre | B30: =COUNT('I Semestre'!G5:G54) -> 0 | C30: =IFERROR(ROUND(AVERAGE('I Semestre'!G5:G54),1),"") | D30: =COUNTIF('I Semestre'!H5:H54,"AI") -> 0 | E30: =COUNTIF('I Semestre'!H5:H54,"AF") -> 0 | F30: =COUNTIF('I Semestre'!H5:H54,"AS") -> 0 | G30: =COUNTIF('I Semestre'!H5:H54,"AA") -> 0 | H30: =IFERROR(B30/(COUNTIF(Configuración!B11:B60,"<>")-COUNTIFS(Configuración!B11:B60,"<>",Configuración!D11:D60,"Retirado")),0) -> 0
A31: III Corte | B31: =COUNT('III Corte'!AC8:AC57) -> 0 | C31: =IFERROR(ROUND(AVERAGE('III Corte'!AC8:AC57),1),"") | D31: =COUNTIF('III Corte'!AD8:AD57,"AI") -> 0 | E31: =COUNTIF('III Corte'!AD8:AD57,"AF") -> 0 | F31: =COUNTIF('III Corte'!AD8:AD57,"AS") -> 0 | G31: =COUNTIF('III Corte'!AD8:AD57,"AA") -> 0 | H31: =IFERROR(B31/(COUNTIF(Configuración!B11:B60,"<>")-COUNTIFS(Configuración!B11:B60,"<>",Configuración!D11:D60,"Retirado")),0) -> 0
A32: IV Corte | B32: =COUNT('IV Corte'!AC8:AC57) -> 0 | C32: =IFERROR(ROUND(AVERAGE('IV Corte'!AC8:AC57),1),"") | D32: =COUNTIF('IV Corte'!AD8:AD57,"AI") -> 0 | E32: =COUNTIF('IV Corte'!AD8:AD57,"AF") -> 0 | F32: =COUNTIF('IV Corte'!AD8:AD57,"AS") -> 0 | G32: =COUNTIF('IV Corte'!AD8:AD57,"AA") -> 0 | H32: =IFERROR(B32/(COUNTIF(Configuración!B11:B60,"<>")-COUNTIFS(Configuración!B11:B60,"<>",Configuración!D11:D60,"Retirado")),0) -> 0
A33: II Semestre | B33: =COUNT('II Semestre'!G5:G54) -> 0 | C33: =IFERROR(ROUND(AVERAGE('II Semestre'!G5:G54),1),"") | D33: =COUNTIF('II Semestre'!H5:H54,"AI") -> 0 | E33: =COUNTIF('II Semestre'!H5:H54,"AF") -> 0 | F33: =COUNTIF('II Semestre'!H5:H54,"AS") -> 0 | G33: =COUNTIF('II Semestre'!H5:H54,"AA") -> 0 | H33: =IFERROR(B33/(COUNTIF(Configuración!B11:B60,"<>")-COUNTIFS(Configuración!B11:B60,"<>",Configuración!D11:D60,"Retirado")),0) -> 0
A34: Nota Final | B34: =COUNT('Nota Final'!G5:G54) -> 0 | C34: =IFERROR(ROUND(AVERAGE('Nota Final'!G5:G54),1),"") | D34: =COUNTIF('Nota Final'!H5:H54,"AI") -> 0 | E34: =COUNTIF('Nota Final'!H5:H54,"AF") -> 0 | F34: =COUNTIF('Nota Final'!H5:H54,"AS") -> 0 | G34: =COUNTIF('Nota Final'!H5:H54,"AA") -> 0 | H34: =IFERROR(B34/(COUNTIF(Configuración!B11:B60,"<>")-COUNTIFS(Configuración!B11:B60,"<>",Configuración!D11:D60,"Retirado")),0) -> 0
A35: Avance = estudiantes que ya tienen nota del período ÷ matrícula activa.
A37: Autoría: Ing. Reynaldo R Castillo Martínez · IngNovaR · contacto@ingnovar.com · https://ingnovar.com/

Sheet Configuración
A1: LIBRO INDIVIDUAL DE CALIFICACIONES 2026 — CONFIGURACIÓN
A3: Dato | B3: Información
A4: Docente
A5: Asignatura
A6: Grado / Sección
A7: Año lectivo
A8: Centro educativo
A10: Nº | B10: Nombres | C10: Apellidos | D10: Estado | E10: Sexo
A11: 1
A12: 2
A13: 3
A14: 4
A15: 5
A16: 6 | G16: RECURSO DESARROLLADO POR INGNOVAR
A17: 7 | G17: Autor | H17: Ing. Reynaldo R Castillo Martínez
A18: 8 | G18: Perfil | H18: Ingeniero en Computación y Sistemas · Docente de Computación y Robótica
A19: 9 | G19: Contacto | H19: contacto@ingnovar.com
A20: 10 | G20: Sitio | H20: https://ingnovar.com/
A21: 11 | G21: Docentes | H21: https://ingnovar.com/docentes/
A22: 12
A23: 13
A24: 14
A25: 15
A26: 16
A27: 17
A28: 18
A29: 19
A30: 20
A31: 21
A32: 22
A33: 23
... A60: 50
A62: Autoría: Ing. Reynaldo R Castillo Martínez · IngNovaR · contacto@ingnovar.com · https://ingnovar.com/

Sheet I Corte
A1: I CORTE — REGISTRO POR INDICADORES
A2: Docente | B2: Asignatura | C2: Grado / Sección
A3: =IF(Configuración!B4="","",Configuración!B4) | B3: =IF(Configuración!B5="","",Configuración!B5) | C3: =IF(Configuración!B6="","",Configuración!B6)
A5: Nº | B5: Nombres | C5: Apellidos | D5: Indicador 1 | I5: Indicador 2 | N5: Indicador 3 | S5: Indicador 4 | X5: Indicador 5 | AC5: Nota final | AD5: Nivel
D6: C1 | E6: C2 | F6: C3 | G6: Total | H6: Acumulado | I6: C1 | J6: C2 | K6: C3 | L6: Total | M6: Acumulado | N6: C1 | O6: C2 | P6: C3 | Q6: Total | R6: Acumulado | S6: C1 | T6: C2 | U6: C3 | V6: Total | W6: Acumulado | X6: C1 | Y6: C2 | Z6: C3 | AA6: Total | AB6: Acumulado
D7: 5 | E7: 10 | F7: 5 | G7: 20 | H7: 20 | I7: 5 | J7: 10 | K7: 5 | L7: 20 | M7: 40 | N7: 5 | O7: 10 | P7: 5 | Q7: 20 | R7: 60 | S7: 5 | T7: 10 | U7: 5 | V7: 20 | W7: 80 | X7: 5 | Y7: 10 | Z7: 5 | AA7: 20 | AB7: 100
A11: =IF(Configuración!B14="","",Configuración!A14) | B11: =IF(Configuración!B14="","",Configuración!B14) | C11: =IF(Configuración!B14="","",Configuración!C14) | G11: =IF(COUNTA(D11:F11)=0,"",IF(D11="AI",2,IF(D11="AF",3,IF(D11="AS",4,IF(D11="AA",5,0))))+IF(E11="AI",4,IF(E11="AF",6,IF(E11="AS",8,IF(E11="AA",10,0))))+IF(F11="AI",2,IF(F11="AF",3,IF(F11="AS",4,IF(F11="AA",5,0))))) | H11: =IF(COUNTA(D11:F11)=0,"",G11) | L11: =IF(COUNTA(I11:K11)=0,"",IF(I11="AI",2,IF(I11="AF",3,IF(I11="AS",4,IF(I11="AA",5,0))))+IF(J11="AI",4,IF(J11="AF",6,IF(J11="AS",8,IF(J11="AA",10,0))))+IF(K11="AI",2,IF(K11="AF",3,IF(K11="AS",4,IF(K11="AA",5,0))))) | M11: =IF(COUNTA(I11:K11)=0,"",SUM(G11,L11)) | Q11: =IF(COUNTA(N11:P11)=0,"",IF(N11="AI",2,IF(N11="AF",3,IF(N11="AS",4,IF(N11="AA",5,0))))+IF(O11="AI",4,IF(O11="AF",6,IF(O11="AS",8,IF(O11="AA",10,0))))+IF(P11="AI",2,IF(P11="AF",3,IF(P11="AS",4,IF(P11="AA",5,0))))) | R11: =IF(COUNTA(N11:P11)=0,"",SUM(G11,L11,Q11)) | V11: =IF(COUNTA(S11:U11)=0,"",IF(S11="AI",2,IF(S11="AF",3,IF(S11="AS",4,IF(S11="AA",5,0))))+IF(T11="AI",4,IF(T11="AF",6,IF(T11="AS",8,IF(T11="AA",10,0))))+IF(U11="AI",2,IF(U11="AF",3,IF(U11="AS",4,IF(U11="AA",5,0))))) | W11: =IF(COUNTA(S11:U11)=0,"",SUM(G11,L11,Q11,V11)) | AA11: =IF(COUNTA(X11:Z11)=0,"",IF(X11="AI",2,IF(X11="AF",3,IF(X11="AS",4,IF(X11="AA",5,0))))+IF(Y11="AI",4,IF(Y11="AF",6,IF(Y11="AS",8,IF(Y11="AA",10,0))))+IF(Z11="AI",2,IF(Z11="AF",3,IF(Z11="AS",4,IF(Z11="AA",5,0))))) | AB11: =IF(COUNTA(X11:Z11)=0,"",SUM(G11,L11,Q11,V11,AA11)) | AC11: =IF((COUNTA(D11:F11)+COUNTA(I11:K11)+COUNTA(N11:P11)+COUNTA(S11:U11)+COUNTA(X11:Z11))<15,"",AB11) | AD11: =IF(AC11="","",IF(AC11<60,"AI",IF(AC11<76,"AF",IF(AC11<90,"AS","AA")))) | AE11: =IF(B11="","",IF(COUNTA(N11:P11)<3,"",IF(IF(COUNTA(X11:Z11)>0,AB11,IF(COUNTA(S11:U11)>0,W11,R11))<60,"Prioritario",IF(AND(COUNTA(X11:Z11)=3,AB11<=75),"Preventivo","")))) | AF11: =IF(AE11="","",IF(AE11="Prioritario","Acumulado actual menor de 60","Nota final entre 60 y 75")) | AG11: =IF(B11="","",IF(COUNTA(D11:F11)=3,1,0)+IF(COUNTA(I11:K11)=3,1,0)+IF(COUNTA(N11:P11)=3,1,0)+IF(COUNTA(S11:U11)=3,1,0)+IF(COUNTA(X11:Z11)=3,1,0))
A12: =IF(Configuración!B15="","",Configuración!A15) | B12: =IF(Configuración!B15="","",Configuración!B15) | C12: =IF(Configuración!B15="","",Configuración!C15) | G12: =IF(COUNTA(D12:F12)=0,"",IF(D12="AI",2,IF(D12="AF",3,IF(D12="AS",4,IF(D12="AA",5,0))))+IF(E12="AI",4,IF(E12="AF",6,IF(E12="AS",8,IF(E12="AA",10,0))))+IF(F12="AI",2,IF(F12="AF",3,IF(F12="AS",4,IF(F12="AA",5,0))))) | H12: =IF(COUNTA(D12:F12)=0,"",G12) | L12: =IF(COUNTA(I12:K12)=0,"",IF(I12="AI",2,IF(I12="AF",3,IF(I12="AS",4,IF(I12="AA",5,0))))+IF(J12="AI",4,IF(J12="AF",6,IF(J12="AS",8,IF(J12="AA",10,0))))+IF(K12="AI",2,IF(K12="AF",3,IF(K12="AS",4,IF(K12="AA",5,0))))) | M12: =IF(COUNTA(I12:K12)=0,"",SUM(G12,L12)) | Q12: =IF(COUNTA(N12:P12)=0,"",IF(N12="AI",2,IF(N12="AF",3,IF(N12="AS",4,IF(N12="AA",5,0))))+IF(O12="AI",4,IF(O12="AF",6,IF(O12="AS",8,IF(O12="AA",10,0))))+IF(P12="AI",2,IF(P12="AF",3,IF(P12="AS",4,IF(P12="AA",5,0))))) | R12: =IF(COUNTA(N12:P12)=0,"",SUM(G12,L12,Q12)) | V12: =IF(COUNTA(S12:U12)=0,"",IF(S12="AI",2,IF(S12="AF",3,IF(S12="AS",4,IF(S12="AA",5,0))))+IF(T12="AI",4,IF(T12="AF",6,IF(T12="AS",8,IF(T12="AA",10,0))))+IF(U12="AI",2,IF(U12="AF",3,IF(U12="AS",4,IF(U12="AA",5,0))))) | W12: =IF(COUNTA(S12:U12)=0,"",SUM(G12,L12,Q12,V12)) | AA12: =IF(COUNTA(X12:Z12)=0,"",IF(X12="AI",2,IF(X12="AF",3,IF(X12="AS",4,IF(X12="AA",5,0))))+IF(Y12="AI",4,IF(Y12="AF",6,IF(Y12="AS",8,IF(Y12="AA",10,0))))+IF(Z12="AI",2,IF(Z12="AF",3,IF(Z12="AS",4,IF(Z12="AA",5,0))))) | AB12: =IF(COUNTA(X12:Z12)=0,"",SUM(G12,L12,Q12,V12,AA12)) | AC12: =IF((COUNTA(D12:F12)+COUNTA(I12:K12)+COUNTA(N12:P12)+COUNTA(S12:U12)+COUNTA(X12:Z12))<15,"",AB12) | AD12: =IF(AC12="","",IF(AC12<60,"AI",IF(AC12<76,"AF",IF(AC12<90,"AS","AA")))) | AE12: =IF(B12="","",IF(COUNTA(N12:P12)<3,"",IF(IF(COUNTA(X12:Z12)>0,AB12,IF(COUNTA(S12:U12)>0,W12,R12))<60,"Prioritario",IF(AND(COUNTA(X12:Z12)=3,AB12<=75),"Preventivo","")))) | AF12: =IF(AE12="","",IF(AE12="Prioritario","Acumulado actual menor de 60","Nota final entre 60 y 75")) | AG12: =IF(B12="","",IF(COUNTA(D12:F12)=3,1,0)+IF(COUNTA(I12:K12)=3,1,0)+IF(COUNTA(N12:P12)=3,1,0)+IF(COUNTA(S12:U12)=3,1,0)+IF(COUNTA(X12:Z12)=3,1,0))
A13: =IF(Configuración!B16="","",Configuración!A16) | B13: =IF(Configuración!B16="","",Configuración!B16) | C13: =IF(Configuración!B16="","",Configuración!C16) | G13: =IF(COUNTA(D13:F13)=0,"",IF(D13="AI",2,IF(D13="AF",3,IF(D13="AS",4,IF(D13="AA",5,0))))+IF(E13="AI",4,IF(E13="AF",6,IF(E13="AS",8,IF(E13="AA",10,0))))+IF(F13="AI",2,IF(F13="AF",3,IF(F13="AS",4,IF(F13="AA",5,0))))) | H13: =IF(COUNTA(D13:F13)=0,"",G13) | L13: =IF(COUNTA(I13:K13)=0,"",IF(I13="AI",2,IF(I13="AF",3,IF(I13="AS",4,IF(I13="AA",5,0))))+IF(J13="AI",4,IF(J13="AF",6,IF(J13="AS",8,IF(J13="AA",10,0))))+IF(K13="AI",2,IF(K13="AF",3,IF(K13="AS",4,IF(K13="AA",5,0))))) | M13: =IF(COUNTA(I13:K13)=0,"",SUM(G13,L13)) | Q13: =IF(COUNTA(N13:P13)=0,"",IF(N13="AI",2,IF(N13="AF",3,IF(N13="AS",4,IF(N13="AA",5,0))))+IF(O13="AI",4,IF(O13="AF",6,IF(O13="AS",8,IF(O13="AA",10,0))))+IF(P13="AI",2,IF(P13="AF",3,IF(P13="AS",4,IF(P13="AA",5,0))))) | R13: =IF(COUNTA(N13:P13)=0,"",SUM(G13,L13,Q13)) | V13: =IF(COUNTA(S13:U13)=0,"",IF(S13="AI",2,IF(S13="AF",3,IF(S13="AS",4,IF(S13="AA",5,0))))+IF(T13="AI",4,IF(T13="AF",6,IF(T13="AS",8,IF(T13="AA",10,0))))+IF(U13="AI",2,IF(U13="AF",3,IF(U13="AS",4,IF(U13="AA",5,0))))) | W13: =IF(COUNTA(S13:U13)=0,"",SUM(G13,L13,Q13,V13)) | AA13: =IF(COUNTA(X13:Z13)=0,"",IF(X13="AI",2,IF(X13="AF",3,IF(X13="AS",4,IF(X13="AA",5,0))))+IF(Y13="AI",4,IF(Y13="AF",6,IF(Y13="AS",8,IF(Y13="AA",10,0))))+IF(Z13="AI",2,IF(Z13="AF",3,IF(Z13="AS",4,IF(Z13="AA",5,0))))) | AB13: =IF(COUNTA(X13:Z13)=0,"",SUM(G13,L13,Q13,V13,AA13)) | AC13: =IF((COUNTA(D13:F13)+COUNTA(I13:K13)+COUNTA(N13:P13)+COUNTA(S13:U13)+COUNTA(X13:Z13))<15,"",AB13) | AD13: =IF(AC13="","",IF(AC13<60,"AI",IF(AC13<76,"AF",IF(AC13<90,"AS","AA")))) | AE13: =IF(B13="","",IF(COUNTA(N13:P13)<3,"",IF(IF(COUNTA(X13:Z13)>0,AB13,IF(COUNTA(S13:U13)>0,W13,R13))<60,"Prioritario",IF(AND(COUNTA(X13:Z13)=3,AB13<=75),"Preventivo","")))) | AF13: =IF(AE13="","",IF(AE13="Prioritario","Acumulado actual menor de 60","Nota final entre 60 y 75")) | AG13: =IF(B13="","",IF(COUNTA(D13:F13)=3,1,0)+IF(COUNTA(I13:K13)=3,1,0)+IF(COUNTA(N13:P13)=3,1,0)+IF(COUNTA(S13:U13)=3,1,0)+IF(COUNTA(X13:Z13)=3,1,0))
A14: =IF(Configuración!B17="","",Configuración!A17) | B14: =IF(Configuración!B17="","",Configuración!B17) | C14: =IF(Configuración!B17="","",Configuración!C17) | G14: =IF(COUNTA(D14:F14)=0,"",IF(D14="AI",2,IF(D14="AF",3,IF(D14="AS",4,IF(D14="AA",5,0))))+IF(E14="AI",4,IF(E14="AF",6,IF(E14="AS",8,IF(E14="AA",10,0))))+IF(F14="AI",2,IF(F14="AF",3,IF(F14="AS",4,IF(F14="AA",5,0))))) | H14: =IF(COUNTA(D14:F14)=0,"",G14) | L14: =IF(COUNTA(I14:K14)=0,"",IF(I14="AI",2,IF(I14="AF",3,IF(I14="AS",4,IF(I14="AA",5,0))))+IF(J14="AI",4,IF(J14="AF",6,IF(J14="AS",8,IF(J14="AA",10,0))))+IF(K14="AI",2,IF(K14="AF",3,IF(K14="AS",4,IF(K14="AA",5,0))))) | M14: =IF(COUNTA(I14:K14)=0,"",SUM(G14,L14)) | Q14: =IF(COUNTA(N14:P14)=0,"",IF(N14="AI",2,IF(N14="AF",3,IF(N14="AS",4,IF(N14="AA",5,0))))+IF(O14="AI",4,IF(O14="AF",6,IF(O14="AS",8,IF(O14="AA",10,0))))+IF(P14="AI",2,IF(P14="AF",3,IF(P14="AS",4,IF(P14="AA",5,0))))) | R14: =IF(COUNTA(N14:P14)=0,"",SUM(G14,L14,Q14)) | V14: =IF(COUNTA(S14:U14)=0,"",IF(S14="AI",2,IF(S14="AF",3,IF(S14="AS",4,IF(S14="AA",5,0))))+IF(T14="AI",4,IF(T14="AF",6,IF(T14="AS",8,IF(T14="AA",10,0))))+IF(U14="AI",2,IF(U14="AF",3,IF(U14="AS",4,IF(U14="AA",5,0))))) | W14: =IF(COUNTA(S14:U14)=0,"",SUM(G14,L14,Q14,V14)) | AA14: =IF(COUNTA(X14:Z14)=0,"",IF(X14="AI",2,IF(X14="AF",3,IF(X14="AS",4,IF(X14="AA",5,0))))+IF(Y14="AI",4,IF(Y14="AF",6,IF(Y14="AS",8,IF(Y14="AA",10,0))))+IF(Z14="AI",2,IF(Z14="AF",3,IF(Z14="AS",4,IF(Z14="AA",5,0))))) | AB14: =IF(COUNTA(X14:Z14)=0,"",SUM(G14,L14,Q14,V14,AA14)) | AC14: =IF((COUNTA(D14:F14)+COUNTA(I14:K14)+COUNTA(N14:P14)+COUNTA(S14:U14)+COUNTA(X14:Z14))<15,"",AB14) | AD14: =IF(AC14="","",IF(AC14<60,"AI",IF(AC14<76,"AF",IF(AC14<90,"AS","AA")))) | AE14: =IF(B14="","",IF(COUNTA(N14:P14)<3,"",IF(IF(COUNTA(X14:Z14)>0,AB14,IF(COUNTA(S14:U14)>0,W14,R14))<60,"Prioritario",IF(AND(COUNTA(X14:Z14)=3,AB14<=75),"Preventivo","")))) | AF14: =IF(AE14="","",IF(AE14="Prioritario","Acumulado actual menor de 60","Nota final entre 60 y 75")) | AG14: =IF(B14="","",IF(COUNTA(D14:F14)=3,1,0)+IF(COUNTA(I14:K14)=3,1,0)+IF(COUNTA(N14:P14)=3,1,0)+IF(COUNTA(S14:U14)=3,1,0)+IF(COUNTA(X14:Z14)=3,1,0))
A15: =IF(Configuración!B18="","",Configuración!A18) | B15: =IF(Configuración!B18="","",Configuración!B18) | C15: =IF(Configuración!B18="","",Configuración!C18) | G15: =IF(COUNTA(D15:F15)=0,"",IF(D15="AI",2,IF(D15="AF",3,IF(D15="AS",4,IF(D15="AA",5,0))))+IF(E15="AI",4,IF(E15="AF",6,IF(E15="AS",8,IF(E15="AA",10,0))))+IF(F15="AI",2,IF(F15="AF",3,IF(F15="AS",4,IF(F15="AA",5,0))))) | H15: =IF(COUNTA(D15:F15)=0,"",G15) | L15: =IF(COUNTA(I15:K15)=0,"",IF(I15="AI",2,IF(I15="AF",3,IF(I15="AS",4,IF(I15="AA",5,0))))+IF(J15="AI",4,IF(J15="AF",6,IF(J15="AS",8,IF(J15="AA",10,0))))+IF(K15="AI",2,IF(K15="AF",3,IF(K15="AS",4,IF(K15="AA",5,0))))) | M15: =IF(COUNTA(I15:K15)=0,"",SUM(G15,L15)) | Q15: =IF(COUNTA(N15:P15)=0,"",IF(N15="AI",2,IF(N15="AF",3,IF(N15="AS",4,IF(N15="AA",5,0))))+IF(O15="AI",4,IF(O15="AF",6,IF(O15="AS",8,IF(O15="AA",10,0))))+IF(P15="AI",2,IF(P15="AF",3,IF(P15="AS",4,IF(P15="AA",5,0))))) | R15: =IF(COUNTA(N15:P15)=0,"",SUM(G15,L15,Q15)) | V15: =IF(COUNTA(S15:U15)=0,"",IF(S15="AI",2,IF(S15="AF",3,IF(S15="AS",4,IF(S15="AA",5,0))))+IF(T15="AI",4,IF(T15="AF",6,IF(T15="AS",8,IF(T15="AA",10,0))))+IF(U15="AI",2,IF(U15="AF",3,IF(U15="AS",4,IF(U15="AA",5,0))))) | W15: =IF(COUNTA(S15:U15)=0,"",SUM(G15,L15,Q15,V15)) | AA15: =IF(COUNTA(X15:Z15)=0,"",IF(X15="AI",2,IF(X15="AF",3,IF(X15="AS",4,IF(X15="AA",5,0))))+IF(Y15="AI",4,IF(Y15="AF",6,IF(Y15="AS",8,IF(Y15="AA",10,0))))+IF(Z15="AI",2,IF(Z15="AF",3,IF(Z15="AS",4,IF(Z15="AA",5,0))))) | AB15: =IF(COUNTA(X15:Z15)=0,"",SUM(G15,L15,Q15,V15,AA15)) | AC15: =IF((COUNTA(D15:F15)+COUNTA(I15:K15)+COUNTA(N15:P15)+COUNTA(S15:U15)+COUNTA(X15:Z15))<15,"",AB15) | AD15: =IF(AC15="","",IF(AC15<60,"AI",IF(AC15<76,"AF",IF(AC15<90,"AS","AA")))) | AE15: =IF(B15="","",IF(COUNTA(N15:P15)<3,"",IF(IF(COUNTA(X15:Z15)>0,AB15,IF(COUNTA(S15:U15)>0,W15,R15))<60,"Prioritario",IF(AND(COUNTA(X15:Z15)=3,AB15<=75),"Preventivo","")))) | AF15: =IF(AE15="","",IF(AE15="Prioritario","Acumulado actual menor de 60","Nota final entre 60 y 75")) | AG15: =IF(B15="","",IF(COUNTA(D15:F15)=3,1,0)+IF(COUNTA(I15:K15)=3,1,0)+IF(COUNTA(N15:P15)=3,1,0)+IF(COUNTA(S15:U15)=3,1,0)+IF(COUNTA(X15:Z15)=3,1,0))
A16: =IF(Configuración!B19="","",Configuración!A19) | B16: =IF(Configuración!B19="","",Configuración!B19) | C16: =IF(Configuración!B19="","",Configuración!C19) | G16: =IF(COUNTA(D16:F16)=0,"",IF(D16="AI",2,IF(D16="AF",3,IF(D16="AS",4,IF(D16="AA",5,0))))+IF(E16="AI",4,IF(E16="AF",6,IF(E16="AS",8,IF(E16="AA",10,0))))+IF(F16="AI",2,IF(F16="AF",3,IF(F16="AS",4,IF(F16="AA",5,0))))) | H16: =IF(COUNTA(D16:F16)=0,"",G16) | L16: =IF(COUNTA(I16:K16)=0,"",IF(I16="AI",2,IF(I16="AF",3,IF(I16="AS",4,IF(I16="AA",5,0))))+IF(J16="AI",4,IF(J16="AF",6,IF(J16="AS",8,IF(J16="AA",10,0))))+IF(K16="AI",2,IF(K16="AF",3,IF(K16="AS",4,IF(K16="AA",5,0))))) | M16: =IF(COUNTA(I16:K16)=0,"",SUM(G16,L16)) | Q16: =IF(COUNTA(N16:P16)=0,"",IF(N16="AI",2,IF(N16="AF",3,IF(N16="AS",4,IF(N16="AA",5,0))))+IF(O16="AI",4,IF(O16="AF",6,IF(O16="AS",8,IF(O16="AA",10,0))))+IF(P16="AI",2,IF(P16="AF",3,IF(P16="AS",4,IF(P16="AA",5,0))))) | R16: =IF(COUNTA(N16:P16)=0,"",SUM(G16,L16,Q16)) | V16: =IF(COUNTA(S16:U16)=0,"",IF(S16="AI",2,IF(S16="AF",3,IF(S16="AS",4,IF(S16="AA",5,0))))+IF(T16="AI",4,IF(T16="AF",6,IF(T16="AS",8,IF(T16="AA",10,0))))+IF(U16="AI",2,IF(U16="AF",3,IF(U16="AS",4,IF(U16="AA",5,0))))) | W16: =IF(COUNTA(S16:U16)=0,"",SUM(G16,L16,Q16,V16)) | AA16: =IF(COUNTA(X16:Z16)=0,"",IF(X16="AI",2,IF(X16="AF",3,IF(X16="AS",4,IF(X16="AA",5,0))))+IF(Y16="AI",4,IF(Y16="AF",6,IF(Y16="AS",8,IF(Y16="AA",10,0))))+IF(Z16="AI",2,IF(Z16="AF",3,IF(Z16="AS",4,IF(Z16="AA",5,0))))) | AB16: =IF(COUNTA(X16:Z16)=0,"",SUM(G16,L16,Q16,V16,AA16)) | AC16: =IF((COUNTA(D16:F16)+COUNTA(I16:K16)+COUNTA(N16:P16)+COUNTA(S16:U16)+COUNTA(X16:Z16))<15,"",AB16) | AD16: =IF(AC16="","",IF(AC16<60,"AI",IF(AC16<76,"AF",IF(AC16<90,"AS","AA")))) | AE16: =IF(B16="","",IF(COUNTA(N16:P16)<3,"",IF(IF(COUNTA(X16:Z16)>0,AB16,IF(COUNTA(S16:U16)>0,W16,R16))<60,"Prioritario",IF(AND(COUNTA(X16:Z16)=3,AB16<=75),"Preventivo","")))) | AF16: =IF(AE16="","",IF(AE16="Prioritario","Acumulado actual menor de 60","Nota final entre 60 y 75")) | AG16: =IF(B16="","",IF(COUNTA(D16:F16)=3,1,0)+IF(COUNTA(I16:K16)=3,1,0)+IF(COUNTA(N16:P16)=3,1,0)+IF(COUNTA(S16:U16)=3,1,0)+IF(COUNTA(X16:Z16)=3,1,0))
A17: =IF(Configuración!B20="","",Configuración!A20) | B17: =IF(Configuración!B20="","",Configuración!B20) | C17: =IF(Configuración!B20="","",Configuración!C20) | G17: =IF(COUNTA(D17:F17)=0,"",IF(D17="AI",2,IF(D17="AF",3,IF(D17="AS",4,IF(D17="AA",5,0))))+IF(E17="AI",4,IF(E17="AF",6,IF(E17="AS",8,IF(E17="AA",10,0))))+IF(F17="AI",2,IF(F17="AF",3,IF(F17="AS",4,IF(F17="AA",5,0))))) | H17: =IF(COUNTA(D17:F17)=0,"",G17) | L17: =IF(COUNTA(I17:K17)=0,"",IF(I17="AI",2,IF(I17="AF",3,IF(I17="AS",4,IF(I17="AA",5,0))))+IF(J17="AI",4,IF(J17="AF",6,IF(J17="AS",8,IF(J17="AA",10,0))))+IF(K17="AI",2,IF(K17="AF",3,IF(K17="AS",4,IF(K17="AA",5,0))))) | M17: =IF(COUNTA(I17:K17)=0,"",SUM(G17,L17)) | Q17: =IF(COUNTA(N17:P17)=0,"",IF(N17="AI",2,IF(N17="AF",3,IF(N17="AS",4,IF(N17="AA",5,0))))+IF(O17="AI",4,IF(O17="AF",6,IF(O17="AS",8,IF(O17="AA",10,0))))+IF(P17="AI",2,IF(P17="AF",3,IF(P17="AS",4,IF(P17="AA",5,0))))) | R17: =IF(COUNTA(N17:P17)=0,"",SUM(G17,L17,Q17)) | V17: =IF(COUNTA(S17:U17)=0,"",IF(S17="AI",2,IF(S17="AF",3,IF(S17="AS",4,IF(S17="AA",5,0))))+IF(T17="AI",4,IF(T17="AF",6,IF(T17="AS",8,IF(T17="AA",10,0))))+IF(U17="AI",2,IF(U17="AF",3,IF(U17="AS",4,IF(U17="AA",5,0))))) | W17: =IF(COUNTA(S17:U17)=0,"",SUM(G17,L17,Q17,V17)) | AA17: =IF(COUNTA(X17:Z17)=0,"",IF(X17="AI",2,IF(X17="AF",3,IF(X17="AS",4,IF(X17="AA",5,0))))+IF(Y17="AI",4,IF(Y17="AF",6,IF(Y17="AS",8,IF(Y17="AA",10,0))))+IF(Z17="AI",2,IF(Z17="AF",3,IF(Z17="AS",4,IF(Z17="AA",5,0))))) | AB17: =IF(COUNTA(X17:Z17)=0,"",SUM(G17,L17,Q17,V17,AA17)) | AC17: =IF((COUNTA(D17:F17)+COUNTA(I17:K17)+COUNTA(N17:P17)+COUNTA(S17:U17)+COUNTA(X17:Z17))<15,"",AB17) | AD17: =IF(AC17="","",IF(AC17<60,"AI",IF(AC17<76,"AF",IF(AC17<90,"AS","AA")))) | AE17: =IF(B17="","",IF(COUNTA(N17:P17)<3,"",IF(IF(COUNTA(X17:Z17)>0,AB17,IF(COUNTA(S17:U17)>0,W17,R17))<60,"Prioritario",IF(AND(COUNTA(X17:Z17)=3,AB17<=75),"Preventivo","")))) | AF17: =IF(AE17="","",IF(AE17="Prioritario","Acumulado actual menor de 60","Nota final entre 60 y 75")) | AG17: =IF(B17="","",IF(COUNTA(D17:F17)=3,1,0)+IF(COUNTA(I17:K17)=3,1,0)+IF(COUNTA(N17:P17)=3,1,0)+IF(COUNTA(S17:U17)=3,1,0)+IF(COUNTA(X17:Z17)=3,1,0))
A18: =IF(Configuración!B21="","",Configuración!A21) | B18: =IF(Configuración!B21="","",Configuración!B21) | C18: =IF(Configuración!B21="","",Configuración!C21) | G18: =IF(COUNTA(D18:F18)=0,"",IF(D18="AI",2,IF(D18="AF",3,IF(D18="AS",4,IF(D18="AA",5,0))))+IF(E18="AI",4,IF(E18="AF",6,IF(E18="AS",8,IF(E18="AA",10,0))))+IF(F18="AI",2,IF(F18="AF",3,IF(F18="AS",4,IF(F18="AA",5,0))))) | H18: =IF(COUNTA(D18:F18)=0,"",G18) | L18: =IF(COUNTA(I18:K18)=0,"",IF(I18="AI",2,IF(I18="AF",3,IF(I18="AS",4,IF(I18="AA",5,0))))+IF(J18="AI",4,IF(J18="AF",6,IF(J18="AS",8,IF(J18="AA",10,0))))+IF(K18="AI",2,IF(K18="AF",3,IF(K18="AS",4,IF(K18="AA",5,0))))) | M18: =IF(COUNTA(I18:K18)=0,"",SUM(G18,L18)) | Q18: =IF(COUNTA(N18:P18)=0,"",IF(N18="AI",2,IF(N18="AF",3,IF(N18="AS",4,IF(N18="AA",5,0))))+IF(O18="AI",4,IF(O18="AF",6,IF(O18="AS",8,IF(O18="AA",10,0))))+IF(P18="AI",2,IF(P18="AF",3,IF(P18="AS",4,IF(P18="AA",5,0))))) | R18: =IF(COUNTA(N18:P18)=0,"",SUM(G18,L18,Q18)) | V18: =IF(COUNTA(S18:U18)=0,"",IF(S18="AI",2,IF(S18="AF",3,IF(S18="AS",4,IF(S18="AA",5,0))))+IF(T18="AI",4,IF(T18="AF",6,IF(T18="AS",8,IF(T18="AA",10,0))))+IF(U18="AI",2,IF(U18="AF",3,IF(U18="AS",4,IF(U18="AA",5,0))))) | W18: =IF(COUNTA(S18:U18)=0,"",SUM(G18,L18,Q18,V18)) | AA18: =IF(COUNTA(X18:Z18)=0,"",IF(X18="AI",2,IF(X18="AF",3,IF(X18="AS",4,IF(X18="AA",5,0))))+IF(Y18="AI",4,IF(Y18="AF",6,IF(Y18="AS",8,IF(Y18="AA",10,0))))+IF(Z18="AI",2,IF(Z18="AF",3,IF(Z18="AS",4,IF(Z18="AA",5,0))))) | AB18: =IF(COUNTA(X18:Z18)=0,"",SUM(G18,L18,Q18,V18,AA18)) | AC18: =IF((COUNTA(D18:F18)+COUNTA(I18:K18)+COUNTA(N18:P18)+COUNTA(S18:U18)+COUNTA(X18:Z18))<15,"",AB18) | AD18: =IF(AC18="","",IF(AC18<60,"AI",IF(AC18<76,"AF",IF(AC18<90,"AS","AA")))) | AE18: =IF(B18="","",IF(COUNTA(N18:P18)<3,"",IF(IF(COUNTA(X18:Z18)>0,AB18,IF(COUNTA(S18:U18)>0,W18,R18))<60,"Prioritario",IF(AND(COUNTA(X18:Z18)=3,AB18<=75),"Preventivo","")))) | AF18: =IF(AE18="","",IF(AE18="Prioritario","Acumulado actual menor de 60","Nota final entre 60 y 75")) | AG18: =IF(B18="","",IF(COUNTA(D18:F18)=3,1,0)+IF(COUNTA(I18:K18)=3,1,0)+IF(COUNTA(N18:P18)=3,1,0)+IF(COUNTA(S18:U18)=3,1,0)+IF(COUNTA(X18:Z18)=3,1,0))
A19: =IF(Configuración!B22="","",Configuración!A22) | B19: =IF(Configuración!B22="","",Configuración!B22) | C19: =IF(Configuración!B22="","",Configuración!C22) | G19: =IF(COUNTA(D19:F19)=0,"",IF(D19="AI",2,IF(D19="AF",3,IF(D19="AS",4,IF(D19="AA",5,0))))+IF(E19="AI",4,IF(E19="AF",6,IF(E19="AS",8,IF(E19="AA",10,0))))+IF(F19="AI",2,IF(F19="AF",3,IF(F19="AS",4,IF(F19="AA",5,0))))) | H19: =IF(COUNTA(D19:F19)=0,"",G19) | L19: =IF(COUNTA(I19:K19)=0,"",IF(I19="AI",2,IF(I19="AF",3,IF(I19="AS",4,IF(I19="AA",5,0))))+IF(J19="AI",4,IF(J19="AF",6,IF(J19="AS",8,IF(J19="AA",10,0))))+IF(K19="AI",2,IF(K19="AF",3,IF(K19="AS",4,IF(K19="AA",5,0))))) | M19: =IF(COUNTA(I19:K19)=0,"",SUM(G19,L19)) | Q19: =IF(COUNTA(N19:P19)=0,"",IF(N19="AI",2,IF(N19="AF",3,IF(N19="AS",4,IF(N19="AA",5,0))))+IF(O19="AI",4,IF(O19="AF",6,IF(O19="AS",8,IF(O19="AA",10,0))))+IF(P19="AI",2,IF(P19="AF",3,IF(P19="AS",4,IF(P19="AA",5,0))))) | R19: =IF(COUNTA(N19:P19)=0,"",SUM(G19,L19,Q19)) | V19: =IF(COUNTA(S19:U19)=0,"",IF(S19="AI",2,IF(S19="AF",3,IF(S19="AS",4,IF(S19="AA",5,0))))+IF(T19="AI",4,IF(T19="AF",6,IF(T19="AS",8,IF(T19="AA",10,0))))+IF(U19="AI",2,IF(U19="AF",3,IF(U19="AS",4,IF(U19="AA",5,0))))) | W19: =IF(COUNTA(S19:U19)=0,"",SUM(G19,L19,Q19,V19)) | AA19: =IF(COUNTA(X19:Z19)=0,"",IF(X19="AI",2,IF(X19="AF",3,IF(X19="AS",4,IF(X19="AA",5,0))))+IF(Y19="AI",4,IF(Y19="AF",6,IF(Y19="AS",8,IF(Y19="AA",10,0))))+IF(Z19="AI",2,IF(Z19="AF",3,IF(Z19="AS",4,IF(Z19="AA",5,0))))) | AB19: =IF(COUNTA(X19:Z19)=0,"",SUM(G19,L19,Q19,V19,AA19)) | AC19: =IF((COUNTA(D19:F19)+COUNTA(I19:K19)+COUNTA(N19:P19)+COUNTA(S19:U19)+COUNTA(X19:Z19))<15,"",AB19) | AD19: =IF(AC19="","",IF(AC19<60,"AI",IF(AC19<76,"AF",IF(AC19<90,"AS","AA")))) | AE19: =IF(B19="","",IF(COUNTA(N19:P19)<3,"",IF(IF(COUNTA(X19:Z19)>0,AB19,IF(COUNTA(S19:U19)>0,W19,R19))<60,"Prioritario",IF(AND(COUNTA(X19:Z19)=3,AB19<=75),"Preventivo","")))) | AF19: =IF(AE19="","",IF(AE19="Prioritario","Acumulado actual menor de 60","Nota final entre 60 y 75")) | AG19: =IF(B19="","",IF(COUNTA(D19:F19)=3,1,0)+IF(COUNTA(I19:K19)=3,1,0)+IF(COUNTA(N19:P19)=3,1,0)+IF(COUNTA(S19:U19)=3,1,0)+IF(COUNTA(X19:Z19)=3,1,0))
A20: =IF(Configuración!B23="","",Configuración!A23) | B20: =IF(Configuración!B23="","",Configuración!B23) | C20: =IF(Configuración!B23="","",Configuración!C23) | G20: =IF(COUNTA(D20:F20)=0,"",IF(D20="AI",2,IF(D20="AF",3,IF(D20="AS",4,IF(D20="AA",5,0))))+IF(E20="AI",4,IF(E20="AF",6,IF(E20="AS",8,IF(E20="AA",10,0))))+IF(F20="AI",2,IF(F20="AF",3,IF(F20="AS",4,IF(F20="AA",5,0))))) | H20: =IF(COUNTA(D20:F20)=0,"",G20) | L20: =IF(COUNTA(I20:K20)=0,"",IF(I20="AI",2,IF(I20="AF",3,IF(I20="AS",4,IF(I20="AA",5,0))))+IF(J20="AI",4,IF(J20="AF",6,IF(J20="AS",8,IF(J20="AA",10,0))))+IF(K20="AI",2,IF(K20="AF",3,IF(K20="AS",4,IF(K20="AA",5,0))))) | M20: =IF(COUNTA(I20:K20)=0,"",SUM(G20,L20)) | Q20: =IF(COUNTA(N20:P20)=0,"",IF(N20="AI",2,IF(N20="AF",3,IF(N20="AS",4,IF(N20="AA",5,0))))+IF(O20="AI",4,IF(O20="AF",6,IF(O20="AS",8,IF(O20="AA",10,0))))+IF(P20="AI",2,IF(P20="AF",3,IF(P20="AS",4,IF(P20="AA",5,0))))) | R20: =IF(COUNTA(N20:P20)=0,"",SUM(G20,L20,Q20)) | V20: =IF(COUNTA(S20:U20)=0,"",IF(S20="AI",2,IF(S20="AF",3,IF(S20="AS",4,IF(S20="AA",5,0))))+IF(T20="AI",4,IF(T20="AF",6,IF(T20="AS",8,IF(T20="AA",10,0))))+IF(U20="AI",2,IF(U20="AF",3,IF(U20="AS",4,IF(U20="AA",5,0))))) | W20: =IF(COUNTA(S20:U20)=0,"",SUM(G20,L20,Q20,V20)) | AA20: =IF(COUNTA(X20:Z20)=0,"",IF(X20="AI",2,IF(X20="AF",3,IF(X20="AS",4,IF(X20="AA",5,0))))+IF(Y20="AI",4,IF(Y20="AF",6,IF(Y20="AS",8,IF(Y20="AA",10,0))))+IF(Z20="AI",2,IF(Z20="AF",3,IF(Z20="AS",4,IF(Z20="AA",5,0))))) | AB20: =IF(COUNTA(X20:Z20)=0,"",SUM(G20,L20,Q20,V20,AA20)) | AC20: =IF((COUNTA(D20:F20)+COUNTA(I20:K20)+COUNTA(N20:P20)+COUNTA(S20:U20)+COUNTA(X20:Z20))<15,"",AB20) | AD20: =IF(AC20="","",IF(AC20<60,"AI",IF(AC20<76,"AF",IF(AC20<90,"AS","AA")))) | AE20: =IF(B20="","",IF(COUNTA(N20:P20)<3,"",IF(IF(COUNTA(X20:Z20)>0,AB20,IF(COUNTA(S20:U20)>0,W20,R20))<60,"Prioritario",IF(AND(COUNTA(X20:Z20)=3,AB20<=75),"Preventivo","")))) | AF20: =IF(AE20="","",IF(AE20="Prioritario","Acumulado actual menor de 60","Nota final entre 60 y 75")) | AG20: =IF(B20="","",IF(COUNTA(D20:F20)=3,1,0)+IF(COUNTA(I20:K20)=3,1,0)+IF(COUNTA(N20:P20)=3,1,0)+IF(COUNTA(S20:U20)=3,1,0)+IF(COUNTA(X20:Z20)=3,1,0))
A21: =IF(Configuración!B24="","",Configuración!A24) | B21: =IF(Configuración!B24="","",Configuración!B24) | C21: =IF(Configuración!B24="","",Configuración!C24) | G21: =IF(COUNTA(D21:F21)=0,"",IF(D21="AI",2,IF(D21="AF",3,IF(D21="AS",4,IF(D21="AA",5,0))))+IF(E21="AI",4,IF(E21="AF",6,IF(E21="AS",8,IF(E21="AA",10,0))))+IF(F21="AI",2,IF(F21="AF",3,IF(F21="AS",4,IF(F21="AA",5,0))))) | H21: =IF(COUNTA(D21:F21)=0,"",G21) | L21: =IF(COUNTA(I21:K21)=0,"",IF(I21="AI",2,IF(I21="AF",3,IF(I21="AS",4,IF(I21="AA",5,0))))+IF(J21="AI",4,IF(J21="AF",6,IF(J21="AS",8,IF(J21="AA",10,0))))+IF(K21="AI",2,IF(K21="AF",3,IF(K21="AS",4,IF(K21="AA",5,0))))) | M21: =IF(COUNTA(I21:K21)=0,"",SUM(G21,L21)) | Q21: =IF(COUNTA(N21:P21)=0,"",IF(N21="AI",2,IF(N21="AF",3,IF(N21="AS",4,IF(N21="AA",5,0))))+IF(O21="AI",4,IF(O21="AF",6,IF(O21="AS",8,IF(O21="AA",10,0))))+IF(P21="AI",2,IF(P21="AF",3,IF(P21="AS",4,IF(P21="AA",5,0))))) | R21: =IF(COUNTA(N21:P21)=0,"",SUM(G21,L21,Q21)) | V21: =IF(COUNTA(S21:U21)=0,"",IF(S21="AI",2,IF(S21="AF",3,IF(S21="AS",4,IF(S21="AA",5,0))))+IF(T21="AI",4,IF(T21="AF",6,IF(T21="AS",8,IF(T21="AA",10,0))))+IF(U21="AI",2,IF(U21="AF",3,IF(U21="AS",4,IF(U21="AA",5,0))))) | W21: =IF(COUNTA(S21:U21)=0,"",SUM(G21,L21,Q21,V21)) | AA21: =IF(COUNTA(X21:Z21)=0,"",IF(X21="AI",2,IF(X21="AF",3,IF(X21="AS",4,IF(X21="AA",5,0))))+IF(Y21="AI",4,IF(Y21="AF",6,IF(Y21="AS",8,IF(Y21="AA",10,0))))+IF(Z21="AI",2,IF(Z21="AF",3,IF(Z21="AS",4,IF(Z21="AA",5,0))))) | AB21: =IF(COUNTA(X21:Z21)=0,"",SUM(G21,L21,Q21,V21,AA21)) | AC21: =IF((COUNTA(D21:F21)+COUNTA(I21:K21)+COUNTA(N21:P21)+COUNTA(S21:U21)+COUNTA(X21:Z21))<15,"",AB21) | AD21: =IF(AC21="","",IF(AC21<60,"AI",IF(AC21<76,"AF",IF(AC21<90,"AS","AA")))) | AE21: =IF(B21="","",IF(COUNTA(N21:P21)<3,"",IF(IF(COUNTA(X21:Z21)>0,AB21,IF(COUNTA(S21:U21)>0,W21,R21))<60,"Prioritario",IF(AND(COUNTA(X21:Z21)=3,AB21<=75),"Preventivo","")))) | AF21: =IF(AE21="","",IF(AE21="Prioritario","Acumulado actual menor de 60","Nota final entre 60 y 75")) | AG21: =IF(B21="","",IF(COUNTA(D21:F21)=3,1,0)+IF(COUNTA(I21:K21)=3,1,0)+IF(COUNTA(N21:P21)=3,1,0)+IF(COUNTA(S21:U21)=3,1,0)+IF(COUNTA(X21:Z21)=3,1,0))
A22: =IF(Configuración!B25="","",Configuración!A25) | B22: =IF(Configuración!B25="","",Configuración!B25) | C22: =IF(Configuración!B25="","",Configuración!C25) | G22: =IF(COUNTA(D22:F22)=0,"",IF(D22="AI",2,IF(D22="AF",3,IF(D22="AS",4,IF(D22="AA",5,0))))+IF(E22="AI",4,IF(E22="AF",6,IF(E22="AS",8,IF(E22="AA",10,0))))+IF(F22="AI",2,IF(F22="AF",3,IF(F22="AS",4,IF(F22="AA",5,0))))) | H22: =IF(COUNTA(D22:F22)=0,"",G22) | L22: =IF(COUNTA(I22:K22)=0,"",IF(I22="AI",2,IF(I22="AF",3,IF(I22="AS",4,IF(I22="AA",5,0))))+IF(J22="AI",4,IF(J22="AF",6,IF(J22="AS",8,IF(J22="AA",10,0))))+IF(K22="AI",2,IF(K22="AF",3,IF(K22="AS",4,IF(K22="AA",5,0))))) | M22: =IF(COUNTA(I22:K22)=0,"",SUM(G22,L22)) | Q22: =IF(COUNTA(N22:P22)=0,"",IF(N22="AI",2,IF(N22="AF",3,IF(N22="AS",4,IF(N22="AA",5,0))))+IF(O22="AI",4,IF(O22="AF",6,IF(O22="AS",8,IF(O22="AA",10,0))))+IF(P22="AI",2,IF(P22="AF",3,IF(P22="AS",4,IF(P22="AA",5,0))))) | R22: =IF(COUNTA(N22:P22)=0,"",SUM(G22,L22,Q22)) | V22: =IF(COUNTA(S22:U22)=0,"",IF(S22="AI",2,IF(S22="AF",3,IF(S22="AS",4,IF(S22="AA",5,0))))+IF(T22="AI",4,IF(T22="AF",6,IF(T22="AS",8,IF(T22="AA",10,0))))+IF(U22="AI",2,IF(U22="AF",3,IF(U22="AS",4,IF(U22="AA",5,0))))) | W22: =IF(COUNTA(S22:U22)=0,"",SUM(G22,L22,Q22,V22)) | AA22: =IF(COUNTA(X22:Z22)=0,"",IF(X22="AI",2,IF(X22="AF",3,IF(X22="AS",4,IF(X22="AA",5,0))))+IF(Y22="AI",4,IF(Y22="AF",6,IF(Y22="AS",8,IF(Y22="AA",10,0))))+IF(Z22="AI",2,IF(Z22="AF",3,IF(Z22="AS",4,IF(Z22="AA",5,0))))) | AB22: =IF(COUNTA(X22:Z22)=0,"",SUM(G22,L22,Q22,V22,AA22)) | AC22: =IF((COUNTA(D22:F22)+COUNTA(I22:K22)+COUNTA(N22:P22)+COUNTA(S22:U22)+COUNTA(X22:Z22))<15,"",AB22) | AD22: =IF(AC22="","",IF(AC22<60,"AI",IF(AC22<76,"AF",IF(AC22<90,"AS","AA")))) | AE22: =IF(B22="","",IF(COUNTA(N22:P22)<3,"",IF(IF(COUNTA(X22:Z22)>0,AB22,IF(COUNTA(S22:U22)>0,W22,R22))<60,"Prioritario",IF(AND(COUNTA(X22:Z22)=3,AB22<=75),"Preventivo","")))) | AF22: =IF(AE22="","",IF(AE22="Prioritario","Acumulado actual menor de 60","Nota final entre 60 y 75")) | AG22: =IF(B22="","",IF(COUNTA(D22:F22)=3,1,0)+IF(COUNTA(I22:K22)=3,1,0)+IF(COUNTA(N22:P22)=3,1,0)+IF(COUNTA(S22:U22)=3,1,0)+IF(COUNTA(X22:Z22)=3,1,0))
... A57: =IF(Configuración!B60="","",Configuración!A60) | B57: =IF(Configuración!B60="","",Configuración!B60) | C57: =IF(Configuración!B60="","",Configuración!C60) | G57: =IF(COUNTA(D57:F57)=0,"",IF(D57="AI",2,IF(D57="AF",3,IF(D57="AS",4,IF(D57="AA",5,0))))+IF(E57="AI",4,IF(E57="AF",6,IF(E57="AS",8,IF(E57="AA",10,0))))+IF(F57="AI",2,IF(F57="AF",3,IF(F57="AS",4,IF(F57="AA",5,0))))) | H57: =IF(COUNTA(D57:F57)=0,"",G57) | L57: =IF(COUNTA(I57:K57)=0,"",IF(I57="AI",2,IF(I57="AF",3,IF(I57="AS",4,IF(I57="AA",5,0))))+IF(J57="AI",4,IF(J57="AF",6,IF(J57="AS",8,IF(J57="AA",10,0))))+IF(K57="AI",2,IF(K57="AF",3,IF(K57="AS",4,IF(K57="AA",5,0))))) | M57: =IF(COUNTA(I57:K57)=0,"",SUM(G57,L57)) | Q57: =IF(COUNTA(N57:P57)=0,"",IF(N57="AI",2,IF(N57="AF",3,IF(N57="AS",4,IF(N57="AA",5,0))))+IF(O57="AI",4,IF(O57="AF",6,IF(O57="AS",8,IF(O57="AA",10,0))))+IF(P57="AI",2,IF(P57="AF",3,IF(P57="AS",4,IF(P57="AA",5,0))))) | R57: =IF(COUNTA(N57:P57)=0,"",SUM(G57,L57,Q57)) | V57: =IF(COUNTA(S57:U57)=0,"",IF(S57="AI",2,IF(S57="AF",3,IF(S57="AS",4,IF(S57="AA",5,0))))+IF(T57="AI",4,IF(T57="AF",6,IF(T57="AS",8,IF(T57="AA",10,0))))+IF(U57="AI",2,IF(U57="AF",3,IF(U57="AS",4,IF(U57="AA",5,0))))) | W57: =IF(COUNTA(S57:U57)=0,"",SUM(G57,L57,Q57,V57)) | AA57: =IF(COUNTA(X57:Z57)=0,"",IF(X57="AI",2,IF(X57="AF",3,IF(X57="AS",4,IF(X57="AA",5,0))))+IF(Y57="AI",4,IF(Y57="AF",6,IF(Y57="AS",8,IF(Y57="AA",10,0))))+IF(Z57="AI",2,IF(Z57="AF",3,IF(Z57="AS",4,IF(Z57="AA",5,0))))) | AB57: =IF(COUNTA(X57:Z57)=0,"",SUM(G57,L57,Q57,V57,AA57)) | AC57: =IF((COUNTA(D57:F57)+COUNTA(I57:K57)+COUNTA(N57:P57)+COUNTA(S57:U57)+COUNTA(X57:Z57))<15,"",AB57) | AD57: =IF(AC57="","",IF(AC57<60,"AI",IF(AC57<76,"AF",IF(AC57<90,"AS","AA")))) | AE57: =IF(B57="","",IF(COUNTA(N57:P57)<3,"",IF(IF(COUNTA(X57:Z57)>0,AB57,IF(COUNTA(S57:U57)>0,W57,R57))<60,"Prioritario",IF(AND(COUNTA(X57:Z57)=3,AB57<=75),"Preventivo","")))) | AF57: =IF(AE57="","",IF(AE57="Prioritario","Acumulado actual menor de 60","Nota final entre 60 y 75")) | AG57: =IF(B57="","",IF(COUNTA(D57:F57)=3,1,0)+IF(COUNTA(I57:K57)=3,1,0)+IF(COUNTA(N57:P57)=3,1,0)+IF(COUNTA(S57:U57)=3,1,0)+IF(COUNTA(X57:Z57)=3,1,0))
A61: ESTUDIANTES QUE REQUIEREN SEGUIMIENTO
A62: La alerta inicia al completar el Indicador 3 si el acumulado es menor de 60 y se recalcula con cada indicador posterior.
A64: Nº | B64: Estudiante | C64: Sexo | D64: Acumulado actual | E64: Nivel/Estado | F64: Seguimiento | G64: Motivo
A65: =IF($AE8="","",A8) | B65: =IF($AE8="","",B8&" "&C8) | C65: =IF($AE8="","",Configuración!E11) | D65: =IF($AE8="","",IF(COUNTA(X8:Z8)>0,AB8,IF(COUNTA(S8:U8)>0,W8,IF(COUNTA(N8:P8)>0,R8,"")))) | E65: =IF($AE8="","",IF(AC8<>"",AD8,"En proceso")) | F65: =IF($AE8="","",AE8) | G65: =IF($AE8="","",AF8)
A66: =IF($AE9="","",A9) | B66: =IF($AE9="","",B9&" "&C9) | C66: =IF($AE9="","",Configuración!E12) | D66: =IF($AE9="","",IF(COUNTA(X9:Z9)>0,AB9,IF(COUNTA(S9:U9)>0,W9,IF(COUNTA(N9:P9)>0,R9,"")))) | E66: =IF($AE9="","",IF(AC9<>"",AD9,"En proceso")) | F66: =IF($AE9="","",AE9) | G66: =IF($AE9="","",AF9)
A67: =IF($AE10="","",A10) | B67: =IF($AE10="","",B10&" "&C10) | C67: =IF($AE10="","",Configuración!E13) | D67: =IF($AE10="","",IF(COUNTA(X10:Z10)>0,AB10,IF(COUNTA(S10:U10)>0,W10,IF(COUNTA(N10:P10)>0,R10,"")))) | E67: =IF($AE10="","",IF(AC10<>"",AD10,"En proceso")) | F67: =IF($AE10="","",AE10) | G67: =IF($AE10="","",AF10)
A68: =IF($AE11="","",A11) | B68: =IF($AE11="","",B11&" "&C11) | C68: =IF($AE11="","",Configuración!E14) | D68: =IF($AE11="","",IF(COUNTA(X11:Z11)>0,AB11,IF(COUNTA(S11:U11)>0,W11,IF(COUNTA(N11:P11)>0,R11,"")))) | E68: =IF($AE11="","",IF(AC11<>"",AD11,"En proceso")) | F68: =IF($AE11="","",AE11) | G68: =IF($AE11="","",AF11)
A69: =IF($AE12="","",A12) | B69: =IF($AE12="","",B12&" "&C12) | C69: =IF($AE12="","",Configuración!E15) | D69: =IF($AE12="","",IF(COUNTA(X12:Z12)>0,AB12,IF(COUNTA(S12:U12)>0,W12,IF(COUNTA(N12:P12)>0,R12,"")))) | E69: =IF($AE12="","",IF(AC12<>"",AD12,"En proceso")) | F69: =IF($AE12="","",AE12) | G69: =IF($AE12="","",AF12)
A70: =IF($AE13="","",A13) | B70: =IF($AE13="","",B13&" "&C13) | C70: =IF($AE13="","",Configuración!E16) | D70: =IF($AE13="","",IF(COUNTA(X13:Z13)>0,AB13,IF(COUNTA(S13:U13)>0,W13,IF(COUNTA(N13:P13)>0,R13,"")))) | E70: =IF($AE13="","",IF(AC13<>"",AD13,"En proceso")) | F70: =IF($AE13="","",AE13) | G70: =IF($AE13="","",AF13)
A71: =IF($AE14="","",A14) | B71: =IF($AE14="","",B14&" "&C14) | C71: =IF($AE14="","",Configuración!E17) | D71: =IF($AE14="","",IF(COUNTA(X14:Z14)>0,AB14,IF(COUNTA(S14:U14)>0,W14,IF(COUNTA(N14:P14)>0,R14,"")))) | E71: =IF($AE14="","",IF(AC14<>"",AD14,"En proceso")) | F71: =IF($AE14="","",AE14) | G71: =IF($AE14="","",AF14)
A72: =IF($AE15="","",A15) | B72: =IF($AE15="","",B15&" "&C15) | C72: =IF($AE15="","",Configuración!E18) | D72: =IF($AE15="","",IF(COUNTA(X15:Z15)>0,AB15,IF(COUNTA(S15:U15)>0,W15,IF(COUNTA(N15:P15)>0,R15,"")))) | E72: =IF($AE15="","",IF(AC15<>"",AD15,"En proceso")) | F72: =IF($AE15="","",AE15) | G72: =IF($AE15="","",AF15)
A73: =IF($AE16="","",A16) | B73: =IF($AE16="","",B16&" "&C16) | C73: =IF($AE16="","",Configuración!E19) | D73: =IF($AE16="","",IF(COUNTA(X16:Z16)>0,AB16,IF(COUNTA(S16:U16)>0,W16,IF(COUNTA(N16:P16)>0,R16,"")))) | E73: =IF($AE16="","",IF(AC16<>"",AD16,"En proceso")) | F73: =IF($AE16="","",AE16) | G73: =IF($AE16="","",AF16)
A74: =IF($AE17="","",A17) | B74: =IF($AE17="","",B17&" "&C17) | C74: =IF($AE17="","",Configuración!E20) | D74: =IF($AE17="","",IF(COUNTA(X17:Z17)>0,AB17,IF(COUNTA(S17:U17)>0,W17,IF(COUNTA(N17:P17)>0,R17,"")))) | E74: =IF($AE17="","",IF(AC17<>"",AD17,"En proceso")) | F74: =IF($AE17="","",AE17) | G74: =IF($AE17="","",AF17)
A75: =IF($AE18="","",A18) | B75: =IF($AE18="","",B18&" "&C18) | C75: =IF($AE18="","",Configuración!E21) | D75: =IF($AE18="","",IF(COUNTA(X18:Z18)>0,AB18,IF(COUNTA(S18:U18)>0,W18,IF(COUNTA(N18:P18)>0,R18,"")))) | E75: =IF($AE18="","",IF(AC18<>"",AD18,"En proceso")) | F75: =IF($AE18="","",AE18) | G75: =IF($AE18="","",AF18)
A76: =IF($AE19="","",A19) | B76: =IF($AE19="","",B19&" "&C19) | C76: =IF($AE19="","",Configuración!E22) | D76: =IF($AE19="","",IF(COUNTA(X19:Z19)>0,AB19,IF(COUNTA(S19:U19)>0,W19,IF(COUNTA(N19:P19)>0,R19,"")))) | E76: =IF($AE19="","",IF(AC19<>"",AD19,"En proceso")) | F76: =IF($AE19="","",AE19) | G76: =IF($AE19="","",AF19)
... A114: =IF($AE57="","",A57) | B114: =IF($AE57="","",B57&" "&C57) | C114: =IF($AE57="","",Configuración!E60) | D114: =IF($AE57="","",IF(COUNTA(X57:Z57)>0,AB57,IF(COUNTA(S57:U57)>0,W57,IF(COUNTA(N57:P57)>0,R57,"")))) | E114: =IF($AE57="","",IF(AC57<>"",AD57,"En proceso")) | F114: =IF($AE57="","",AE57) | G114: =IF($AE57="","",AF57)
A116: Autoría: Ing. Reynaldo R Castillo Martínez · IngNovaR · contacto@ingnovar.com · https://ingnovar.com/

Sheet II Corte
A1: II CORTE — REGISTRO POR INDICADORES
A2: Docente | B2: Asignatura | C2: Grado / Sección
A3: =IF(Configuración!B4="","",Configuración!B4) | B3: =IF(Configuración!B5="","",Configuración!B5) | C3: =IF(Configuración!B6="","",Configuración!B6)
A5: Nº | B5: Nombres | C5: Apellidos | D5: Indicador 1 | I5: Indicador 2 | N5: Indicador 3 | S5: Indicador 4 | X5: Indicador 5 | AC5: Nota final | AD5: Nivel
D6: C1 | E6: C2 | F6: C3 | G6: Total | H6: Acumulado | I6: C1 | J6: C2 | K6: C3 | L6: Total | M6: Acumulado | N6: C1 | O6: C2 | P6: C3 | Q6: Total | R6: Acumulado | S6: C1 | T6: C2 | U6: C3 | V6: Total | W6: Acumulado | X6: C1 | Y6: C2 | Z6: C3 | AA6: Total | AB6: Acumulado
D7: 5 | E7: 10 | F7: 5 | G7: 20 | H7: 20 | I7: 5 | J7: 10 | K7: 5 | L7: 20 | M7: 40 | N7: 5 | O7: 10 | P7: 5 | Q7: 20 | R7: 60 | S7: 5 | T7: 10 | U7: 5 | V7: 20 | W7: 80 | X7: 5 | Y7: 10 | Z7: 5 | AA7: 20 | AB7: 100
A9: =IF(Configuración!B12="","",Configuración!A12) | B9: =IF(Configuración!B12="","",Configuración!B12) | C9: =IF(Configuración!B12="","",Configuración!C12) | G9: =IF(COUNTA(D9:F9)=0,"",IF(D9="AI",2,IF(D9="AF",3,IF(D9="AS",4,IF(D9="AA",5,0))))+IF(E9="AI",4,IF(E9="AF",6,IF(E9="AS",8,IF(E9="AA",10,0))))+IF(F9="AI",2,IF(F9="AF",3,IF(F9="AS",4,IF(F9="AA",5,0))))) | H9: =IF(COUNTA(D9:F9)=0,"",G9) | L9: =IF(COUNTA(I9:K9)=0,"",IF(I9="AI",2,IF(I9="AF",3,IF(I9="AS",4,IF(I9="AA",5,0))))+IF(J9="AI",4,IF(J9="AF",6,IF(J9="AS",8,IF(J9="AA",10,0))))+IF(K9="AI",2,IF(K9="AF",3,IF(K9="AS",4,IF(K9="AA",5,0))))) | M9: =IF(COUNTA(I9:K9)=0,"",SUM(G9,L9)) | Q9: =IF(COUNTA(N9:P9)=0,"",IF(N9="AI",2,IF(N9="AF",3,IF(N9="AS",4,IF(N9="AA",5,0))))+IF(O9="AI",4,IF(O9="AF",6,IF(O9="AS",8,IF(O9="AA",10,0))))+IF(P9="AI",2,IF(P9="AF",3,IF(P9="AS",4,IF(P9="AA",5,0))))) | R9: =IF(COUNTA(N9:P9)=0,"",SUM(G9,L9,Q9)) | V9: =IF(COUNTA(S9:U9)=0,"",IF(S9="AI",2,IF(S9="AF",3,IF(S9="AS",4,IF(S9="AA",5,0))))+IF(T9="AI",4,IF(T9="AF",6,IF(T9="AS",8,IF(T9="AA",10,0))))+IF(U9="AI",2,IF(U9="AF",3,IF(U9="AS",4,IF(U9="AA",5,0))))) | W9: =IF(COUNTA(S9:U9)=0,"",SUM(G9,L9,Q9,V9)) | AA9: =IF(COUNTA(X9:Z9)=0,"",IF(X9="AI",2,IF(X9="AF",3,IF(X9="AS",4,IF(X9="AA",5,0))))+IF(Y9="AI",4,IF(Y9="AF",6,IF(Y9="AS",8,IF(Y9="AA",10,0))))+IF(Z9="AI",2,IF(Z9="AF",3,IF(Z9="AS",4,IF(Z9="AA",5,0))))) | AB9: =IF(COUNTA(X9:Z9)=0,"",SUM(G9,L9,Q9,V9,AA9)) | AC9: =IF((COUNTA(D9:F9)+COUNTA(I9:K9)+COUNTA(N9:P9)+COUNTA(S9:U9)+COUNTA(X9:Z9))<15,"",AB9) | AD9: =IF(AC9="","",IF(AC9<60,"AI",IF(AC9<76,"AF",IF(AC9<90,"AS","AA")))) | AE9: =IF(B9="","",IF(COUNTA(N9:P9)<3,"",IF(IF(COUNTA(X9:Z9)>0,AB9,IF(COUNTA(S9:U9)>0,W9,R9))<60,"Prioritario",IF(AND(COUNTA(X9:Z9)=3,AB9<=75),"Preventivo","")))) | AF9: =IF(AE9="","",IF(AE9="Prioritario","Acumulado actual menor de 60","Nota final entre 60 y 75")) | AG9: =IF(B9="","",IF(COUNTA(D9:F9)=3,1,0)+IF(COUNTA(I9:K9)=3,1,0)+IF(COUNTA(N9:P9)=3,1,0)+IF(COUNTA(S9:U9)=3,1,0)+IF(COUNTA(X9:Z9)=3,1,0))
A10: =IF(Configuración!B13="","",Configuración!A13) | B10: =IF(Configuración!B13="","",Configuración!B13) | C10: =IF(Configuración!B13="","",Configuración!C13) | G10: =IF(COUNTA(D10:F10)=0,"",IF(D10="AI",2,IF(D10="AF",3,IF(D10="AS",4,IF(D10="AA",5,0))))+IF(E10="AI",4,IF(E10="AF",6,IF(E10="AS",8,IF(E10="AA",10,0))))+IF(F10="AI",2,IF(F10="AF",3,IF(F10="AS",4,IF(F10="AA",5,0))))) | H10: =IF(COUNTA(D10:F10)=0,"",G10) | L10: =IF(COUNTA(I10:K10)=0,"",IF(I10="AI",2,IF(I10="AF",3,IF(I10="AS",4,IF(I10="AA",5,0))))+IF(J10="AI",4,IF(J10="AF",6,IF(J10="AS",8,IF(J10="AA",10,0))))+IF(K10="AI",2,IF(K10="AF",3,IF(K10="AS",4,IF(K10="AA",5,0))))) | M10: =IF(COUNTA(I10:K10)=0,"",SUM(G10,L10)) | Q10: =IF(COUNTA(N10:P10)=0,"",IF(N10="AI",2,IF(N10="AF",3,IF(N10="AS",4,IF(N10="AA",5,0))))+IF(O10="AI",4,IF(O10="AF",6,IF(O10="AS",8,IF(O10="AA",10,0))))+IF(P10="AI",2,IF(P10="AF",3,IF(P10="AS",4,IF(P10="AA",5,0))))) | R10: =IF(COUNTA(N10:P10)=0,"",SUM(G10,L10,Q10)) | V10: =IF(COUNTA(S10:U10)=0,"",IF(S10="AI",2,IF(S10="AF",3,IF(S10="AS",4,IF(S10="AA",5,0))))+IF(T10="AI",4,IF(T10="AF",6,IF(T10="AS",8,IF(T10="AA",10,0))))+IF(U10="AI",2,IF(U10="AF",3,IF(U10="AS",4,IF(U10="AA",5,0))))) | W10: =IF(COUNTA(S10:U10)=0,"",SUM(G10,L10,Q10,V10)) | AA10: =IF(COUNTA(X10:Z10)=0,"",IF(X10="AI",2,IF(X10="AF",3,IF(X10="AS",4,IF(X10="AA",5,0))))+IF(Y10="AI",4,IF(Y10="AF",6,IF(Y10="AS",8,IF(Y10="AA",10,0))))+IF(Z10="AI",2,IF(Z10="AF",3,IF(Z10="AS",4,IF(Z10="AA",5,0))))) | AB10: =IF(COUNTA(X10:Z10)=0,"",SUM(G10,L10,Q10,V10,AA10)) | AC10: =IF((COUNTA(D10:F10)+COUNTA(I10:K10)+COUNTA(N10:P10)+COUNTA(S10:U10)+COUNTA(X10:Z10))<15,"",AB10) | AD10: =IF(AC10="","",IF(AC10<60,"AI",IF(AC10<76,"AF",IF(AC10<90,"AS","AA")))) | AE10: =IF(B10="","",IF(COUNTA(N10:P10)<3,"",IF(IF(COUNTA(X10:Z10)>0,AB10,IF(COUNTA(S10:U10)>0,W10,R10))<60,"Prioritario",IF(AND(COUNTA(X10:Z10)=3,AB10<=75),"Preventivo","")))) | AF10: =IF(AE10="","",IF(AE10="Prioritario","Acumulado actual menor de 60","Nota final entre 60 y 75")) | AG10: =IF(B10="","",IF(COUNTA(D10:F10)=3,1,0)+IF(COUNTA(I10:K10)=3,1,0)+IF(COUNTA(N10:P10)=3,1,0)+IF(COUNTA(S10:U10)=3,1,0)+IF(COUNTA(X10:Z10)=3,1,0))
A11: =IF(Configuración!B14="","",Configuración!A14) | B11: =IF(Configuración!B14="","",Configuración!B14) | C11: =IF(Configuración!B14="","",Configuración!C14) | G11: =IF(COUNTA(D11:F11)=0,"",IF(D11="AI",2,IF(D11="AF",3,IF(D11="AS",4,IF(D11="AA",5,0))))+IF(E11="AI",4,IF(E11="AF",6,IF(E11="AS",8,IF(E11="AA",10,0))))+IF(F11="AI",2,IF(F11="AF",3,IF(F11="AS",4,IF(F11="AA",5,0))))) | H11: =IF(COUNTA(D11:F11)=0,"",G11) | L11: =IF(COUNTA(I11:K11)=0,"",IF(I11="AI",2,IF(I11="AF",3,IF(I11="AS",4,IF(I11="AA",5,0))))+IF(J11="AI",4,IF(J11="AF",6,IF(J11="AS",8,IF(J11="AA",10,0))))+IF(K11="AI",2,IF(K11="AF",3,IF(K11="AS",4,IF(K11="AA",5,0))))) | M11: =IF(COUNTA(I11:K11)=0,"",SUM(G11,L11)) | Q11: =IF(COUNTA(N11:P11)=0,"",IF(N11="AI",2,IF(N11="AF",3,IF(N11="AS",4,IF(N11="AA",5,0))))+IF(O11="AI",4,IF(O11="AF",6,IF(O11="AS",8,IF(O11="AA",10,0))))+IF(P11="AI",2,IF(P11="AF",3,IF(P11="AS",4,IF(P11="AA",5,0))))) | R11: =IF(COUNTA(N11:P11)=0,"",SUM(G11,L11,Q11)) | V11: =IF(COUNTA(S11:U11)=0,"",IF(S11="AI",2,IF(S11="AF",3,IF(S11="AS",4,IF(S11="AA",5,0))))+IF(T11="AI",4,IF(T11="AF",6,IF(T11="AS",8,IF(T11="AA",10,0))))+IF(U11="AI",2,IF(U11="AF",3,IF(U11="AS",4,IF(U11="AA",5,0))))) | W11: =IF(COUNTA(S11:U11)=0,"",SUM(G11,L11,Q11,V11)) | AA11: =IF(COUNTA(X11:Z11)=0,"",IF(X11="AI",2,IF(X11="AF",3,IF(X11="AS",4,IF(X11="AA",5,0))))+IF(Y11="AI",4,IF(Y11="AF",6,IF(Y11="AS",8,IF(Y11="AA",10,0))))+IF(Z11="AI",2,IF(Z11="AF",3,IF(Z11="AS",4,IF(Z11="AA",5,0))))) | AB11: =IF(COUNTA(X11:Z11)=0,"",SUM(G11,L11,Q11,V11,AA11)) | AC11: =IF((COUNTA(D11:F11)+COUNTA(I11:K11)+COUNTA(N11:P11)+COUNTA(S11:U11)+COUNTA(X11:Z11))<15,"",AB11) | AD11: =IF(AC11="","",IF(AC11<60,"AI",IF(AC11<76,"AF",IF(AC11<90,"AS","AA")))) | AE11: =IF(B11="","",IF(COUNTA(N11:P11)<3,"",IF(IF(COUNTA(X11:Z11)>0,AB11,IF(COUNTA(S11:U11)>0,W11,R11))<60,"Prioritario",IF(AND(COUNTA(X11:Z11)=3,AB11<=75),"Preventivo","")))) | AF11: =IF(AE11="","",IF(AE11="Prioritario","Acumulado actual menor de 60","Nota final entre 60 y 75")) | AG11: =IF(B11="","",IF(COUNTA(D11:F11)=3,1,0)+IF(COUNTA(I11:K11)=3,1,0)+IF(COUNTA(N11:P11)=3,1,0)+IF(COUNTA(S11:U11)=3,1,0)+IF(COUNTA(X11:Z11)=3,1,0))
A12: =IF(Configuración!B15="","",Configuración!A15) | B12: =IF(Configuración!B15="","",Configuración!B15) | C12: =IF(Configuración!B15="","",Configuración!C15) | G12: =IF(COUNTA(D12:F12)=0,"",IF(D12="AI",2,IF(D12="AF",3,IF(D12="AS",4,IF(D12="AA",5,0))))+IF(E12="AI",4,IF(E12="AF",6,IF(E12="AS",8,IF(E12="AA",10,0))))+IF(F12="AI",2,IF(F12="AF",3,IF(F12="AS",4,IF(F12="AA",5,0))))) | H12: =IF(COUNTA(D12:F12)=0,"",G12) | L12: =IF(COUNTA(I12:K12)=0,"",IF(I12="AI",2,IF(I12="AF",3,IF(I12="AS",4,IF(I12="AA",5,0))))+IF(J12="AI",4,IF(J12="AF",6,IF(J12="AS",8,IF(J12="AA",10,0))))+IF(K12="AI",2,IF(K12="AF",3,IF(K12="AS",4,IF(K12="AA",5,0))))) | M12: =IF(COUNTA(I12:K12)=0,"",SUM(G12,L12)) | Q12: =IF(COUNTA(N12:P12)=0,"",IF(N12="AI",2,IF(N12="AF",3,IF(N12="AS",4,IF(N12="AA",5,0))))+IF(O12="AI",4,IF(O12="AF",6,IF(O12="AS",8,IF(O12="AA",10,0))))+IF(P12="AI",2,IF(P12="AF",3,IF(P12="AS",4,IF(P12="AA",5,0))))) | R12: =IF(COUNTA(N12:P12)=0,"",SUM(G12,L12,Q12)) | V12: =IF(COUNTA(S12:U12)=0,"",IF(S12="AI",2,IF(S12="AF",3,IF(S12="AS",4,IF(S12="AA",5,0))))+IF(T12="AI",4,IF(T12="AF",6,IF(T12="AS",8,IF(T12="AA",10,0))))+IF(U12="AI",2,IF(U12="AF",3,IF(U12="AS",4,IF(U12="AA",5,0))))) | W12: =IF(COUNTA(S12:U12)=0,"",SUM(G12,L12,Q12,V12)) | AA12: =IF(COUNTA(X12:Z12)=0,"",IF(X12="AI",2,IF(X12="AF",3,IF(X12="AS",4,IF(X12="AA",5,0))))+IF(Y12="AI",4,IF(Y12="AF",6,IF(Y12="AS",8,IF(Y12="AA",10,0))))+IF(Z12="AI",2,IF(Z12="AF",3,IF(Z12="AS",4,IF(Z12="AA",5,0))))) | AB12: =IF(COUNTA(X12:Z12)=0,"",SUM(G12,L12,Q12,V12,AA12)) | AC12: =IF((COUNTA(D12:F12)+COUNTA(I12:K12)+COUNTA(N12:P12)+COUNTA(S12:U12)+COUNTA(X12:Z12))<15,"",AB12) | AD12: =IF(AC12="","",IF(AC12<60,"AI",IF(AC12<76,"AF",IF(AC12<90,"AS","AA")))) | AE12: =IF(B12="","",IF(COUNTA(N12:P12)<3,"",IF(IF(COUNTA(X12:Z12)>0,AB12,IF(COUNTA(S12:U12)>0,W12,R12))<60,"Prioritario",IF(AND(COUNTA(X12:Z12)=3,AB12<=75),"Preventivo","")))) | AF12: =IF(AE12="","",IF(AE12="Prioritario","Acumulado actual menor de 60","Nota final entre 60 y 75")) | AG12: =IF(B12="","",IF(COUNTA(D12:F12)=3,1,0)+IF(COUNTA(I12:K12)=3,1,0)+IF(COUNTA(N12:P12)=3,1,0)+IF(COUNTA(S12:U12)=3,1,0)+IF(COUNTA(X12:Z12)=3,1,0))
A13: =IF(Configuración!B16="","",Configuración!A16) | B13: =IF(Configuración!B16="","",Configuración!B16) | C13: =IF(Configuración!B16="","",Configuración!C16) | G13: =IF(COUNTA(D13:F13)=0,"",IF(D13="AI",2,IF(D13="AF",3,IF(D13="AS",4,IF(D13="AA",5,0))))+IF(E13="AI",4,IF(E13="AF",6,IF(E13="AS",8,IF(E13="AA",10,0))))+IF(F13="AI",2,IF(F13="AF",3,IF(F13="AS",4,IF(F13="AA",5,0))))) | H13: =IF(COUNTA(D13:F13)=0,"",G13) | L13: =IF(COUNTA(I13:K13)=0,"",IF(I13="AI",2,IF(I13="AF",3,IF(I13="AS",4,IF(I13="AA",5,0))))+IF(J13="AI",4,IF(J13="AF",6,IF(J13="AS",8,IF(J13="AA",10,0))))+IF(K13="AI",2,IF(K13="AF",3,IF(K13="AS",4,IF(K13="AA",5,0))))) | M13: =IF(COUNTA(I13:K13)=0,"",SUM(G13,L13)) | Q13: =IF(COUNTA(N13:P13)=0,"",IF(N13="AI",2,IF(N13="AF",3,IF(N13="AS",4,IF(N13="AA",5,0))))+IF(O13="AI",4,IF(O13="AF",6,IF(O13="AS",8,IF(O13="AA",10,0))))+IF(P13="AI",2,IF(P13="AF",3,IF(P13="AS",4,IF(P13="AA",5,0))))) | R13: =IF(COUNTA(N13:P13)=0,"",SUM(G13,L13,Q13)) | V13: =IF(COUNTA(S13:U13)=0,"",IF(S13="AI",2,IF(S13="AF",3,IF(S13="AS",4,IF(S13="AA",5,0))))+IF(T13="AI",4,IF(T13="AF",6,IF(T13="AS",8,IF(T13="AA",10,0))))+IF(U13="AI",2,IF(U13="AF",3,IF(U13="AS",4,IF(U13="AA",5,0))))) | W13: =IF(COUNTA(S13:U13)=0,"",SUM(G13,L13,Q13,V13)) | AA13: =IF(COUNTA(X13:Z13)=0,"",IF(X13="AI",2,IF(X13="AF",3,IF(X13="AS",4,IF(X13="AA",5,0))))+IF(Y13="AI",4,IF(Y13="AF",6,IF(Y13="AS",8,IF(Y13="AA",10,0))))+IF(Z13="AI",2,IF(Z13="AF",3,IF(Z13="AS",4,IF(Z13="AA",5,0))))) | AB13: =IF(COUNTA(X13:Z13)=0,"",SUM(G13,L13,Q13,V13,AA13)) | AC13: =IF((COUNTA(D13:F13)+COUNTA(I13:K13)+COUNTA(N13:P13)+COUNTA(S13:U13)+COUNTA(X13:Z13))<15,"",AB13) | AD13: =IF(AC13="","",IF(AC13<60,"AI",IF(AC13<76,"AF",IF(AC13<90,"AS","AA")))) | AE13: =IF(B13="","",IF(COUNTA(N13:P13)<3,"",IF(IF(COUNTA(X13:Z13)>0,AB13,IF(COUNTA(S13:U13)>0,W13,R13))<60,"Prioritario",IF(AND(COUNTA(X13:Z13)=3,AB13<=75),"Preventivo","")))) | AF13: =IF(AE13="","",IF(AE13="Prioritario","Acumulado actual menor de 60","Nota final entre 60 y 75")) | AG13: =IF(B13="","",IF(COUNTA(D13:F13)=3,1,0)+IF(COUNTA(I13:K13)=3,1,0)+IF(COUNTA(N13:P13)=3,1,0)+IF(COUNTA(S13:U13)=3,1,0)+IF(COUNTA(X13:Z13)=3,1,0))
A14: =IF(Configuración!B17="","",Configuración!A17) | B14: =IF(Configuración!B17="","",Configuración!B17) | C14: =IF(Configuración!B17="","",Configuración!C17) | G14: =IF(COUNTA(D14:F14)=0,"",IF(D14="AI",2,IF(D14="AF",3,IF(D14="AS",4,IF(D14="AA",5,0))))+IF(E14="AI",4,IF(E14="AF",6,IF(E14="AS",8,IF(E14="AA",10,0))))+IF(F14="AI",2,IF(F14="AF",3,IF(F14="AS",4,IF(F14="AA",5,0))))) | H14: =IF(COUNTA(D14:F14)=0,"",G14) | L14: =IF(COUNTA(I14:K14)=0,"",IF(I14="AI",2,IF(I14="AF",3,IF(I14="AS",4,IF(I14="AA",5,0))))+IF(J14="AI",4,IF(J14="AF",6,IF(J14="AS",8,IF(J14="AA",10,0))))+IF(K14="AI",2,IF(K14="AF",3,IF(K14="AS",4,IF(K14="AA",5,0))))) | M14: =IF(COUNTA(I14:K14)=0,"",SUM(G14,L14)) | Q14: =IF(COUNTA(N14:P14)=0,"",IF(N14="AI",2,IF(N14="AF",3,IF(N14="AS",4,IF(N14="AA",5,0))))+IF(O14="AI",4,IF(O14="AF",6,IF(O14="AS",8,IF(O14="AA",10,0))))+IF(P14="AI",2,IF(P14="AF",3,IF(P14="AS",4,IF(P14="AA",5,0))))) | R14: =IF(COUNTA(N14:P14)=0,"",SUM(G14,L14,Q14)) | V14: =IF(COUNTA(S14:U14)=0,"",IF(S14="AI",2,IF(S14="AF",3,IF(S14="AS",4,IF(S14="AA",5,0))))+IF(T14="AI",4,IF(T14="AF",6,IF(T14="AS",8,IF(T14="AA",10,0))))+IF(U14="AI",2,IF(U14="AF",3,IF(U14="AS",4,IF(U14="AA",5,0))))) | W14: =IF(COUNTA(S14:U14)=0,"",SUM(G14,L14,Q14,V14)) | AA14: =IF(COUNTA(X14:Z14)=0,"",IF(X14="AI",2,IF(X14="AF",3,IF(X14="AS",4,IF(X14="AA",5,0))))+IF(Y14="AI",4,IF(Y14="AF",6,IF(Y14="AS",8,IF(Y14="AA",10,0))))+IF(Z14="AI",2,IF(Z14="AF",3,IF(Z14="AS",4,IF(Z14="AA",5,0))))) | AB14: =IF(COUNTA(X14:Z14)=0,"",SUM(G14,L14,Q14,V14,AA14)) | AC14: =IF((COUNTA(D14:F14)+COUNTA(I14:K14)+COUNTA(N14:P14)+COUNTA(S14:U14)+COUNTA(X14:Z14))<15,"",AB14) | AD14: =IF(AC14="","",IF(AC14<60,"AI",IF(AC14<76,"AF",IF(AC14<90,"AS","AA")))) | AE14: =IF(B14="","",IF(COUNTA(N14:P14)<3,"",IF(IF(COUNTA(X14:Z14)>0,AB14,IF(COUNTA(S14:U14)>0,W14,R14))<60,"Prioritario",IF(AND(COUNTA(X14:Z14)=3,AB14<=75),"Preventivo","")))) | AF14: =IF(AE14="","",IF(AE14="Prioritario","Acumulado actual menor de 60","Nota final entre 60 y 75")) | AG14: =IF(B14="","",IF(COUNTA(D14:F14)=3,1,0)+IF(COUNTA(I14:K14)=3,1,0)+IF(COUNTA(N14:P14)=3,1,0)+IF(COUNTA(S14:U14)=3,1,0)+IF(COUNTA(X14:Z14)=3,1,0))
A15: =IF(Configuración!B18="","",Configuración!A18) | B15: =IF(Configuración!B18="","",Configuración!B18) | C15: =IF(Configuración!B18="","",Configuración!C18) | G15: =IF(COUNTA(D15:F15)=0,"",IF(D15="AI",2,IF(D15="AF",3,IF(D15="AS",4,IF(D15="AA",5,0))))+IF(E15="AI",4,IF(E15="AF",6,IF(E15="AS",8,IF(E15="AA",10,0))))+IF(F15="AI",2,IF(F15="AF",3,IF(F15="AS",4,IF(F15="AA",5,0))))) | H15: =IF(COUNTA(D15:F15)=0,"",G15) | L15: =IF(COUNTA(I15:K15)=0,"",IF(I15="AI",2,IF(I15="AF",3,IF(I15="AS",4,IF(I15="AA",5,0))))+IF(J15="AI",4,IF(J15="AF",6,IF(J15="AS",8,IF(J15="AA",10,0))))+IF(K15="AI",2,IF(K15="AF",3,IF(K15="AS",4,IF(K15="AA",5,0))))) | M15: =IF(COUNTA(I15:K15)=0,"",SUM(G15,L15)) | Q15: =IF(COUNTA(N15:P15)=0,"",IF(N15="AI",2,IF(N15="AF",3,IF(N15="AS",4,IF(N15="AA",5,0))))+IF(O15="AI",4,IF(O15="AF",6,IF(O15="AS",8,IF(O15="AA",10,0))))+IF(P15="AI",2,IF(P15="AF",3,IF(P15="AS",4,IF(P15="AA",5,0))))) | R15: =IF(COUNTA(N15:P15)=0,"",SUM(G15,L15,Q15)) | V15: =IF(COUNTA(S15:U15)=0,"",IF(S15="AI",2,IF(S15="AF",3,IF(S15="AS",4,IF(S15="AA",5,0))))+IF(T15="AI",4,IF(T15="AF",6,IF(T15="AS",8,IF(T15="AA",10,0))))+IF(U15="AI",2,IF(U15="AF",3,IF(U15="AS",4,IF(U15="AA",5,0))))) | W15: =IF(COUNTA(S15:U15)=0,"",SUM(G15,L15,Q15,V15)) | AA15: =IF(COUNTA(X15:Z15)=0,"",IF(X15="AI",2,IF(X15="AF",3,IF(X15="AS",4,IF(X15="AA",5,0))))+IF(Y15="AI",4,IF(Y15="AF",6,IF(Y15="AS",8,IF(Y15="AA",10,0))))+IF(Z15="AI",2,IF(Z15="AF",3,IF(Z15="AS",4,IF(Z15="AA",5,0))))) | AB15: =IF(COUNTA(X15:Z15)=0,"",SUM(G15,L15,Q15,V15,AA15)) | AC15: =IF((COUNTA(D15:F15)+COUNTA(I15:K15)+COUNTA(N15:P15)+COUNTA(S15:U15)+COUNTA(X15:Z15))<15,"",AB15) | AD15: =IF(AC15="","",IF(AC15<60,"AI",IF(AC15<76,"AF",IF(AC15<90,"AS","AA")))) | AE15: =IF(B15="","",IF(COUNTA(N15:P15)<3,"",IF(IF(COUNTA(X15:Z15)>0,AB15,IF(COUNTA(S15:U15)>0,W15,R15))<60,"Prioritario",IF(AND(COUNTA(X15:Z15)=3,AB15<=75),"Preventivo","")))) | AF15: =IF(AE15="","",IF(AE15="Prioritario","Acumulado actual menor de 60","Nota final entre 60 y 75")) | AG15: =IF(B15="","",IF(COUNTA(D15:F15)=3,1,0)+IF(COUNTA(I15:K15)=3,1,0)+IF(COUNTA(N15:P15)=3,1,0)+IF(COUNTA(S15:U15)=3,1,0)+IF(COUNTA(X15:Z15)=3,1,0))
A16: =IF(Configuración!B19="","",Configuración!A19) | B16: =IF(Configuración!B19="","",Configuración!B19) | C16: =IF(Configuración!B19="","",Configuración!C19) | G16: =IF(COUNTA(D16:F16)=0,"",IF(D16="AI",2,IF(D16="AF",3,IF(D16="AS",4,IF(D16="AA",5,0))))+IF(E16="AI",4,IF(E16="AF",6,IF(E16="AS",8,IF(E16="AA",10,0))))+IF(F16="AI",2,IF(F16="AF",3,IF(F16="AS",4,IF(F16="AA",5,0))))) | H16: =IF(COUNTA(D16:F16)=0,"",G16) | L16: =IF(COUNTA(I16:K16)=0,"",IF(I16="AI",2,IF(I16="AF",3,IF(I16="AS",4,IF(I16="AA",5,0))))+IF(J16="AI",4,IF(J16="AF",6,IF(J16="AS",8,IF(J16="AA",10,0))))+IF(K16="AI",2,IF(K16="AF",3,IF(K16="AS",4,IF(K16="AA",5,0))))) | M16: =IF(COUNTA(I16:K16)=0,"",SUM(G16,L16)) | Q16: =IF(COUNTA(N16:P16)=0,"",IF(N16="AI",2,IF(N16="AF",3,IF(N16="AS",4,IF(N16="AA",5,0))))+IF(O16="AI",4,IF(O16="AF",6,IF(O16="AS",8,IF(O16="AA",10,0))))+IF(P16="AI",2,IF(P16="AF",3,IF(P16="AS",4,IF(P16="AA",5,0))))) | R16: =IF(COUNTA(N16:P16)=0,"",SUM(G16,L16,Q16)) | V16: =IF(COUNTA(S16:U16)=0,"",IF(S16="AI",2,IF(S16="AF",3,IF(S16="AS",4,IF(S16="AA",5,0))))+IF(T16="AI",4,IF(T16="AF",6,IF(T16="AS",8,IF(T16="AA",10,0))))+IF(U16="AI",2,IF(U16="AF",3,IF(U16="AS",4,IF(U16="AA",5,0))))) | W16: =IF(COUNTA(S16:U16)=0,"",SUM(G16,L16,Q16,V16)) | AA16: =IF(COUNTA(X16:Z16)=0,"",IF(X16="AI",2,IF(X16="AF",3,IF(X16="AS",4,IF(X16="AA",5,0))))+IF(Y16="AI",4,IF(Y16="AF",6,IF(Y16="AS",8,IF(Y16="AA",10,0))))+IF(Z16="AI",2,IF(Z16="AF",3,IF(Z16="AS",4,IF(Z16="AA",5,0))))) | AB16: =IF(COUNTA(X16:Z16)=0,"",SUM(G16,L16,Q16,V16,AA16)) | AC16: =IF((COUNTA(D16:F16)+COUNTA(I16:K16)+COUNTA(N16:P16)+COUNTA(S16:U16)+COUNTA(X16:Z16))<15,"",AB16) | AD16: =IF(AC16="","",IF(AC16<60,"AI",IF(AC16<76,"AF",IF(AC16<90,"AS","AA")))) | AE16: =IF(B16="","",IF(COUNTA(N16:P16)<3,"",IF(IF(COUNTA(X16:Z16)>0,AB16,IF(COUNTA(S16:U16)>0,W16,R16))<60,"Prioritario",IF(AND(COUNTA(X16:Z16)=3,AB16<=75),"Preventivo","")))) | AF16: =IF(AE16="","",IF(AE16="Prioritario","Acumulado actual menor de 60","Nota final entre 60 y 75")) | AG16: =IF(B16="","",IF(COUNTA(D16:F16)=3,1,0)+IF(COUNTA(I16:K16)=3,1,0)+IF(COUNTA(N16:P16)=3,1,0)+IF(COUNTA(S16:U16)=3,1,0)+IF(COUNTA(X16:Z16)=3,1,0))
A17: =IF(Configuración!B20="","",Configuración!A20) | B17: =IF(Configuración!B20="","",Configuración!B20) | C17: =IF(Configuración!B20="","",Configuración!C20) | G17: =IF(COUNTA(D17:F17)=0,"",IF(D17="AI",2,IF(D17="AF",3,IF(D17="AS",4,IF(D17="AA",5,0))))+IF(E17="AI",4,IF(E17="AF",6,IF(E17="AS",8,IF(E17="AA",10,0))))+IF(F17="AI",2,IF(F17="AF",3,IF(F17="AS",4,IF(F17="AA",5,0))))) | H17: =IF(COUNTA(D17:F17)=0,"",G17) | L17: =IF(COUNTA(I17:K17)=0,"",IF(I17="AI",2,IF(I17="AF",3,IF(I17="AS",4,IF(I17="AA",5,0))))+IF(J17="AI",4,IF(J17="AF",6,IF(J17="AS",8,IF(J17="AA",10,0))))+IF(K17="AI",2,IF(K17="AF",3,IF(K17="AS",4,IF(K17="AA",5,0))))) | M17: =IF(COUNTA(I17:K17)=0,"",SUM(G17,L17)) | Q17: =IF(COUNTA(N17:P17)=0,"",IF(N17="AI",2,IF(N17="AF",3,IF(N17="AS",4,IF(N17="AA",5,0))))+IF(O17="AI",4,IF(O17="AF",6,IF(O17="AS",8,IF(O17="AA",10,0))))+IF(P17="AI",2,IF(P17="AF",3,IF(P17="AS",4,IF(P17="AA",5,0))))) | R17: =IF(COUNTA(N17:P17)=0,"",SUM(G17,L17,Q17)) | V17: =IF(COUNTA(S17:U17)=0,"",IF(S17="AI",2,IF(S17="AF",3,IF(S17="AS",4,IF(S17="AA",5,0))))+IF(T17="AI",4,IF(T17="AF",6,IF(T17="AS",8,IF(T17="AA",10,0))))+IF(U17="AI",2,IF(U17="AF",3,IF(U17="AS",4,IF(U17="AA",5,0))))) | W17: =IF(COUNTA(S17:U17)=0,"",SUM(G17,L17,Q17,V17)) | AA17: =IF(COUNTA(X17:Z17)=0,"",IF(X17="AI",2,IF(X17="AF",3,IF(X17="AS",4,IF(X17="AA",5,0))))+IF(Y17="AI",4,IF(Y17="AF",6,IF(Y17="AS",8,IF(Y17="AA",10,0))))+IF(Z17="AI",2,IF(Z17="AF",3,IF(Z17="AS",4,IF(Z17="AA",5,0))))) | AB17: =IF(COUNTA(X17:Z17)=0,"",SUM(G17,L17,Q17,V17,AA17)) | AC17: =IF((COUNTA(D17:F17)+COUNTA(I17:K17)+COUNTA(N17:P17)+COUNTA(S17:U17)+COUNTA(X17:Z17))<15,"",AB17) | AD17: =IF(AC17="","",IF(AC17<60,"AI",IF(AC17<76,"AF",IF(AC17<90,"AS","AA")))) | AE17: =IF(B17="","",IF(COUNTA(N17:P17)<3,"",IF(IF(COUNTA(X17:Z17)>0,AB17,IF(COUNTA(S17:U17)>0,W17,R17))<60,"Prioritario",IF(AND(COUNTA(X17:Z17)=3,AB17<=75),"Preventivo","")))) | AF17: =IF(AE17="","",IF(AE17="Prioritario","Acumulado actual menor de 60","Nota final entre 60 y 75")) | AG17: =IF(B17="","",IF(COUNTA(D17:F17)=3,1,0)+IF(COUNTA(I17:K17)=3,1,0)+IF(COUNTA(N17:P17)=3,1,0)+IF(COUNTA(S17:U17)=3,1,0)+IF(COUNTA(X17:Z17)=3,1,0))
A18: =IF(Configuración!B21="","",Configuración!A21) | B18: =IF(Configuración!B21="","",Configuración!B21) | C18: =IF(Configuración!B21="","",Configuración!C21) | G18: =IF(COUNTA(D18:F18)=0,"",IF(D18="AI",2,IF(D18="AF",3,IF(D18="AS",4,IF(D18="AA",5,0))))+IF(E18="AI",4,IF(E18="AF",6,IF(E18="AS",8,IF(E18="AA",10,0))))+IF(F18="AI",2,IF(F18="AF",3,IF(F18="AS",4,IF(F18="AA",5,0))))) | H18: =IF(COUNTA(D18:F18)=0,"",G18) | L18: =IF(COUNTA(I18:K18)=0,"",IF(I18="AI",2,IF(I18="AF",3,IF(I18="AS",4,IF(I18="AA",5,0))))+IF(J18="AI",4,IF(J18="AF",6,IF(J18="AS",8,IF(J18="AA",10,0))))+IF(K18="AI",2,IF(K18="AF",3,IF(K18="AS",4,IF(K18="AA",5,0))))) | M18: =IF(COUNTA(I18:K18)=0,"",SUM(G18,L18)) | Q18: =IF(COUNTA(N18:P18)=0,"",IF(N18="AI",2,IF(N18="AF",3,IF(N18="AS",4,IF(N18="AA",5,0))))+IF(O18="AI",4,IF(O18="AF",6,IF(O18="AS",8,IF(O18="AA",10,0))))+IF(P18="AI",2,IF(P18="AF",3,IF(P18="AS",4,IF(P18="AA",5,0))))) | R18: =IF(COUNTA(N18:P18)=0,"",SUM(G18,L18,Q18)) | V18: =IF(COUNTA(S18:U18)=0,"",IF(S18="AI",2,IF(S18="AF",3,IF(S18="AS",4,IF(S18="AA",5,0))))+IF(T18="AI",4,IF(T18="AF",6,IF(T18="AS",8,IF(T18="AA",10,0))))+IF(U18="AI",2,IF(U18="AF",3,IF(U18="AS",4,IF(U18="AA",5,0))))) | W18: =IF(COUNTA(S18:U18)=0,"",SUM(G18,L18,Q18,V18)) | AA18: =IF(COUNTA(X18:Z18)=0,"",IF(X18="AI",2,IF(X18="AF",3,IF(X18="AS",4,IF(X18="AA",5,0))))+IF(Y18="AI",4,IF(Y18="AF",6,IF(Y18="AS",8,IF(Y18="AA",10,0))))+IF(Z18="AI",2,IF(Z18="AF",3,IF(Z18="AS",4,IF(Z18="AA",5,0))))) | AB18: =IF(COUNTA(X18:Z18)=0,"",SUM(G18,L18,Q18,V18,AA18)) | AC18: =IF((COUNTA(D18:F18)+COUNTA(I18:K18)+COUNTA(N18:P18)+COUNTA(S18:U18)+COUNTA(X18:Z18))<15,"",AB18) | AD18: =IF(AC18="","",IF(AC18<60,"AI",IF(AC18<76,"AF",IF(AC18<90,"AS","AA")))) | AE18: =IF(B18="","",IF(COUNTA(N18:P18)<3,"",IF(IF(COUNTA(X18:Z18)>0,AB18,IF(COUNTA(S18:U18)>0,W18,R18))<60,"Prioritario",IF(AND(COUNTA(X18:Z18)=3,AB18<=75),"Preventivo","")))) | AF18: =IF(AE18="","",IF(AE18="Prioritario","Acumulado actual menor de 60","Nota final entre 60 y 75")) | AG18: =IF(B18="","",IF(COUNTA(D18:F18)=3,1,0)+IF(COUNTA(I18:K18)=3,1,0)+IF(COUNTA(N18:P18)=3,1,0)+IF(COUNTA(S18:U18)=3,1,0)+IF(COUNTA(X18:Z18)=3,1,0))
A19: =IF(Configuración!B22="","",Configuración!A22) | B19: =IF(Configuración!B22="","",Configuración!B22) | C19: =IF(Configuración!B22="","",Configuración!C22) | G19: =IF(COUNTA(D19:F19)=0,"",IF(D19="AI",2,IF(D19="AF",3,IF(D19="AS",4,IF(D19="AA",5,0))))+IF(E19="AI",4,IF(E19="AF",6,IF(E19="AS",8,IF(E19="AA",10,0))))+IF(F19="AI",2,IF(F19="AF",3,IF(F19="AS",4,IF(F19="AA",5,0))))) | H19: =IF(COUNTA(D19:F19)=0,"",G19) | L19: =IF(COUNTA(I19:K19)=0,"",IF(I19="AI",2,IF(I19="AF",3,IF(I19="AS",4,IF(I19="AA",5,0))))+IF(J19="AI",4,IF(J19="AF",6,IF(J19="AS",8,IF(J19="AA",10,0))))+IF(K19="AI",2,IF(K19="AF",3,IF(K19="AS",4,IF(K19="AA",5,0))))) | M19: =IF(COUNTA(I19:K19)=0,"",SUM(G19,L19)) | Q19: =IF(COUNTA(N19:P19)=0,"",IF(N19="AI",2,IF(N19="AF",3,IF(N19="AS",4,IF(N19="AA",5,0))))+IF(O19="AI",4,IF(O19="AF",6,IF(O19="AS",8,IF(O19="AA",10,0))))+IF(P19="AI",2,IF(P19="AF",3,IF(P19="AS",4,IF(P19="AA",5,0))))) | R19: =IF(COUNTA(N19:P19)=0,"",SUM(G19,L19,Q19)) | V19: =IF(COUNTA(S19:U19)=0,"",IF(S19="AI",2,IF(S19="AF",3,IF(S19="AS",4,IF(S19="AA",5,0))))+IF(T19="AI",4,IF(T19="AF",6,IF(T19="AS",8,IF(T19="AA",10,0))))+IF(U19="AI",2,IF(U19="AF",3,IF(U19="AS",4,IF(U19="AA",5,0))))) | W19: =IF(COUNTA(S19:U19)=0,"",SUM(G19,L19,Q19,V19)) | AA19: =IF(COUNTA(X19:Z19)=0,"",IF(X19="AI",2,IF(X19="AF",3,IF(X19="AS",4,IF(X19="AA",5,0))))+IF(Y19="AI",4,IF(Y19="AF",6,IF(Y19="AS",8,IF(Y19="AA",10,0))))+IF(Z19="AI",2,IF(Z19="AF",3,IF(Z19="AS",4,IF(Z19="AA",5,0))))) | AB19: =IF(COUNTA(X19:Z19)=0,"",SUM(G19,L19,Q19,V19,AA19)) | AC19: =IF((COUNTA(D19:F19)+COUNTA(I19:K19)+COUNTA(N19:P19)+COUNTA(S19:U19)+COUNTA(X19:Z19))<15,"",AB19) | AD19: =IF(AC19="","",IF(AC19<60,"AI",IF(AC19<76,"AF",IF(AC19<90,"AS","AA")))) | AE19: =IF(B19="","",IF(COUNTA(N19:P19)<3,"",IF(IF(COUNTA(X19:Z19)>0,AB19,IF(COUNTA(S19:U19)>0,W19,R19))<60,"Prioritario",IF(AND(COUNTA(X19:Z19)=3,AB19<=75),"Preventivo","")))) | AF19: =IF(AE19="","",IF(AE19="Prioritario","Acumulado actual menor de 60","Nota final entre 60 y 75")) | AG19: =IF(B19="","",IF(COUNTA(D19:F19)=3,1,0)+IF(COUNTA(I19:K19)=3,1,0)+IF(COUNTA(N19:P19)=3,1,0)+IF(COUNTA(S19:U19)=3,1,0)+IF(COUNTA(X19:Z19)=3,1,0))
A20: =IF(Configuración!B23="","",Configuración!A23) | B20: =IF(Configuración!B23="","",Configuración!B23) | C20: =IF(Configuración!B23="","",Configuración!C23) | G20: =IF(COUNTA(D20:F20)=0,"",IF(D20="AI",2,IF(D20="AF",3,IF(D20="AS",4,IF(D20="AA",5,0))))+IF(E20="AI",4,IF(E20="AF",6,IF(E20="AS",8,IF(E20="AA",10,0))))+IF(F20="AI",2,IF(F20="AF",3,IF(F20="AS",4,IF(F20="AA",5,0))))) | H20: =IF(COUNTA(D20:F20)=0,"",G20) | L20: =IF(COUNTA(I20:K20)=0,"",IF(I20="AI",2,IF(I20="AF",3,IF(I20="AS",4,IF(I20="AA",5,0))))+IF(J20="AI",4,IF(J20="AF",6,IF(J20="AS",8,IF(J20="AA",10,0))))+IF(K20="AI",2,IF(K20="AF",3,IF(K20="AS",4,IF(K20="AA",5,0))))) | M20: =IF(COUNTA(I20:K20)=0,"",SUM(G20,L20)) | Q20: =IF(COUNTA(N20:P20)=0,"",IF(N20="AI",2,IF(N20="AF",3,IF(N20="AS",4,IF(N20="AA",5,0))))+IF(O20="AI",4,IF(O20="AF",6,IF(O20="AS",8,IF(O20="AA",10,0))))+IF(P20="AI",2,IF(P20="AF",3,IF(P20="AS",4,IF(P20="AA",5,0))))) | R20: =IF(COUNTA(N20:P20)=0,"",SUM(G20,L20,Q20)) | V20: =IF(COUNTA(S20:U20)=0,"",IF(S20="AI",2,IF(S20="AF",3,IF(S20="AS",4,IF(S20="AA",5,0))))+IF(T20="AI",4,IF(T20="AF",6,IF(T20="AS",8,IF(T20="AA",10,0))))+IF(U20="AI",2,IF(U20="AF",3,IF(U20="AS",4,IF(U20="AA",5,0))))) | W20: =IF(COUNTA(S20:U20)=0,"",SUM(G20,L20,Q20,V20)) | AA20: =IF(COUNTA(X20:Z20)=0,"",IF(X20="AI",2,IF(X20="AF",3,IF(X20="AS",4,IF(X20="AA",5,0))))+IF(Y20="AI",4,IF(Y20="AF",6,IF(Y20="AS",8,IF(Y20="AA",10,0))))+IF(Z20="AI",2,IF(Z20="AF",3,IF(Z20="AS",4,IF(Z20="AA",5,0))))) | AB20: =IF(COUNTA(X20:Z20)=0,"",SUM(G20,L20,Q20,V20,AA20)) | AC20: =IF((COUNTA(D20:F20)+COUNTA(I20:K20)+COUNTA(N20:P20)+COUNTA(S20:U20)+COUNTA(X20:Z20))<15,"",AB20) | AD20: =IF(AC20="","",IF(AC20<60,"AI",IF(AC20<76,"AF",IF(AC20<90,"AS","AA")))) | AE20: =IF(B20="","",IF(COUNTA(N20:P20)<3,"",IF(IF(COUNTA(X20:Z20)>0,AB20,IF(COUNTA(S20:U20)>0,W20,R20))<60,"Prioritario",IF(AND(COUNTA(X20:Z20)=3,AB20<=75),"Preventivo","")))) | AF20: =IF(AE20="","",IF(AE20="Prioritario","Acumulado actual menor de 60","Nota final entre 60 y 75")) | AG20: =IF(B20="","",IF(COUNTA(D20:F20)=3,1,0)+IF(COUNTA(I20:K20)=3,1,0)+IF(COUNTA(N20:P20)=3,1,0)+IF(COUNTA(S20:U20)=3,1,0)+IF(COUNTA(X20:Z20)=3,1,0))
... A57: =IF(Configuración!B60="","",Configuración!A60) | B57: =IF(Configuración!B60="","",Configuración!B60) | C57: =IF(Configuración!B60="","",Configuración!C60) | G57: =IF(COUNTA(D57:F57)=0,"",IF(D57="AI",2,IF(D57="AF",3,IF(D57="AS",4,IF(D57="AA",5,0))))+IF(E57="AI",4,IF(E57="AF",6,IF(E57="AS",8,IF(E57="AA",10,0))))+IF(F57="AI",2,IF(F57="AF",3,IF(F57="AS",4,IF(F57="AA",5,0))))) | H57: =IF(COUNTA(D57:F57)=0,"",G57) | L57: =IF(COUNTA(I57:K57)=0,"",IF(I57="AI",2,IF(I57="AF",3,IF(I57="AS",4,IF(I57="AA",5,0))))+IF(J57="AI",4,IF(J57="AF",6,IF(J57="AS",8,IF(J57="AA",10,0))))+IF(K57="AI",2,IF(K57="AF",3,IF(K57="AS",4,IF(K57="AA",5,0))))) | M57: =IF(COUNTA(I57:K57)=0,"",SUM(G57,L57)) | Q57: =IF(COUNTA(N57:P57)=0,"",IF(N57="AI",2,IF(N57="AF",3,IF(N57="AS",4,IF(N57="AA",5,0))))+IF(O57="AI",4,IF(O57="AF",6,IF(O57="AS",8,IF(O57="AA",10,0))))+IF(P57="AI",2,IF(P57="AF",3,IF(P57="AS",4,IF(P57="AA",5,0))))) | R57: =IF(COUNTA(N57:P57)=0,"",SUM(G57,L57,Q57)) | V57: =IF(COUNTA(S57:U57)=0,"",IF(S57="AI",2,IF(S57="AF",3,IF(S57="AS",4,IF(S57="AA",5,0))))+IF(T57="AI",4,IF(T57="AF",6,IF(T57="AS",8,IF(T57="AA",10,0))))+IF(U57="AI",2,IF(U57="AF",3,IF(U57="AS",4,IF(U57="AA",5,0))))) | W57: =IF(COUNTA(S57:U57)=0,"",SUM(G57,L57,Q57,V57)) | AA57: =IF(COUNTA(X57:Z57)=0,"",IF(X57="AI",2,IF(X57="AF",3,IF(X57="AS",4,IF(X57="AA",5,0))))+IF(Y57="AI",4,IF(Y57="AF",6,IF(Y57="AS",8,IF(Y57="AA",10,0))))+IF(Z57="AI",2,IF(Z57="AF",3,IF(Z57="AS",4,IF(Z57="AA",5,0))))) | AB57: =IF(COUNTA(X57:Z57)=0,"",SUM(G57,L57,Q57,V57,AA57)) | AC57: =IF((COUNTA(D57:F57)+COUNTA(I57:K57)+COUNTA(N57:P57)+COUNTA(S57:U57)+COUNTA(X57:Z57))<15,"",AB57) | AD57: =IF(AC57="","",IF(AC57<60,"AI",IF(AC57<76,"AF",IF(AC57<90,"AS","AA")))) | AE57: =IF(B57="","",IF(COUNTA(N57:P57)<3,"",IF(IF(COUNTA(X57:Z57)>0,AB57,IF(COUNTA(S57:U57)>0,W57,R57))<60,"Prioritario",IF(AND(COUNTA(X57:Z57)=3,AB57<=75),"Preventivo","")))) | AF57: =IF(AE57="","",IF(AE57="Prioritario","Acumulado actual menor de 60","Nota final entre 60 y 75")) | AG57: =IF(B57="","",IF(COUNTA(D57:F57)=3,1,0)+IF(COUNTA(I57:K57)=3,1,0)+IF(COUNTA(N57:P57)=3,1,0)+IF(COUNTA(S57:U57)=3,1,0)+IF(COUNTA(X57:Z57)=3,1,0))
A61: ESTUDIANTES QUE REQUIEREN SEGUIMIENTO
A62: La alerta inicia al completar el Indicador 3 si el acumulado es menor de 60 y se recalcula con cada indicador posterior.
A64: Nº | B64: Estudiante | C64: Sexo | D64: Acumulado actual | E64: Nivel/Estado | F64: Seguimiento | G64: Motivo
A65: =IF($AE8="","",A8) | B65: =IF($AE8="","",B8&" "&C8) | C65: =IF($AE8="","",Configuración!E11) | D65: =IF($AE8="","",IF(COUNTA(X8:Z8)>0,AB8,IF(COUNTA(S8:U8)>0,W8,IF(COUNTA(N8:P8)>0,R8,"")))) | E65: =IF($AE8="","",IF(AC8<>"",AD8,"En proceso")) | F65: =IF($AE8="","",AE8) | G65: =IF($AE8="","",AF8)
A66: =IF($AE9="","",A9) | B66: =IF($AE9="","",B9&" "&C9) | C66: =IF($AE9="","",Configuración!E12) | D66: =IF($AE9="","",IF(COUNTA(X9:Z9)>0,AB9,IF(COUNTA(S9:U9)>0,W9,IF(COUNTA(N9:P9)>0,R9,"")))) | E66: =IF($AE9="","",IF(AC9<>"",AD9,"En proceso")) | F66: =IF($AE9="","",AE9) | G66: =IF($AE9="","",AF9)
A67: =IF($AE10="","",A10) | B67: =IF($AE10="","",B10&" "&C10) | C67: =IF($AE10="","",Configuración!E13) | D67: =IF($AE10="","",IF(COUNTA(X10:Z10)>0,AB10,IF(COUNTA(S10:U10)>0,W10,IF(COUNTA(N10:P10)>0,R10,"")))) | E67: =IF($AE10="","",IF(AC10<>"",AD10,"En proceso")) | F67: =IF($AE10="","",AE10) | G67: =IF($AE10="","",AF10)
A68: =IF($AE11="","",A11) | B68: =IF($AE11="","",B11&" "&C11) | C68: =IF($AE11="","",Configuración!E14) | D68: =IF($AE11="","",IF(COUNTA(X11:Z11)>0,AB11,IF(COUNTA(S11:U11)>0,W11,IF(COUNTA(N11:P11)>0,R11,"")))) | E68: =IF($AE11="","",IF(AC11<>"",AD11,"En proceso")) | F68: =IF($AE11="","",AE11) | G68: =IF($AE11="","",AF11)
A69: =IF($AE12="","",A12) | B69: =IF($AE12="","",B12&" "&C12) | C69: =IF($AE12="","",Configuración!E15) | D69: =IF($AE12="","",IF(COUNTA(X12:Z12)>0,AB12,IF(COUNTA(S12:U12)>0,W12,IF(COUNTA(N12:P12)>0,R12,"")))) | E69: =IF($AE12="","",IF(AC12<>"",AD12,"En proceso")) | F69: =IF($AE12="","",AE12) | G69: =IF($AE12="","",AF12)
A70: =IF($AE13="","",A13) | B70: =IF($AE13="","",B13&" "&C13) | C70: =IF($AE13="","",Configuración!E16) | D70: =IF($AE13="","",IF(COUNTA(X13:Z13)>0,AB13,IF(COUNTA(S13:U13)>0,W13,IF(COUNTA(N13:P13)>0,R13,"")))) | E70: =IF($AE13="","",IF(AC13<>"",AD13,"En proceso")) | F70: =IF($AE13="","",AE13) | G70: =IF($AE13="","",AF13)
A71: =IF($AE14="","",A14) | B71: =IF($AE14="","",B14&" "&C14) | C71: =IF($AE14="","",Configuración!E17) | D71: =IF($AE14="","",IF(COUNTA(X14:Z14)>0,AB14,IF(COUNTA(S14:U14)>0,W14,IF(COUNTA(N14:P14)>0,R14,"")))) | E71: =IF($AE14="","",IF(AC14<>"",AD14,"En proceso")) | F71: =IF($AE14="","",AE14) | G71: =IF($AE14="","",AF14)
A72: =IF($AE15="","",A15) | B72: =IF($AE15="","",B15&" "&C15) | C72: =IF($AE15="","",Configuración!E18) | D72: =IF($AE15="","",IF(COUNTA(X15:Z15)>0,AB15,IF(COUNTA(S15:U15)>0,W15,IF(COUNTA(N15:P15)>0,R15,"")))) | E72: =IF($AE15="","",IF(AC15<>"",AD15,"En proceso")) | F72: =IF($AE15="","",AE15) | G72: =IF($AE15="","",AF15)
A73: =IF($AE16="","",A16) | B73: =IF($AE16="","",B16&" "&C16) | C73: =IF($AE16="","",Configuración!E19) | D73: =IF($AE16="","",IF(COUNTA(X16:Z16)>0,AB16,IF(COUNTA(S16:U16)>0,W16,IF(COUNTA(N16:P16)>0,R16,"")))) | E73: =IF($AE16="","",IF(AC16<>"",AD16,"En proceso")) | F73: =IF($AE16="","",AE16) | G73: =IF($AE16="","",AF16)
A74: =IF($AE17="","",A17) | B74: =IF($AE17="","",B17&" "&C17) | C74: =IF($AE17="","",Configuración!E20) | D74: =IF($AE17="","",IF(COUNTA(X17:Z17)>0,AB17,IF(COUNTA(S17:U17)>0,W17,IF(COUNTA(N17:P17)>0,R17,"")))) | E74: =IF($AE17="","",IF(AC17<>"",AD17,"En proceso")) | F74: =IF($AE17="","",AE17) | G74: =IF($AE17="","",AF17)
A75: =IF($AE18="","",A18) | B75: =IF($AE18="","",B18&" "&C18) | C75: =IF($AE18="","",Configuración!E21) | D75: =IF($AE18="","",IF(COUNTA(X18:Z18)>0,AB18,IF(COUNTA(S18:U18)>0,W18,IF(COUNTA(N18:P18)>0,R18,"")))) | E75: =IF($AE18="","",IF(AC18<>"",AD18,"En proceso")) | F75: =IF($AE18="","",AE18) | G75: =IF($AE18="","",AF18)
A76: =IF($AE19="","",A19) | B76: =IF($AE19="","",B19&" "&C19) | C76: =IF($AE19="","",Configuración!E22) | D76: =IF($AE19="","",IF(COUNTA(X19:Z19)>0,AB19,IF(COUNTA(S19:U19)>0,W19,IF(COUNTA(N19:P19)>0,R19,"")))) | E76: =IF($AE19="","",IF(AC19<>"",AD19,"En proceso")) | F76: =IF($AE19="","",AE19) | G76: =IF($AE19="","",AF19)
... A114: =IF($AE57="","",A57) | B114: =IF($AE57="","",B57&" "&C57) | C114: =IF($AE57="","",Configuración!E60) | D114: =IF($AE57="","",IF(COUNTA(X57:Z57)>0,AB57,IF(COUNTA(S57:U57)>0,W57,IF(COUNTA(N57:P57)>0,R57,"")))) | E114: =IF($AE57="","",IF(AC57<>"",AD57,"En proceso")) | F114: =IF($AE57="","",AE57) | G114: =IF($AE57="","",AF57)
A116: Autoría: Ing. Reynaldo R Castillo Martínez · IngNovaR · contacto@ingnovar.com · https://ingnovar.com/

Sheet I Semestre
A1: I SEMESTRE — CONSOLIDADO
A4: Nº | B4: Nombres | C4: Apellidos | D4: Sexo | E4: I Corte | F4: II Corte | G4: I Semestre | H4: Nivel | I4: Estado
A5: =IF(Configuración!B11="","",Configuración!A11) | B5: =IF(Configuración!B11="","",Configuración!B11) | C5: =IF(Configuración!B11="","",Configuración!C11) | D5: =IF(Configuración!B11="","",Configuración!E11) | E5: =IF('I Corte'!AC8="","",'I Corte'!AC8) | F5: =IF('II Corte'!AC8="","",'II Corte'!AC8) | G5: =IF(COUNT(E5:F5)<2,"",ROUND(AVERAGE(E5:F5),0)) | H5: =IF(G5="","",IF(G5<60,"AI",IF(G5<76,"AF",IF(G5<90,"AS","AA")))) | I5: =IF(Configuración!B11="","",Configuración!D11)
A6: =IF(Configuración!B12="","",Configuración!A12) | B6: =IF(Configuración!B12="","",Configuración!B12) | C6: =IF(Configuración!B12="","",Configuración!C12) | D6: =IF(Configuración!B12="","",Configuración!E12) | E6: =IF('I Corte'!AC9="","",'I Corte'!AC9) | F6: =IF('II Corte'!AC9="","",'II Corte'!AC9) | G6: =IF(COUNT(E6:F6)<2,"",ROUND(AVERAGE(E6:F6),0)) | H6: =IF(G6="","",IF(G6<60,"AI",IF(G6<76,"AF",IF(G6<90,"AS","AA")))) | I6: =IF(Configuración!B12="","",Configuración!D12)
A7: =IF(Configuración!B13="","",Configuración!A13) | B7: =IF(Configuración!B13="","",Configuración!B13) | C7: =IF(Configuración!B13="","",Configuración!C13) | D7: =IF(Configuración!B13="","",Configuración!E13) | E7: =IF('I Corte'!AC10="","",'I Corte'!AC10) | F7: =IF('II Corte'!AC10="","",'II Corte'!AC10) | G7: =IF(COUNT(E7:F7)<2,"",ROUND(AVERAGE(E7:F7),0)) | H7: =IF(G7="","",IF(G7<60,"AI",IF(G7<76,"AF",IF(G7<90,"AS","AA")))) | I7: =IF(Configuración!B13="","",Configuración!D13)
A8: =IF(Configuración!B14="","",Configuración!A14) | B8: =IF(Configuración!B14="","",Configuración!B14) | C8: =IF(Configuración!B14="","",Configuración!C14) | D8: =IF(Configuración!B14="","",Configuración!E14) | E8: =IF('I Corte'!AC11="","",'I Corte'!AC11) | F8: =IF('II Corte'!AC11="","",'II Corte'!AC11) | G8: =IF(COUNT(E8:F8)<2,"",ROUND(AVERAGE(E8:F8),0)) | H8: =IF(G8="","",IF(G8<60,"AI",IF(G8<76,"AF",IF(G8<90,"AS","AA")))) | I8: =IF(Configuración!B14="","",Configuración!D14)
A9: =IF(Configuración!B15="","",Configuración!A15) | B9: =IF(Configuración!B15="","",Configuración!B15) | C9: =IF(Configuración!B15="","",Configuración!C15) | D9: =IF(Configuración!B15="","",Configuración!E15) | E9: =IF('I Corte'!AC12="","",'I Corte'!AC12) | F9: =IF('II Corte'!AC12="","",'II Corte'!AC12) | G9: =IF(COUNT(E9:F9)<2,"",ROUND(AVERAGE(E9:F9),0)) | H9: =IF(G9="","",IF(G9<60,"AI",IF(G9<76,"AF",IF(G9<90,"AS","AA")))) | I9: =IF(Configuración!B15="","",Configuración!D15)
A10: =IF(Configuración!B16="","",Configuración!A16) | B10: =IF(Configuración!B16="","",Configuración!B16) | C10: =IF(Configuración!B16="","",Configuración!C16) | D10: =IF(Configuración!B16="","",Configuración!E16) | E10: =IF('I Corte'!AC13="","",'I Corte'!AC13) | F10: =IF('II Corte'!AC13="","",'II Corte'!AC13) | G10: =IF(COUNT(E10:F10)<2,"",ROUND(AVERAGE(E10:F10),0)) | H10: =IF(G10="","",IF(G10<60,"AI",IF(G10<76,"AF",IF(G10<90,"AS","AA")))) | I10: =IF(Configuración!B16="","",Configuración!D16)
A11: =IF(Configuración!B17="","",Configuración!A17) | B11: =IF(Configuración!B17="","",Configuración!B17) | C11: =IF(Configuración!B17="","",Configuración!C17) | D11: =IF(Configuración!B17="","",Configuración!E17) | E11: =IF('I Corte'!AC14="","",'I Corte'!AC14) | F11: =IF('II Corte'!AC14="","",'II Corte'!AC14) | G11: =IF(COUNT(E11:F11)<2,"",ROUND(AVERAGE(E11:F11),0)) | H11: =IF(G11="","",IF(G11<60,"AI",IF(G11<76,"AF",IF(G11<90,"AS","AA")))) | I11: =IF(Configuración!B17="","",Configuración!D17)
A12: =IF(Configuración!B18="","",Configuración!A18) | B12: =IF(Configuración!B18="","",Configuración!B18) | C12: =IF(Configuración!B18="","",Configuración!C18) | D12: =IF(Configuración!B18="","",Configuración!E18) | E12: =IF('I Corte'!AC15="","",'I Corte'!AC15) | F12: =IF('II Corte'!AC15="","",'II Corte'!AC15) | G12: =IF(COUNT(E12:F12)<2,"",ROUND(AVERAGE(E12:F12),0)) | H12: =IF(G12="","",IF(G12<60,"AI",IF(G12<76,"AF",IF(G12<90,"AS","AA")))) | I12: =IF(Configuración!B18="","",Configuración!D18)
A13: =IF(Configuración!B19="","",Configuración!A19) | B13: =IF(Configuración!B19="","",Configuración!B19) | C13: =IF(Configuración!B19="","",Configuración!C19) | D13: =IF(Configuración!B19="","",Configuración!E19) | E13: =IF('I Corte'!AC16="","",'I Corte'!AC16) | F13: =IF('II Corte'!AC16="","",'II Corte'!AC16) | G13: =IF(COUNT(E13:F13)<2,"",ROUND(AVERAGE(E13:F13),0)) | H13: =IF(G13="","",IF(G13<60,"AI",IF(G13<76,"AF",IF(G13<90,"AS","AA")))) | I13: =IF(Configuración!B19="","",Configuración!D19)
A14: =IF(Configuración!B20="","",Configuración!A20) | B14: =IF(Configuración!B20="","",Configuración!B20) | C14: =IF(Configuración!B20="","",Configuración!C20) | D14: =IF(Configuración!B20="","",Configuración!E20) | E14: =IF('I Corte'!AC17="","",'I Corte'!AC17) | F14: =IF('II Corte'!AC17="","",'II Corte'!AC17) | G14: =IF(COUNT(E14:F14)<2,"",ROUND(AVERAGE(E14:F14),0)) | H14: =IF(G14="","",IF(G14<60,"AI",IF(G14<76,"AF",IF(G14<90,"AS","AA")))) | I14: =IF(Configuración!B20="","",Configuración!D20)
A15: =IF(Configuración!B21="","",Configuración!A21) | B15: =IF(Configuración!B21="","",Configuración!B21) | C15: =IF(Configuración!B21="","",Configuración!C21) | D15: =IF(Configuración!B21="","",Configuración!E21) | E15: =IF('I Corte'!AC18="","",'I Corte'!AC18) | F15: =IF('II Corte'!AC18="","",'II Corte'!AC18) | G15: =IF(COUNT(E15:F15)<2,"",ROUND(AVERAGE(E15:F15),0)) | H15: =IF(G15="","",IF(G15<60,"AI",IF(G15<76,"AF",IF(G15<90,"AS","AA")))) | I15: =IF(Configuración!B21="","",Configuración!D21)
A16: =IF(Configuración!B22="","",Configuración!A22) | B16: =IF(Configuración!B22="","",Configuración!B22) | C16: =IF(Configuración!B22="","",Configuración!C22) | D16: =IF(Configuración!B22="","",Configuración!E22) | E16: =IF('I Corte'!AC19="","",'I Corte'!AC19) | F16: =IF('II Corte'!AC19="","",'II Corte'!AC19) | G16: =IF(COUNT(E16:F16)<2,"",ROUND(AVERAGE(E16:F16),0)) | H16: =IF(G16="","",IF(G16<60,"AI",IF(G16<76,"AF",IF(G16<90,"AS","AA")))) | I16: =IF(Configuración!B22="","",Configuración!D22)
... A54: =IF(Configuración!B60="","",Configuración!A60) | B54: =IF(Configuración!B60="","",Configuración!B60) | C54: =IF(Configuración!B60="","",Configuración!C60) | D54: =IF(Configuración!B60="","",Configuración!E60) | E54: =IF('I Corte'!AC57="","",'I Corte'!AC57) | F54: =IF('II Corte'!AC57="","",'II Corte'!AC57) | G54: =IF(COUNT(E54:F54)<2,"",ROUND(AVERAGE(E54:F54),0)) | H54: =IF(G54="","",IF(G54<60,"AI",IF(G54<76,"AF",IF(G54<90,"AS","AA")))) | I54: =IF(Configuración!B60="","",Configuración!D60)
A58: ESTUDIANTES QUE REQUIEREN SEGUIMIENTO
A59: Seguimiento prioritario: nota semestral menor de 60 · Seguimiento preventivo: nota semestral entre 60 y 75.
A61: Nº | B61: Estudiante | C61: Sexo | D61: Nota semestral | E61: Nivel | F61: Seguimiento | G61: Motivo
A62: =IF(OR($G5="",$G5>75),"",A5) | B62: =IF(OR($G5="",$G5>75),"",B5&" "&C5) | C62: =IF(OR($G5="",$G5>75),"",D5) | D62: =IF(OR($G5="",$G5>75),"",G5) | E62: =IF(OR($G5="",$G5>75),"",H5) | F62: =IF(OR($G5="",$G5>75),"",IF(G5<60,"Prioritario","Preventivo")) | G62: =IF(OR($G5="",$G5>75),"",IF(G5<60,"Nota semestral menor de 60","Nota semestral entre 60 y 75"))
A63: =IF(OR($G6="",$G6>75),"",A6) | B63: =IF(OR($G6="",$G6>75),"",B6&" "&C6) | C63: =IF(OR($G6="",$G6>75),"",D6) | D63: =IF(OR($G6="",$G6>75),"",G6) | E63: =IF(OR($G6="",$G6>75),"",H6) | F63: =IF(OR($G6="",$G6>75),"",IF(G6<60,"Prioritario","Preventivo")) | G63: =IF(OR($G6="",$G6>75),"",IF(G6<60,"Nota semestral menor de 60","Nota semestral entre 60 y 75"))
A64: =IF(OR($G7="",$G7>75),"",A7) | B64: =IF(OR($G7="",$G7>75),"",B7&" "&C7) | C64: =IF(OR($G7="",$G7>75),"",D7) | D64: =IF(OR($G7="",$G7>75),"",G7) | E64: =IF(OR($G7="",$G7>75),"",H7) | F64: =IF(OR($G7="",$G7>75),"",IF(G7<60,"Prioritario","Preventivo")) | G64: =IF(OR($G7="",$G7>75),"",IF(G7<60,"Nota semestral menor de 60","Nota semestral entre 60 y 75"))
A65: =IF(OR($G8="",$G8>75),"",A8) | B65: =IF(OR($G8="",$G8>75),"",B8&" "&C8) | C65: =IF(OR($G8="",$G8>75),"",D8) | D65: =IF(OR($G8="",$G8>75),"",G8) | E65: =IF(OR($G8="",$G8>75),"",H8) | F65: =IF(OR($G8="",$G8>75),"",IF(G8<60,"Prioritario","Preventivo")) | G65: =IF(OR($G8="",$G8>75),"",IF(G8<60,"Nota semestral menor de 60","Nota semestral entre 60 y 75"))
A66: =IF(OR($G9="",$G9>75),"",A9) | B66: =IF(OR($G9="",$G9>75),"",B9&" "&C9) | C66: =IF(OR($G9="",$G9>75),"",D9) | D66: =IF(OR($G9="",$G9>75),"",G9) | E66: =IF(OR($G9="",$G9>75),"",H9) | F66: =IF(OR($G9="",$G9>75),"",IF(G9<60,"Prioritario","Preventivo")) | G66: =IF(OR($G9="",$G9>75),"",IF(G9<60,"Nota semestral menor de 60","Nota semestral entre 60 y 75"))
A67: =IF(OR($G10="",$G10>75),"",A10) | B67: =IF(OR($G10="",$G10>75),"",B10&" "&C10) | C67: =IF(OR($G10="",$G10>75),"",D10) | D67: =IF(OR($G10="",$G10>75),"",G10) | E67: =IF(OR($G10="",$G10>75),"",H10) | F67: =IF(OR($G10="",$G10>75),"",IF(G10<60,"Prioritario","Preventivo")) | G67: =IF(OR($G10="",$G10>75),"",IF(G10<60,"Nota semestral menor de 60","Nota semestral entre 60 y 75"))
A68: =IF(OR($G11="",$G11>75),"",A11) | B68: =IF(OR($G11="",$G11>75),"",B11&" "&C11) | C68: =IF(OR($G11="",$G11>75),"",D11) | D68: =IF(OR($G11="",$G11>75),"",G11) | E68: =IF(OR($G11="",$G11>75),"",H11) | F68: =IF(OR($G11="",$G11>75),"",IF(G11<60,"Prioritario","Preventivo")) | G68: =IF(OR($G11="",$G11>75),"",IF(G11<60,"Nota semestral menor de 60","Nota semestral entre 60 y 75"))
A69: =IF(OR($G12="",$G12>75),"",A12) | B69: =IF(OR($G12="",$G12>75),"",B12&" "&C12) | C69: =IF(OR($G12="",$G12>75),"",D12) | D69: =IF(OR($G12="",$G12>75),"",G12) | E69: =IF(OR($G12="",$G12>75),"",H12) | F69: =IF(OR($G12="",$G12>75),"",IF(G12<60,"Prioritario","Preventivo")) | G69: =IF(OR($G12="",$G12>75),"",IF(G12<60,"Nota semestral menor de 60","Nota semestral entre 60 y 75"))
A70: =IF(OR($G13="",$G13>75),"",A13) | B70: =IF(OR($G13="",$G13>75),"",B13&" "&C13) | C70: =IF(OR($G13="",$G13>75),"",D13) | D70: =IF(OR($G13="",$G13>75),"",G13) | E70: =IF(OR($G13="",$G13>75),"",H13) | F70: =IF(OR($G13="",$G13>75),"",IF(G13<60,"Prioritario","Preventivo")) | G70: =IF(OR($G13="",$G13>75),"",IF(G13<60,"Nota semestral menor de 60","Nota semestral entre 60 y 75"))
A71: =IF(OR($G14="",$G14>75),"",A14) | B71: =IF(OR($G14="",$G14>75),"",B14&" "&C14) | C71: =IF(OR($G14="",$G14>75),"",D14) | D71: =IF(OR($G14="",$G14>75),"",G14) | E71: =IF(OR($G14="",$G14>75),"",H14) | F71: =IF(OR($G14="",$G14>75),"",IF(G14<60,"Prioritario","Preventivo")) | G71: =IF(OR($G14="",$G14>75),"",IF(G14<60,"Nota semestral menor de 60","Nota semestral entre 60 y 75"))
A72: =IF(OR($G15="",$G15>75),"",A15) | B72: =IF(OR($G15="",$G15>75),"",B15&" "&C15) | C72: =IF(OR($G15="",$G15>75),"",D15) | D72: =IF(OR($G15="",$G15>75),"",G15) | E72: =IF(OR($G15="",$G15>75),"",H15) | F72: =IF(OR($G15="",$G15>75),"",IF(G15<60,"Prioritario","Preventivo")) | G72: =IF(OR($G15="",$G15>75),"",IF(G15<60,"Nota semestral menor de 60","Nota semestral entre 60 y 75"))
A73: =IF(OR($G16="",$G16>75),"",A16) | B73: =IF(OR($G16="",$G16>75),"",B16&" "&C16) | C73: =IF(OR($G16="",$G16>75),"",D16) | D73: =IF(OR($G16="",$G16>75),"",G16) | E73: =IF(OR($G16="",$G16>75),"",H16) | F73: =IF(OR($G16="",$G16>75),"",IF(G16<60,"Prioritario","Preventivo")) | G73: =IF(OR($G16="",$G16>75),"",IF(G16<60,"Nota semestral menor de 60","Nota semestral entre 60 y 75"))
... A111: =IF(OR($G54="",$G54>75),"",A54) | B111: =IF(OR($G54="",$G54>75),"",B54&" "&C54) | C111: =IF(OR($G54="",$G54>75),"",D54) | D111: =IF(OR($G54="",$G54>75),"",G54) | E111: =IF(OR($G54="",$G54>75),"",H54) | F111: =IF(OR($G54="",$G54>75),"",IF(G54<60,"Prioritario","Preventivo")) | G111: =IF(OR($G54="",$G54>75),"",IF(G54<60,"Nota semestral menor de 60","Nota semestral entre 60 y 75"))
A113: Autoría: Ing. Reynaldo R Castillo Martínez · IngNovaR · contacto@ingnovar.com · https://ingnovar.com/

Sheet III Corte
A1: III CORTE — REGISTRO POR INDICADORES
A2: Docente | B2: Asignatura | C2: Grado / Sección
A3: =IF(Configuración!B4="","",Configuración!B4) | B3: =IF(Configuración!B5="","",Configuración!B5) | C3: =IF(Configuración!B6="","",Configuración!B6)
A5: Nº | B5: Nombres | C5: Apellidos | D5: Indicador 1 | I5: Indicador 2 | N5: Indicador 3 | S5: Indicador 4 | X5: Indicador 5 | AC5: Nota final | AD5: Nivel
D6: C1 | E6: C2 | F6: C3 | G6: Total | H6: Acumulado | I6: C1 | J6: C2 | K6: C3 | L6: Total | M6: Acumulado | N6: C1 | O6: C2 | P6: C3 | Q6: Total | R6: Acumulado | S6: C1 | T6: C2 | U6: C3 | V6: Total | W6: Acumulado | X6: C1 | Y6: C2 | Z6: C3 | AA6: Total | AB6: Acumulado
D7: 5 | E7: 10 | F7: 5 | G7: 20 | H7: 20 | I7: 5 | J7: 10 | K7: 5 | L7: 20 | M7: 40 | N7: 5 | O7: 10 | P7: 5 | Q7: 20 | R7: 60 | S7: 5 | T7: 10 | U7: 5 | V7: 20 | W7: 80 | X7: 5 | Y7: 10 | Z7: 5 | AA7: 20 | AB7: 100
A8: =IF(Configuración!B11="","",Configuración!A11) | B8: =IF(Configuración!B11="","",Configuración!B11) | C8: =IF(Configuración!B11="","",Configuración!C11) | G8: =IF(COUNTA(D8:F8)=0,"",IF(D8="AI",2,IF(D8="AF",3,IF(D8="AS",4,IF(D8="AA",5,0))))+IF(E8="AI",4,IF(E8="AF",6,IF(E8="AS",8,IF(E8="AA",10,0))))+IF(F8="AI",2,IF(F8="AF",3,IF(F8="AS",4,IF(F8="AA",5,0))))) | H8: =IF(COUNTA(D8:F8)=0,"",G8) | L8: =IF(COUNTA(I8:K8)=0,"",IF(I8="AI",2,IF(I8="AF",3,IF(I8="AS",4,IF(I8="AA",5,0))))+IF(J8="AI",4,IF(J8="AF",6,IF(J8="AS",8,IF(J8="AA",10,0))))+IF(K8="AI",2,IF(K8="AF",3,IF(K8="AS",4,IF(K8="AA",5,0))))) | M8: =IF(COUNTA(I8:K8)=0,"",SUM(G8,L8)) | Q8: =IF(COUNTA(N8:P8)=0,"",IF(N8="AI",2,IF(N8="AF",3,IF(N8="AS",4,IF(N8="AA",5,0))))+IF(O8="AI",4,IF(O8="AF",6,IF(O8="AS",8,IF(O8="AA",10,0))))+IF(P8="AI",2,IF(P8="AF",3,IF(P8="AS",4,IF(P8="AA",5,0))))) | R8: =IF(COUNTA(N8:P8)=0,"",SUM(G8,L8,Q8)) | V8: =IF(COUNTA(S8:U8)=0,"",IF(S8="AI",2,IF(S8="AF",3,IF(S8="AS",4,IF(S8="AA",5,0))))+IF(T8="AI",4,IF(T8="AF",6,IF(T8="AS",8,IF(T8="AA",10,0))))+IF(U8="AI",2,IF(U8="AF",3,IF(U8="AS",4,IF(U8="AA",5,0))))) | W8: =IF(COUNTA(S8:U8)=0,"",SUM(G8,L8,Q8,V8)) | AA8: =IF(COUNTA(X8:Z8)=0,"",IF(X8="AI",2,IF(X8="AF",3,IF(X8="AS",4,IF(X8="AA",5,0))))+IF(Y8="AI",4,IF(Y8="AF",6,IF(Y8="AS",8,IF(Y8="AA",10,0))))+IF(Z8="AI",2,IF(Z8="AF",3,IF(Z8="AS",4,IF(Z8="AA",5,0))))) | AB8: =IF(COUNTA(X8:Z8)=0,"",SUM(G8,L8,Q8,V8,AA8)) | AC8: =IF((COUNTA(D8:F8)+COUNTA(I8:K8)+COUNTA(N8:P8)+COUNTA(S8:U8)+COUNTA(X8:Z8))<15,"",AB8) | AD8: =IF(AC8="","",IF(AC8<60,"AI",IF(AC8<76,"AF",IF(AC8<90,"AS","AA")))) | AE8: =IF(B8="","",IF(COUNTA(N8:P8)<3,"",IF(IF(COUNTA(X8:Z8)>0,AB8,IF(COUNTA(S8:U8)>0,W8,R8))<60,"Prioritario",IF(AND(COUNTA(X8:Z8)=3,AB8<=75),"Preventivo","")))) | AF8: =IF(AE8="","",IF(AE8="Prioritario","Acumulado actual menor de 60","Nota final entre 60 y 75")) | AG8: =IF(B8="","",IF(COUNTA(D8:F8)=3,1,0)+IF(COUNTA(I8:K8)=3,1,0)+IF(COUNTA(N8:P8)=3,1,0)+IF(COUNTA(S8:U8)=3,1,0)+IF(COUNTA(X8:Z8)=3,1,0))
A9: =IF(Configuración!B12="","",Configuración!A12) | B9: =IF(Configuración!B12="","",Configuración!B12) | C9: =IF(Configuración!B12="","",Configuración!C12) | G9: =IF(COUNTA(D9:F9)=0,"",IF(D9="AI",2,IF(D9="AF",3,IF(D9="AS",4,IF(D9="AA",5,0))))+IF(E9="AI",4,IF(E9="AF",6,IF(E9="AS",8,IF(E9="AA",10,0))))+IF(F9="AI",2,IF(F9="AF",3,IF(F9="AS",4,IF(F9="AA",5,0))))) | H9: =IF(COUNTA(D9:F9)=0,"",G9) | L9: =IF(COUNTA(I9:K9)=0,"",IF(I9="AI",2,IF(I9="AF",3,IF(I9="AS",4,IF(I9="AA",5,0))))+IF(J9="AI",4,IF(J9="AF",6,IF(J9="AS",8,IF(J9="AA",10,0))))+IF(K9="AI",2,IF(K9="AF",3,IF(K9="AS",4,IF(K9="AA",5,0))))) | M9: =IF(COUNTA(I9:K9)=0,"",SUM(G9,L9)) | Q9: =IF(COUNTA(N9:P9)=0,"",IF(N9="AI",2,IF(N9="AF",3,IF(N9="AS",4,IF(N9="AA",5,0))))+IF(O9="AI",4,IF(O9="AF",6,IF(O9="AS",8,IF(O9="AA",10,0))))+IF(P9="AI",2,IF(P9="AF",3,IF(P9="AS",4,IF(P9="AA",5,0))))) | R9: =IF(COUNTA(N9:P9)=0,"",SUM(G9,L9,Q9)) | V9: =IF(COUNTA(S9:U9)=0,"",IF(S9="AI",2,IF(S9="AF",3,IF(S9="AS",4,IF(S9="AA",5,0))))+IF(T9="AI",4,IF(T9="AF",6,IF(T9="AS",8,IF(T9="AA",10,0))))+IF(U9="AI",2,IF(U9="AF",3,IF(U9="AS",4,IF(U9="AA",5,0))))) | W9: =IF(COUNTA(S9:U9)=0,"",SUM(G9,L9,Q9,V9)) | AA9: =IF(COUNTA(X9:Z9)=0,"",IF(X9="AI",2,IF(X9="AF",3,IF(X9="AS",4,IF(X9="AA",5,0))))+IF(Y9="AI",4,IF(Y9="AF",6,IF(Y9="AS",8,IF(Y9="AA",10,0))))+IF(Z9="AI",2,IF(Z9="AF",3,IF(Z9="AS",4,IF(Z9="AA",5,0))))) | AB9: =IF(COUNTA(X9:Z9)=0,"",SUM(G9,L9,Q9,V9,AA9)) | AC9: =IF((COUNTA(D9:F9)+COUNTA(I9:K9)+COUNTA(N9:P9)+COUNTA(S9:U9)+COUNTA(X9:Z9))<15,"",AB9) | AD9: =IF(AC9="","",IF(AC9<60,"AI",IF(AC9<76,"AF",IF(AC9<90,"AS","AA")))) | AE9: =IF(B9="","",IF(COUNTA(N9:P9)<3,"",IF(IF(COUNTA(X9:Z9)>0,AB9,IF(COUNTA(S9:U9)>0,W9,R9))<60,"Prioritario",IF(AND(COUNTA(X9:Z9)=3,AB9<=75),"Preventivo","")))) | AF9: =IF(AE9="","",IF(AE9="Prioritario","Acumulado actual menor de 60","Nota final entre 60 y 75")) | AG9: =IF(B9="","",IF(COUNTA(D9:F9)=3,1,0)+IF(COUNTA(I9:K9)=3,1,0)+IF(COUNTA(N9:P9)=3,1,0)+IF(COUNTA(S9:U9)=3,1,0)+IF(COUNTA(X9:Z9)=3,1,0))
A10: =IF(Configuración!B13="","",Configuración!A13) | B10: =IF(Configuración!B13="","",Configuración!B13) | C10: =IF(Configuración!B13="","",Configuración!C13) | G10: =IF(COUNTA(D10:F10)=0,"",IF(D10="AI",2,IF(D10="AF",3,IF(D10="AS",4,IF(D10="AA",5,0))))+IF(E10="AI",4,IF(E10="AF",6,IF(E10="AS",8,IF(E10="AA",10,0))))+IF(F10="AI",2,IF(F10="AF",3,IF(F10="AS",4,IF(F10="AA",5,0))))) | H10: =IF(COUNTA(D10:F10)=0,"",G10) | L10: =IF(COUNTA(I10:K10)=0,"",IF(I10="AI",2,IF(I10="AF",3,IF(I10="AS",4,IF(I10="AA",5,0))))+IF(J10="AI",4,IF(J10="AF",6,IF(J10="AS",8,IF(J10="AA",10,0))))+IF(K10="AI",2,IF(K10="AF",3,IF(K10="AS",4,IF(K10="AA",5,0))))) | M10: =IF(COUNTA(I10:K10)=0,"",SUM(G10,L10)) | Q10: =IF(COUNTA(N10:P10)=0,"",IF(N10="AI",2,IF(N10="AF",3,IF(N10="AS",4,IF(N10="AA",5,0))))+IF(O10="AI",4,IF(O10="AF",6,IF(O10="AS",8,IF(O10="AA",10,0))))+IF(P10="AI",2,IF(P10="AF",3,IF(P10="AS",4,IF(P10="AA",5,0))))) | R10: =IF(COUNTA(N10:P10)=0,"",SUM(G10,L10,Q10)) | V10: =IF(COUNTA(S10:U10)=0,"",IF(S10="AI",2,IF(S10="AF",3,IF(S10="AS",4,IF(S10="AA",5,0))))+IF(T10="AI",4,IF(T10="AF",6,IF(T10="AS",8,IF(T10="AA",10,0))))+IF(U10="AI",2,IF(U10="AF",3,IF(U10="AS",4,IF(U10="AA",5,0))))) | W10: =IF(COUNTA(S10:U10)=0,"",SUM(G10,L10,Q10,V10)) | AA10: =IF(COUNTA(X10:Z10)=0,"",IF(X10="AI",2,IF(X10="AF",3,IF(X10="AS",4,IF(X10="AA",5,0))))+IF(Y10="AI",4,IF(Y10="AF",6,IF(Y10="AS",8,IF(Y10="AA",10,0))))+IF(Z10="AI",2,IF(Z10="AF",3,IF(Z10="AS",4,IF(Z10="AA",5,0))))) | AB10: =IF(COUNTA(X10:Z10)=0,"",SUM(G10,L10,Q10,V10,AA10)) | AC10: =IF((COUNTA(D10:F10)+COUNTA(I10:K10)+COUNTA(N10:P10)+COUNTA(S10:U10)+COUNTA(X10:Z10))<15,"",AB10) | AD10: =IF(AC10="","",IF(AC10<60,"AI",IF(AC10<76,"AF",IF(AC10<90,"AS","AA")))) | AE10: =IF(B10="","",IF(COUNTA(N10:P10)<3,"",IF(IF(COUNTA(X10:Z10)>0,AB10,IF(COUNTA(S10:U10)>0,W10,R10))<60,"Prioritario",IF(AND(COUNTA(X10:Z10)=3,AB10<=75),"Preventivo","")))) | AF10: =IF(AE10="","",IF(AE10="Prioritario","Acumulado actual menor de 60","Nota final entre 60 y 75")) | AG10: =IF(B10="","",IF(COUNTA(D10:F10)=3,1,0)+IF(COUNTA(I10:K10)=3,1,0)+IF(COUNTA(N10:P10)=3,1,0)+IF(COUNTA(S10:U10)=3,1,0)+IF(COUNTA(X10:Z10)=3,1,0))
A11: =IF(Configuración!B14="","",Configuración!A14) | B11: =IF(Configuración!B14="","",Configuración!B14) | C11: =IF(Configuración!B14="","",Configuración!C14) | G11: =IF(COUNTA(D11:F11)=0,"",IF(D11="AI",2,IF(D11="AF",3,IF(D11="AS",4,IF(D11="AA",5,0))))+IF(E11="AI",4,IF(E11="AF",6,IF(E11="AS",8,IF(E11="AA",10,0))))+IF(F11="AI",2,IF(F11="AF",3,IF(F11="AS",4,IF(F11="AA",5,0))))) | H11: =IF(COUNTA(D11:F11)=0,"",G11) | L11: =IF(COUNTA(I11:K11)=0,"",IF(I11="AI",2,IF(I11="AF",3,IF(I11="AS",4,IF(I11="AA",5,0))))+IF(J11="AI",4,IF(J11="AF",6,IF(J11="AS",8,IF(J11="AA",10,0))))+IF(K11="AI",2,IF(K11="AF",3,IF(K11="AS",4,IF(K11="AA",5,0))))) | M11: =IF(COUNTA(I11:K11)=0,"",SUM(G11,L11)) | Q11: =IF(COUNTA(N11:P11)=0,"",IF(N11="AI",2,IF(N11="AF",3,IF(N11="AS",4,IF(N11="AA",5,0))))+IF(O11="AI",4,IF(O11="AF",6,IF(O11="AS",8,IF(O11="AA",10,0))))+IF(P11="AI",2,IF(P11="AF",3,IF(P11="AS",4,IF(P11="AA",5,0))))) | R11: =IF(COUNTA(N11:P11)=0,"",SUM(G11,L11,Q11)) | V11: =IF(COUNTA(S11:U11)=0,"",IF(S11="AI",2,IF(S11="AF",3,IF(S11="AS",4,IF(S11="AA",5,0))))+IF(T11="AI",4,IF(T11="AF",6,IF(T11="AS",8,IF(T11="AA",10,0))))+IF(U11="AI",2,IF(U11="AF",3,IF(U11="AS",4,IF(U11="AA",5,0))))) | W11: =IF(COUNTA(S11:U11)=0,"",SUM(G11,L11,Q11,V11)) | AA11: =IF(COUNTA(X11:Z11)=0,"",IF(X11="AI",2,IF(X11="AF",3,IF(X11="AS",4,IF(X11="AA",5,0))))+IF(Y11="AI",4,IF(Y11="AF",6,IF(Y11="AS",8,IF(Y11="AA",10,0))))+IF(Z11="AI",2,IF(Z11="AF",3,IF(Z11="AS",4,IF(Z11="AA",5,0))))) | AB11: =IF(COUNTA(X11:Z11)=0,"",SUM(G11,L11,Q11,V11,AA11)) | AC11: =IF((COUNTA(D11:F11)+COUNTA(I11:K11)+COUNTA(N11:P11)+COUNTA(S11:U11)+COUNTA(X11:Z11))<15,"",AB11) | AD11: =IF(AC11="","",IF(AC11<60,"AI",IF(AC11<76,"AF",IF(AC11<90,"AS","AA")))) | AE11: =IF(B11="","",IF(COUNTA(N11:P11)<3,"",IF(IF(COUNTA(X11:Z11)>0,AB11,IF(COUNTA(S11:U11)>0,W11,R11))<60,"Prioritario",IF(AND(COUNTA(X11:Z11)=3,AB11<=75),"Preventivo","")))) | AF11: =IF(AE11="","",IF(AE11="Prioritario","Acumulado actual menor de 60","Nota final entre 60 y 75")) | AG11: =IF(B11="","",IF(COUNTA(D11:F11)=3,1,0)+IF(COUNTA(I11:K11)=3,1,0)+IF(COUNTA(N11:P11)=3,1,0)+IF(COUNTA(S11:U11)=3,1,0)+IF(COUNTA(X11:Z11)=3,1,0))
A12: =IF(Configuración!B15="","",Configuración!A15) | B12: =IF(Configuración!B15="","",Configuración!B15) | C12: =IF(Configuración!B15="","",Configuración!C15) | G12: =IF(COUNTA(D12:F12)=0,"",IF(D12="AI",2,IF(D12="AF",3,IF(D12="AS",4,IF(D12="AA",5,0))))+IF(E12="AI",4,IF(E12="AF",6,IF(E12="AS",8,IF(E12="AA",10,0))))+IF(F12="AI",2,IF(F12="AF",3,IF(F12="AS",4,IF(F12="AA",5,0))))) | H12: =IF(COUNTA(D12:F12)=0,"",G12) | L12: =IF(COUNTA(I12:K12)=0,"",IF(I12="AI",2,IF(I12="AF",3,IF(I12="AS",4,IF(I12="AA",5,0))))+IF(J12="AI",4,IF(J12="AF",6,IF(J12="AS",8,IF(J12="AA",10,0))))+IF(K12="AI",2,IF(K12="AF",3,IF(K12="AS",4,IF(K12="AA",5,0))))) | M12: =IF(COUNTA(I12:K12)=0,"",SUM(G12,L12)) | Q12: =IF(COUNTA(N12:P12)=0,"",IF(N12="AI",2,IF(N12="AF",3,IF(N12="AS",4,IF(N12="AA",5,0))))+IF(O12="AI",4,IF(O12="AF",6,IF(O12="AS",8,IF(O12="AA",10,0))))+IF(P12="AI",2,IF(P12="AF",3,IF(P12="AS",4,IF(P12="AA",5,0))))) | R12: =IF(COUNTA(N12:P12)=0,"",SUM(G12,L12,Q12)) | V12: =IF(COUNTA(S12:U12)=0,"",IF(S12="AI",2,IF(S12="AF",3,IF(S12="AS",4,IF(S12="AA",5,0))))+IF(T12="AI",4,IF(T12="AF",6,IF(T12="AS",8,IF(T12="AA",10,0))))+IF(U12="AI",2,IF(U12="AF",3,IF(U12="AS",4,IF(U12="AA",5,0))))) | W12: =IF(COUNTA(S12:U12)=0,"",SUM(G12,L12,Q12,V12)) | AA12: =IF(COUNTA(X12:Z12)=0,"",IF(X12="AI",2,IF(X12="AF",3,IF(X12="AS",4,IF(X12="AA",5,0))))+IF(Y12="AI",4,IF(Y12="AF",6,IF(Y12="AS",8,IF(Y12="AA",10,0))))+IF(Z12="AI",2,IF(Z12="AF",3,IF(Z12="AS",4,IF(Z12="AA",5,0))))) | AB12: =IF(COUNTA(X12:Z12)=0,"",SUM(G12,L12,Q12,V12,AA12)) | AC12: =IF((COUNTA(D12:F12)+COUNTA(I12:K12)+COUNTA(N12:P12)+COUNTA(S12:U12)+COUNTA(X12:Z12))<15,"",AB12) | AD12: =IF(AC12="","",IF(AC12<60,"AI",IF(AC12<76,"AF",IF(AC12<90,"AS","AA")))) | AE12: =IF(B12="","",IF(COUNTA(N12:P12)<3,"",IF(IF(COUNTA(X12:Z12)>0,AB12,IF(COUNTA(S12:U12)>0,W12,R12))<60,"Prioritario",IF(AND(COUNTA(X12:Z12)=3,AB12<=75),"Preventivo","")))) | AF12: =IF(AE12="","",IF(AE12="Prioritario","Acumulado actual menor de 60","Nota final entre 60 y 75")) | AG12: =IF(B12="","",IF(COUNTA(D12:F12)=3,1,0)+IF(COUNTA(I12:K12)=3,1,0)+IF(COUNTA(N12:P12)=3,1,0)+IF(COUNTA(S12:U12)=3,1,0)+IF(COUNTA(X12:Z12)=3,1,0))
A13: =IF(Configuración!B16="","",Configuración!A16) | B13: =IF(Configuración!B16="","",Configuración!B16) | C13: =IF(Configuración!B16="","",Configuración!C16) | G13: =IF(COUNTA(D13:F13)=0,"",IF(D13="AI",2,IF(D13="AF",3,IF(D13="AS",4,IF(D13="AA",5,0))))+IF(E13="AI",4,IF(E13="AF",6,IF(E13="AS",8,IF(E13="AA",10,0))))+IF(F13="AI",2,IF(F13="AF",3,IF(F13="AS",4,IF(F13="AA",5,0))))) | H13: =IF(COUNTA(D13:F13)=0,"",G13) | L13: =IF(COUNTA(I13:K13)=0,"",IF(I13="AI",2,IF(I13="AF",3,IF(I13="AS",4,IF(I13="AA",5,0))))+IF(J13="AI",4,IF(J13="AF",6,IF(J13="AS",8,IF(J13="AA",10,0))))+IF(K13="AI",2,IF(K13="AF",3,IF(K13="AS",4,IF(K13="AA",5,0))))) | M13: =IF(COUNTA(I13:K13)=0,"",SUM(G13,L13)) | Q13: =IF(COUNTA(N13:P13)=0,"",IF(N13="AI",2,IF(N13="AF",3,IF(N13="AS",4,IF(N13="AA",5,0))))+IF(O13="AI",4,IF(O13="AF",6,IF(O13="AS",8,IF(O13="AA",10,0))))+IF(P13="AI",2,IF(P13="AF",3,IF(P13="AS",4,IF(P13="AA",5,0))))) | R13: =IF(COUNTA(N13:P13)=0,"",SUM(G13,L13,Q13)) | V13: =IF(COUNTA(S13:U13)=0,"",IF(S13="AI",2,IF(S13="AF",3,IF(S13="AS",4,IF(S13="AA",5,0))))+IF(T13="AI",4,IF(T13="AF",6,IF(T13="AS",8,IF(T13="AA",10,0))))+IF(U13="AI",2,IF(U13="AF",3,IF(U13="AS",4,IF(U13="AA",5,0))))) | W13: =IF(COUNTA(S13:U13)=0,"",SUM(G13,L13,Q13,V13)) | AA13: =IF(COUNTA(X13:Z13)=0,"",IF(X13="AI",2,IF(X13="AF",3,IF(X13="AS",4,IF(X13="AA",5,0))))+IF(Y13="AI",4,IF(Y13="AF",6,IF(Y13="AS",8,IF(Y13="AA",10,0))))+IF(Z13="AI",2,IF(Z13="AF",3,IF(Z13="AS",4,IF(Z13="AA",5,0))))) | AB13: =IF(COUNTA(X13:Z13)=0,"",SUM(G13,L13,Q13,V13,AA13)) | AC13: =IF((COUNTA(D13:F13)+COUNTA(I13:K13)+COUNTA(N13:P13)+COUNTA(S13:U13)+COUNTA(X13:Z13))<15,"",AB13) | AD13: =IF(AC13="","",IF(AC13<60,"AI",IF(AC13<76,"AF",IF(AC13<90,"AS","AA")))) | AE13: =IF(B13="","",IF(COUNTA(N13:P13)<3,"",IF(IF(COUNTA(X13:Z13)>0,AB13,IF(COUNTA(S13:U13)>0,W13,R13))<60,"Prioritario",IF(AND(COUNTA(X13:Z13)=3,AB13<=75),"Preventivo","")))) | AF13: =IF(AE13="","",IF(AE13="Prioritario","Acumulado actual menor de 60","Nota final entre 60 y 75")) | AG13: =IF(B13="","",IF(COUNTA(D13:F13)=3,1,0)+IF(COUNTA(I13:K13)=3,1,0)+IF(COUNTA(N13:P13)=3,1,0)+IF(COUNTA(S13:U13)=3,1,0)+IF(COUNTA(X13:Z13)=3,1,0))
A14: =IF(Configuración!B17="","",Configuración!A17) | B14: =IF(Configuración!B17="","",Configuración!B17) | C14: =IF(Configuración!B17="","",Configuración!C17) | G14: =IF(COUNTA(D14:F14)=0,"",IF(D14="AI",2,IF(D14="AF",3,IF(D14="AS",4,IF(D14="AA",5,0))))+IF(E14="AI",4,IF(E14="AF",6,IF(E14="AS",8,IF(E14="AA",10,0))))+IF(F14="AI",2,IF(F14="AF",3,IF(F14="AS",4,IF(F14="AA",5,0))))) | H14: =IF(COUNTA(D14:F14)=0,"",G14) | L14: =IF(COUNTA(I14:K14)=0,"",IF(I14="AI",2,IF(I14="AF",3,IF(I14="AS",4,IF(I14="AA",5,0))))+IF(J14="AI",4,IF(J14="AF",6,IF(J14="AS",8,IF(J14="AA",10,0))))+IF(K14="AI",2,IF(K14="AF",3,IF(K14="AS",4,IF(K14="AA",5,0))))) | M14: =IF(COUNTA(I14:K14)=0,"",SUM(G14,L14)) | Q14: =IF(COUNTA(N14:P14)=0,"",IF(N14="AI",2,IF(N14="AF",3,IF(N14="AS",4,IF(N14="AA",5,0))))+IF(O14="AI",4,IF(O14="AF",6,IF(O14="AS",8,IF(O14="AA",10,0))))+IF(P14="AI",2,IF(P14="AF",3,IF(P14="AS",4,IF(P14="AA",5,0))))) | R14: =IF(COUNTA(N14:P14)=0,"",SUM(G14,L14,Q14)) | V14: =IF(COUNTA(S14:U14)=0,"",IF(S14="AI",2,IF(S14="AF",3,IF(S14="AS",4,IF(S14="AA",5,0))))+IF(T14="AI",4,IF(T14="AF",6,IF(T14="AS",8,IF(T14="AA",10,0))))+IF(U14="AI",2,IF(U14="AF",3,IF(U14="AS",4,IF(U14="AA",5,0))))) | W14: =IF(COUNTA(S14:U14)=0,"",SUM(G14,L14,Q14,V14)) | AA14: =IF(COUNTA(X14:Z14)=0,"",IF(X14="AI",2,IF(X14="AF",3,IF(X14="AS",4,IF(X14="AA",5,0))))+IF(Y14="AI",4,IF(Y14="AF",6,IF(Y14="AS",8,IF(Y14="AA",10,0))))+IF(Z14="AI",2,IF(Z14="AF",3,IF(Z14="AS",4,IF(Z14="AA",5,0))))) | AB14: =IF(COUNTA(X14:Z14)=0,"",SUM(G14,L14,Q14,V14,AA14)) | AC14: =IF((COUNTA(D14:F14)+COUNTA(I14:K14)+COUNTA(N14:P14)+COUNTA(S14:U14)+COUNTA(X14:Z14))<15,"",AB14) | AD14: =IF(AC14="","",IF(AC14<60,"AI",IF(AC14<76,"AF",IF(AC14<90,"AS","AA")))) | AE14: =IF(B14="","",IF(COUNTA(N14:P14)<3,"",IF(IF(COUNTA(X14:Z14)>0,AB14,IF(COUNTA(S14:U14)>0,W14,R14))<60,"Prioritario",IF(AND(COUNTA(X14:Z14)=3,AB14<=75),"Preventivo","")))) | AF14: =IF(AE14="","",IF(AE14="Prioritario","Acumulado actual menor de 60","Nota final entre 60 y 75")) | AG14: =IF(B14="","",IF(COUNTA(D14:F14)=3,1,0)+IF(COUNTA(I14:K14)=3,1,0)+IF(COUNTA(N14:P14)=3,1,0)+IF(COUNTA(S14:U14)=3,1,0)+IF(COUNTA(X14:Z14)=3,1,0))
A15: =IF(Configuración!B18="","",Configuración!A18) | B15: =IF(Configuración!B18="","",Configuración!B18) | C15: =IF(Configuración!B18="","",Configuración!C18) | G15: =IF(COUNTA(D15:F15)=0,"",IF(D15="AI",2,IF(D15="AF",3,IF(D15="AS",4,IF(D15="AA",5,0))))+IF(E15="AI",4,IF(E15="AF",6,IF(E15="AS",8,IF(E15="AA",10,0))))+IF(F15="AI",2,IF(F15="AF",3,IF(F15="AS",4,IF(F15="AA",5,0))))) | H15: =IF(COUNTA(D15:F15)=0,"",G15) | L15: =IF(COUNTA(I15:K15)=0,"",IF(I15="AI",2,IF(I15="AF",3,IF(I15="AS",4,IF(I15="AA",5,0))))+IF(J15="AI",4,IF(J15="AF",6,IF(J15="AS",8,IF(J15="AA",10,0))))+IF(K15="AI",2,IF(K15="AF",3,IF(K15="AS",4,IF(K15="AA",5,0))))) | M15: =IF(COUNTA(I15:K15)=0,"",SUM(G15,L15)) | Q15: =IF(COUNTA(N15:P15)=0,"",IF(N15="AI",2,IF(N15="AF",3,IF(N15="AS",4,IF(N15="AA",5,0))))+IF(O15="AI",4,IF(O15="AF",6,IF(O15="AS",8,IF(O15="AA",10,0))))+IF(P15="AI",2,IF(P15="AF",3,IF(P15="AS",4,IF(P15="AA",5,0))))) | R15: =IF(COUNTA(N15:P15)=0,"",SUM(G15,L15,Q15)) | V15: =IF(COUNTA(S15:U15)=0,"",IF(S15="AI",2,IF(S15="AF",3,IF(S15="AS",4,IF(S15="AA",5,0))))+IF(T15="AI",4,IF(T15="AF",6,IF(T15="AS",8,IF(T15="AA",10,0))))+IF(U15="AI",2,IF(U15="AF",3,IF(U15="AS",4,IF(U15="AA",5,0))))) | W15: =IF(COUNTA(S15:U15)=0,"",SUM(G15,L15,Q15,V15)) | AA15: =IF(COUNTA(X15:Z15)=0,"",IF(X15="AI",2,IF(X15="AF",3,IF(X15="AS",4,IF(X15="AA",5,0))))+IF(Y15="AI",4,IF(Y15="AF",6,IF(Y15="AS",8,IF(Y15="AA",10,0))))+IF(Z15="AI",2,IF(Z15="AF",3,IF(Z15="AS",4,IF(Z15="AA",5,0))))) | AB15: =IF(COUNTA(X15:Z15)=0,"",SUM(G15,L15,Q15,V15,AA15)) | AC15: =IF((COUNTA(D15:F15)+COUNTA(I15:K15)+COUNTA(N15:P15)+COUNTA(S15:U15)+COUNTA(X15:Z15))<15,"",AB15) | AD15: =IF(AC15="","",IF(AC15<60,"AI",IF(AC15<76,"AF",IF(AC15<90,"AS","AA")))) | AE15: =IF(B15="","",IF(COUNTA(N15:P15)<3,"",IF(IF(COUNTA(X15:Z15)>0,AB15,IF(COUNTA(S15:U15)>0,W15,R15))<60,"Prioritario",IF(AND(COUNTA(X15:Z15)=3,AB15<=75),"Preventivo","")))) | AF15: =IF(AE15="","",IF(AE15="Prioritario","Acumulado actual menor de 60","Nota final entre 60 y 75")) | AG15: =IF(B15="","",IF(COUNTA(D15:F15)=3,1,0)+IF(COUNTA(I15:K15)=3,1,0)+IF(COUNTA(N15:P15)=3,1,0)+IF(COUNTA(S15:U15)=3,1,0)+IF(COUNTA(X15:Z15)=3,1,0))
A16: =IF(Configuración!B19="","",Configuración!A19) | B16: =IF(Configuración!B19="","",Configuración!B19) | C16: =IF(Configuración!B19="","",Configuración!C19) | G16: =IF(COUNTA(D16:F16)=0,"",IF(D16="AI",2,IF(D16="AF",3,IF(D16="AS",4,IF(D16="AA",5,0))))+IF(E16="AI",4,IF(E16="AF",6,IF(E16="AS",8,IF(E16="AA",10,0))))+IF(F16="AI",2,IF(F16="AF",3,IF(F16="AS",4,IF(F16="AA",5,0))))) | H16: =IF(COUNTA(D16:F16)=0,"",G16) | L16: =IF(COUNTA(I16:K16)=0,"",IF(I16="AI",2,IF(I16="AF",3,IF(I16="AS",4,IF(I16="AA",5,0))))+IF(J16="AI",4,IF(J16="AF",6,IF(J16="AS",8,IF(J16="AA",10,0))))+IF(K16="AI",2,IF(K16="AF",3,IF(K16="AS",4,IF(K16="AA",5,0))))) | M16: =IF(COUNTA(I16:K16)=0,"",SUM(G16,L16)) | Q16: =IF(COUNTA(N16:P16)=0,"",IF(N16="AI",2,IF(N16="AF",3,IF(N16="AS",4,IF(N16="AA",5,0))))+IF(O16="AI",4,IF(O16="AF",6,IF(O16="AS",8,IF(O16="AA",10,0))))+IF(P16="AI",2,IF(P16="AF",3,IF(P16="AS",4,IF(P16="AA",5,0))))) | R16: =IF(COUNTA(N16:P16)=0,"",SUM(G16,L16,Q16)) | V16: =IF(COUNTA(S16:U16)=0,"",IF(S16="AI",2,IF(S16="AF",3,IF(S16="AS",4,IF(S16="AA",5,0))))+IF(T16="AI",4,IF(T16="AF",6,IF(T16="AS",8,IF(T16="AA",10,0))))+IF(U16="AI",2,IF(U16="AF",3,IF(U16="AS",4,IF(U16="AA",5,0))))) | W16: =IF(COUNTA(S16:U16)=0,"",SUM(G16,L16,Q16,V16)) | AA16: =IF(COUNTA(X16:Z16)=0,"",IF(X16="AI",2,IF(X16="AF",3,IF(X16="AS",4,IF(X16="AA",5,0))))+IF(Y16="AI",4,IF(Y16="AF",6,IF(Y16="AS",8,IF(Y16="AA",10,0))))+IF(Z16="AI",2,IF(Z16="AF",3,IF(Z16="AS",4,IF(Z16="AA",5,0))))) | AB16: =IF(COUNTA(X16:Z16)=0,"",SUM(G16,L16,Q16,V16,AA16)) | AC16: =IF((COUNTA(D16:F16)+COUNTA(I16:K16)+COUNTA(N16:P16)+COUNTA(S16:U16)+COUNTA(X16:Z16))<15,"",AB16) | AD16: =IF(AC16="","",IF(AC16<60,"AI",IF(AC16<76,"AF",IF(AC16<90,"AS","AA")))) | AE16: =IF(B16="","",IF(COUNTA(N16:P16)<3,"",IF(IF(COUNTA(X16:Z16)>0,AB16,IF(COUNTA(S16:U16)>0,W16,R16))<60,"Prioritario",IF(AND(COUNTA(X16:Z16)=3,AB16<=75),"Preventivo","")))) | AF16: =IF(AE16="","",IF(AE16="Prioritario","Acumulado actual menor de 60","Nota final entre 60 y 75")) | AG16: =IF(B16="","",IF(COUNTA(D16:F16)=3,1,0)+IF(COUNTA(I16:K16)=3,1,0)+IF(COUNTA(N16:P16)=3,1,0)+IF(COUNTA(S16:U16)=3,1,0)+IF(COUNTA(X16:Z16)=3,1,0))
A17: =IF(Configuración!B20="","",Configuración!A20) | B17: =IF(Configuración!B20="","",Configuración!B20) | C17: =IF(Configuración!B20="","",Configuración!C20) | G17: =IF(COUNTA(D17:F17)=0,"",IF(D17="AI",2,IF(D17="AF",3,IF(D17="AS",4,IF(D17="AA",5,0))))+IF(E17="AI",4,IF(E17="AF",6,IF(E17="AS",8,IF(E17="AA",10,0))))+IF(F17="AI",2,IF(F17="AF",3,IF(F17="AS",4,IF(F17="AA",5,0))))) | H17: =IF(COUNTA(D17:F17)=0,"",G17) | L17: =IF(COUNTA(I17:K17)=0,"",IF(I17="AI",2,IF(I17="AF",3,IF(I17="AS",4,IF(I17="AA",5,0))))+IF(J17="AI",4,IF(J17="AF",6,IF(J17="AS",8,IF(J17="AA",10,0))))+IF(K17="AI",2,IF(K17="AF",3,IF(K17="AS",4,IF(K17="AA",5,0))))) | M17: =IF(COUNTA(I17:K17)=0,"",SUM(G17,L17)) | Q17: =IF(COUNTA(N17:P17)=0,"",IF(N17="AI",2,IF(N17="AF",3,IF(N17="AS",4,IF(N17="AA",5,0))))+IF(O17="AI",4,IF(O17="AF",6,IF(O17="AS",8,IF(O17="AA",10,0))))+IF(P17="AI",2,IF(P17="AF",3,IF(P17="AS",4,IF(P17="AA",5,0))))) | R17: =IF(COUNTA(N17:P17)=0,"",SUM(G17,L17,Q17)) | V17: =IF(COUNTA(S17:U17)=0,"",IF(S17="AI",2,IF(S17="AF",3,IF(S17="AS",4,IF(S17="AA",5,0))))+IF(T17="AI",4,IF(T17="AF",6,IF(T17="AS",8,IF(T17="AA",10,0))))+IF(U17="AI",2,IF(U17="AF",3,IF(U17="AS",4,IF(U17="AA",5,0))))) | W17: =IF(COUNTA(S17:U17)=0,"",SUM(G17,L17,Q17,V17)) | AA17: =IF(COUNTA(X17:Z17)=0,"",IF(X17="AI",2,IF(X17="AF",3,IF(X17="AS",4,IF(X17="AA",5,0))))+IF(Y17="AI",4,IF(Y17="AF",6,IF(Y17="AS",8,IF(Y17="AA",10,0))))+IF(Z17="AI",2,IF(Z17="AF",3,IF(Z17="AS",4,IF(Z17="AA",5,0))))) | AB17: =IF(COUNTA(X17:Z17)=0,"",SUM(G17,L17,Q17,V17,AA17)) | AC17: =IF((COUNTA(D17:F17)+COUNTA(I17:K17)+COUNTA(N17:P17)+COUNTA(S17:U17)+COUNTA(X17:Z17))<15,"",AB17) | AD17: =IF(AC17="","",IF(AC17<60,"AI",IF(AC17<76,"AF",IF(AC17<90,"AS","AA")))) | AE17: =IF(B17="","",IF(COUNTA(N17:P17)<3,"",IF(IF(COUNTA(X17:Z17)>0,AB17,IF(COUNTA(S17:U17)>0,W17,R17))<60,"Prioritario",IF(AND(COUNTA(X17:Z17)=3,AB17<=75),"Preventivo","")))) | AF17: =IF(AE17="","",IF(AE17="Prioritario","Acumulado actual menor de 60","Nota final entre 60 y 75")) | AG17: =IF(B17="","",IF(COUNTA(D17:F17)=3,1,0)+IF(COUNTA(I17:K17)=3,1,0)+IF(COUNTA(N17:P17)=3,1,0)+IF(COUNTA(S17:U17)=3,1,0)+IF(COUNTA(X17:Z17)=3,1,0))
A18: =IF(Configuración!B21="","",Configuración!A21) | B18: =IF(Configuración!B21="","",Configuración!B21) | C18: =IF(Configuración!B21="","",Configuración!C21) | G18: =IF(COUNTA(D18:F18)=0,"",IF(D18="AI",2,IF(D18="AF",3,IF(D18="AS",4,IF(D18="AA",5,0))))+IF(E18="AI",4,IF(E18="AF",6,IF(E18="AS",8,IF(E18="AA",10,0))))+IF(F18="AI",2,IF(F18="AF",3,IF(F18="AS",4,IF(F18="AA",5,0))))) | H18: =IF(COUNTA(D18:F18)=0,"",G18) | L18: =IF(COUNTA(I18:K18)=0,"",IF(I18="AI",2,IF(I18="AF",3,IF(I18="AS",4,IF(I18="AA",5,0))))+IF(J18="AI",4,IF(J18="AF",6,IF(J18="AS",8,IF(J18="AA",10,0))))+IF(K18="AI",2,IF(K18="AF",3,IF(K18="AS",4,IF(K18="AA",5,0))))) | M18: =IF(COUNTA(I18:K18)=0,"",SUM(G18,L18)) | Q18: =IF(COUNTA(N18:P18)=0,"",IF(N18="AI",2,IF(N18="AF",3,IF(N18="AS",4,IF(N18="AA",5,0))))+IF(O18="AI",4,IF(O18="AF",6,IF(O18="AS",8,IF(O18="AA",10,0))))+IF(P18="AI",2,IF(P18="AF",3,IF(P18="AS",4,IF(P18="AA",5,0))))) | R18: =IF(COUNTA(N18:P18)=0,"",SUM(G18,L18,Q18)) | V18: =IF(COUNTA(S18:U18)=0,"",IF(S18="AI",2,IF(S18="AF",3,IF(S18="AS",4,IF(S18="AA",5,0))))+IF(T18="AI",4,IF(T18="AF",6,IF(T18="AS",8,IF(T18="AA",10,0))))+IF(U18="AI",2,IF(U18="AF",3,IF(U18="AS",4,IF(U18="AA",5,0))))) | W18: =IF(COUNTA(S18:U18)=0,"",SUM(G18,L18,Q18,V18)) | AA18: =IF(COUNTA(X18:Z18)=0,"",IF(X18="AI",2,IF(X18="AF",3,IF(X18="AS",4,IF(X18="AA",5,0))))+IF(Y18="AI",4,IF(Y18="AF",6,IF(Y18="AS",8,IF(Y18="AA",10,0))))+IF(Z18="AI",2,IF(Z18="AF",3,IF(Z18="AS",4,IF(Z18="AA",5,0))))) | AB18: =IF(COUNTA(X18:Z18)=0,"",SUM(G18,L18,Q18,V18,AA18)) | AC18: =IF((COUNTA(D18:F18)+COUNTA(I18:K18)+COUNTA(N18:P18)+COUNTA(S18:U18)+COUNTA(X18:Z18))<15,"",AB18) | AD18: =IF(AC18="","",IF(AC18<60,"AI",IF(AC18<76,"AF",IF(AC18<90,"AS","AA")))) | AE18: =IF(B18="","",IF(COUNTA(N18:P18)<3,"",IF(IF(COUNTA(X18:Z18)>0,AB18,IF(COUNTA(S18:U18)>0,W18,R18))<60,"Prioritario",IF(AND(COUNTA(X18:Z18)=3,AB18<=75),"Preventivo","")))) | AF18: =IF(AE18="","",IF(AE18="Prioritario","Acumulado actual menor de 60","Nota final entre 60 y 75")) | AG18: =IF(B18="","",IF(COUNTA(D18:F18)=3,1,0)+IF(COUNTA(I18:K18)=3,1,0)+IF(COUNTA(N18:P18)=3,1,0)+IF(COUNTA(S18:U18)=3,1,0)+IF(COUNTA(X18:Z18)=3,1,0))
A19: =IF(Configuración!B22="","",Configuración!A22) | B19: =IF(Configuración!B22="","",Configuración!B22) | C19: =IF(Configuración!B22="","",Configuración!C22) | G19: =IF(COUNTA(D19:F19)=0,"",IF(D19="AI",2,IF(D19="AF",3,IF(D19="AS",4,IF(D19="AA",5,0))))+IF(E19="AI",4,IF(E19="AF",6,IF(E19="AS",8,IF(E19="AA",10,0))))+IF(F19="AI",2,IF(F19="AF",3,IF(F19="AS",4,IF(F19="AA",5,0))))) | H19: =IF(COUNTA(D19:F19)=0,"",G19) | L19: =IF(COUNTA(I19:K19)=0,"",IF(I19="AI",2,IF(I19="AF",3,IF(I19="AS",4,IF(I19="AA",5,0))))+IF(J19="AI",4,IF(J19="AF",6,IF(J19="AS",8,IF(J19="AA",10,0))))+IF(K19="AI",2,IF(K19="AF",3,IF(K19="AS",4,IF(K19="AA",5,0))))) | M19: =IF(COUNTA(I19:K19)=0,"",SUM(G19,L19)) | Q19: =IF(COUNTA(N19:P19)=0,"",IF(N19="AI",2,IF(N19="AF",3,IF(N19="AS",4,IF(N19="AA",5,0))))+IF(O19="AI",4,IF(O19="AF",6,IF(O19="AS",8,IF(O19="AA",10,0))))+IF(P19="AI",2,IF(P19="AF",3,IF(P19="AS",4,IF(P19="AA",5,0))))) | R19: =IF(COUNTA(N19:P19)=0,"",SUM(G19,L19,Q19)) | V19: =IF(COUNTA(S19:U19)=0,"",IF(S19="AI",2,IF(S19="AF",3,IF(S19="AS",4,IF(S19="AA",5,0))))+IF(T19="AI",4,IF(T19="AF",6,IF(T19="AS",8,IF(T19="AA",10,0))))+IF(U19="AI",2,IF(U19="AF",3,IF(U19="AS",4,IF(U19="AA",5,0))))) | W19: =IF(COUNTA(S19:U19)=0,"",SUM(G19,L19,Q19,V19)) | AA19: =IF(COUNTA(X19:Z19)=0,"",IF(X19="AI",2,IF(X19="AF",3,IF(X19="AS",4,IF(X19="AA",5,0))))+IF(Y19="AI",4,IF(Y19="AF",6,IF(Y19="AS",8,IF(Y19="AA",10,0))))+IF(Z19="AI",2,IF(Z19="AF",3,IF(Z19="AS",4,IF(Z19="AA",5,0))))) | AB19: =IF(COUNTA(X19:Z19)=0,"",SUM(G19,L19,Q19,V19,AA19)) | AC19: =IF((COUNTA(D19:F19)+COUNTA(I19:K19)+COUNTA(N19:P19)+COUNTA(S19:U19)+COUNTA(X19:Z19))<15,"",AB19) | AD19: =IF(AC19="","",IF(AC19<60,"AI",IF(AC19<76,"AF",IF(AC19<90,"AS","AA")))) | AE19: =IF(B19="","",IF(COUNTA(N19:P19)<3,"",IF(IF(COUNTA(X19:Z19)>0,AB19,IF(COUNTA(S19:U19)>0,W19,R19))<60,"Prioritario",IF(AND(COUNTA(X19:Z19)=3,AB19<=75),"Preventivo","")))) | AF19: =IF(AE19="","",IF(AE19="Prioritario","Acumulado actual menor de 60","Nota final entre 60 y 75")) | AG19: =IF(B19="","",IF(COUNTA(D19:F19)=3,1,0)+IF(COUNTA(I19:K19)=3,1,0)+IF(COUNTA(N19:P19)=3,1,0)+IF(COUNTA(S19:U19)=3,1,0)+IF(COUNTA(X19:Z19)=3,1,0))
... A57: =IF(Configuración!B60="","",Configuración!A60) | B57: =IF(Configuración!B60="","",Configuración!B60) | C57: =IF(Configuración!B60="","",Configuración!C60) | G57: =IF(COUNTA(D57:F57)=0,"",IF(D57="AI",2,IF(D57="AF",3,IF(D57="AS",4,IF(D57="AA",5,0))))+IF(E57="AI",4,IF(E57="AF",6,IF(E57="AS",8,IF(E57="AA",10,0))))+IF(F57="AI",2,IF(F57="AF",3,IF(F57="AS",4,IF(F57="AA",5,0))))) | H57: =IF(COUNTA(D57:F57)=0,"",G57) | L57: =IF(COUNTA(I57:K57)=0,"",IF(I57="AI",2,IF(I57="AF",3,IF(I57="AS",4,IF(I57="AA",5,0))))+IF(J57="AI",4,IF(J57="AF",6,IF(J57="AS",8,IF(J57="AA",10,0))))+IF(K57="AI",2,IF(K57="AF",3,IF(K57="AS",4,IF(K57="AA",5,0))))) | M57: =IF(COUNTA(I57:K57)=0,"",SUM(G57,L57)) | Q57: =IF(COUNTA(N57:P57)=0,"",IF(N57="AI",2,IF(N57="AF",3,IF(N57="AS",4,IF(N57="AA",5,0))))+IF(O57="AI",4,IF(O57="AF",6,IF(O57="AS",8,IF(O57="AA",10,0))))+IF(P57="AI",2,IF(P57="AF",3,IF(P57="AS",4,IF(P57="AA",5,0))))) | R57: =IF(COUNTA(N57:P57)=0,"",SUM(G57,L57,Q57)) | V57: =IF(COUNTA(S57:U57)=0,"",IF(S57="AI",2,IF(S57="AF",3,IF(S57="AS",4,IF(S57="AA",5,0))))+IF(T57="AI",4,IF(T57="AF",6,IF(T57="AS",8,IF(T57="AA",10,0))))+IF(U57="AI",2,IF(U57="AF",3,IF(U57="AS",4,IF(U57="AA",5,0))))) | W57: =IF(COUNTA(S57:U57)=0,"",SUM(G57,L57,Q57,V57)) | AA57: =IF(COUNTA(X57:Z57)=0,"",IF(X57="AI",2,IF(X57="AF",3,IF(X57="AS",4,IF(X57="AA",5,0))))+IF(Y57="AI",4,IF(Y57="AF",6,IF(Y57="AS",8,IF(Y57="AA",10,0))))+IF(Z57="AI",2,IF(Z57="AF",3,IF(Z57="AS",4,IF(Z57="AA",5,0))))) | AB57: =IF(COUNTA(X57:Z57)=0,"",SUM(G57,L57,Q57,V57,AA57)) | AC57: =IF((COUNTA(D57:F57)+COUNTA(I57:K57)+COUNTA(N57:P57)+COUNTA(S57:U57)+COUNTA(X57:Z57))<15,"",AB57) | AD57: =IF(AC57="","",IF(AC57<60,"AI",IF(AC57<76,"AF",IF(AC57<90,"AS","AA")))) | AE57: =IF(B57="","",IF(COUNTA(N57:P57)<3,"",IF(IF(COUNTA(X57:Z57)>0,AB57,IF(COUNTA(S57:U57)>0,W57,R57))<60,"Prioritario",IF(AND(COUNTA(X57:Z57)=3,AB57<=75),"Preventivo","")))) | AF57: =IF(AE57="","",IF(AE57="Prioritario","Acumulado actual menor de 60","Nota final entre 60 y 75")) | AG57: =IF(B57="","",IF(COUNTA(D57:F57)=3,1,0)+IF(COUNTA(I57:K57)=3,1,0)+IF(COUNTA(N57:P57)=3,1,0)+IF(COUNTA(S57:U57)=3,1,0)+IF(COUNTA(X57:Z57)=3,1,0))
A61: ESTUDIANTES QUE REQUIEREN SEGUIMIENTO
A62: La alerta inicia al completar el Indicador 3 si el acumulado es menor de 60 y se recalcula con cada indicador posterior.
A64: Nº | B64: Estudiante | C64: Sexo | D64: Acumulado actual | E64: Nivel/Estado | F64: Seguimiento | G64: Motivo
A65: =IF($AE8="","",A8) | B65: =IF($AE8="","",B8&" "&C8) | C65: =IF($AE8="","",Configuración!E11) | D65: =IF($AE8="","",IF(COUNTA(X8:Z8)>0,AB8,IF(COUNTA(S8:U8)>0,W8,IF(COUNTA(N8:P8)>0,R8,"")))) | E65: =IF($AE8="","",IF(AC8<>"",AD8,"En proceso")) | F65: =IF($AE8="","",AE8) | G65: =IF($AE8="","",AF8)
A66: =IF($AE9="","",A9) | B66: =IF($AE9="","",B9&" "&C9) | C66: =IF($AE9="","",Configuración!E12) | D66: =IF($AE9="","",IF(COUNTA(X9:Z9)>0,AB9,IF(COUNTA(S9:U9)>0,W9,IF(COUNTA(N9:P9)>0,R9,"")))) | E66: =IF($AE9="","",IF(AC9<>"",AD9,"En proceso")) | F66: =IF($AE9="","",AE9) | G66: =IF($AE9="","",AF9)
A67: =IF($AE10="","",A10) | B67: =IF($AE10="","",B10&" "&C10) | C67: =IF($AE10="","",Configuración!E13) | D67: =IF($AE10="","",IF(COUNTA(X10:Z10)>0,AB10,IF(COUNTA(S10:U10)>0,W10,IF(COUNTA(N10:P10)>0,R10,"")))) | E67: =IF($AE10="","",IF(AC10<>"",AD10,"En proceso")) | F67: =IF($AE10="","",AE10) | G67: =IF($AE10="","",AF10)
A68: =IF($AE11="","",A11) | B68: =IF($AE11="","",B11&" "&C11) | C68: =IF($AE11="","",Configuración!E14) | D68: =IF($AE11="","",IF(COUNTA(X11:Z11)>0,AB11,IF(COUNTA(S11:U11)>0,W11,IF(COUNTA(N11:P11)>0,R11,"")))) | E68: =IF($AE11="","",IF(AC11<>"",AD11,"En proceso")) | F68: =IF($AE11="","",AE11) | G68: =IF($AE11="","",AF11)
A69: =IF($AE12="","",A12) | B69: =IF($AE12="","",B12&" "&C12) | C69: =IF($AE12="","",Configuración!E15) | D69: =IF($AE12="","",IF(COUNTA(X12:Z12)>0,AB12,IF(COUNTA(S12:U12)>0,W12,IF(COUNTA(N12:P12)>0,R12,"")))) | E69: =IF($AE12="","",IF(AC12<>"",AD12,"En proceso")) | F69: =IF($AE12="","",AE12) | G69: =IF($AE12="","",AF12)
A70: =IF($AE13="","",A13) | B70: =IF($AE13="","",B13&" "&C13) | C70: =IF($AE13="","",Configuración!E16) | D70: =IF($AE13="","",IF(COUNTA(X13:Z13)>0,AB13,IF(COUNTA(S13:U13)>0,W13,IF(COUNTA(N13:P13)>0,R13,"")))) | E70: =IF($AE13="","",IF(AC13<>"",AD13,"En proceso")) | F70: =IF($AE13="","",AE13) | G70: =IF($AE13="","",AF13)
A71: =IF($AE14="","",A14) | B71: =IF($AE14="","",B14&" "&C14) | C71: =IF($AE14="","",Configuración!E17) | D71: =IF($AE14="","",IF(COUNTA(X14:Z14)>0,AB14,IF(COUNTA(S14:U14)>0,W14,IF(COUNTA(N14:P14)>0,R14,"")))) | E71: =IF($AE14="","",IF(AC14<>"",AD14,"En proceso")) | F71: =IF($AE14="","",AE14) | G71: =IF($AE14="","",AF14)
A72: =IF($AE15="","",A15) | B72: =IF($AE15="","",B15&" "&C15) | C72: =IF($AE15="","",Configuración!E18) | D72: =IF($AE15="","",IF(COUNTA(X15:Z15)>0,AB15,IF(COUNTA(S15:U15)>0,W15,IF(COUNTA(N15:P15)>0,R15,"")))) | E72: =IF($AE15="","",IF(AC15<>"",AD15,"En proceso")) | F72: =IF($AE15="","",AE15) | G72: =IF($AE15="","",AF15)
A73: =IF($AE16="","",A16) | B73: =IF($AE16="","",B16&" "&C16) | C73: =IF($AE16="","",Configuración!E19) | D73: =IF($AE16="","",IF(COUNTA(X16:Z16)>0,AB16,IF(COUNTA(S16:U16)>0,W16,IF(COUNTA(N16:P16)>0,R16,"")))) | E73: =IF($AE16="","",IF(AC16<>"",AD16,"En proceso")) | F73: =IF($AE16="","",AE16) | G73: =IF($AE16="","",AF16)
A74: =IF($AE17="","",A17) | B74: =IF($AE17="","",B17&" "&C17) | C74: =IF($AE17="","",Configuración!E20) | D74: =IF($AE17="","",IF(COUNTA(X17:Z17)>0,AB17,IF(COUNTA(S17:U17)>0,W17,IF(COUNTA(N17:P17)>0,R17,"")))) | E74: =IF($AE17="","",IF(AC17<>"",AD17,"En proceso")) | F74: =IF($AE17="","",AE17) | G74: =IF($AE17="","",AF17)
A75: =IF($AE18="","",A18) | B75: =IF($AE18="","",B18&" "&C18) | C75: =IF($AE18="","",Configuración!E21) | D75: =IF($AE18="","",IF(COUNTA(X18:Z18)>0,AB18,IF(COUNTA(S18:U18)>0,W18,IF(COUNTA(N18:P18)>0,R18,"")))) | E75: =IF($AE18="","",IF(AC18<>"",AD18,"En proceso")) | F75: =IF($AE18="","",AE18) | G75: =IF($AE18="","",AF18)
A76: =IF($AE19="","",A19) | B76: =IF($AE19="","",B19&" "&C19) | C76: =IF($AE19="","",Configuración!E22) | D76: =IF($AE19="","",IF(COUNTA(X19:Z19)>0,AB19,IF(COUNTA(S19:U19)>0,W19,IF(COUNTA(N19:P19)>0,R19,"")))) | E76: =IF($AE19="","",IF(AC19<>"",AD19,"En proceso")) | F76: =IF($AE19="","",AE19) | G76: =IF($AE19="","",AF19)
... A114: =IF($AE57="","",A57) | B114: =IF($AE57="","",B57&" "&C57) | C114: =IF($AE57="","",Configuración!E60) | D114: =IF($AE57="","",IF(COUNTA(X57:Z57)>0,AB57,IF(COUNTA(S57:U57)>0,W57,IF(COUNTA(N57:P57)>0,R57,"")))) | E114: =IF($AE57="","",IF(AC57<>"",AD57,"En proceso")) | F114: =IF($AE57="","",AE57) | G114: =IF($AE57="","",AF57)
A116: Autoría: Ing. Reynaldo R Castillo Martínez · IngNovaR · contacto@ingnovar.com · https://ingnovar.com/

Sheet IV Corte
A1: IV CORTE — REGISTRO POR INDICADORES
A2: Docente | B2: Asignatura | C2: Grado / Sección
A3: =IF(Configuración!B4="","",Configuración!B4) | B3: =IF(Configuración!B5="","",Configuración!B5) | C3: =IF(Configuración!B6="","",Configuración!B6)
A5: Nº | B5: Nombres | C5: Apellidos | D5: Indicador 1 | I5: Indicador 2 | N5: Indicador 3 | S5: Indicador 4 | X5: Indicador 5 | AC5: Nota final | AD5: Nivel
D6: C1 | E6: C2 | F6: C3 | G6: Total | H6: Acumulado | I6: C1 | J6: C2 | K6: C3 | L6: Total | M6: Acumulado | N6: C1 | O6: C2 | P6: C3 | Q6: Total | R6: Acumulado | S6: C1 | T6: C2 | U6: C3 | V6: Total | W6: Acumulado | X6: C1 | Y6: C2 | Z6: C3 | AA6: Total | AB6: Acumulado
D7: 5 | E7: 10 | F7: 5 | G7: 20 | H7: 20 | I7: 5 | J7: 10 | K7: 5 | L7: 20 | M7: 40 | N7: 5 | O7: 10 | P7: 5 | Q7: 20 | R7: 60 | S7: 5 | T7: 10 | U7: 5 | V7: 20 | W7: 80 | X7: 5 | Y7: 10 | Z7: 5 | AA7: 20 | AB7: 100
A8: =IF(Configuración!B11="","",Configuración!A11) | B8: =IF(Configuración!B11="","",Configuración!B11) | C8: =IF(Configuración!B11="","",Configuración!C11) | G8: =IF(COUNTA(D8:F8)=0,"",IF(D8="AI",2,IF(D8="AF",3,IF(D8="AS",4,IF(D8="AA",5,0))))+IF(E8="AI",4,IF(E8="AF",6,IF(E8="AS",8,IF(E8="AA",10,0))))+IF(F8="AI",2,IF(F8="AF",3,IF(F8="AS",4,IF(F8="AA",5,0))))) | H8: =IF(COUNTA(D8:F8)=0,"",G8) | L8: =IF(COUNTA(I8:K8)=0,"",IF(I8="AI",2,IF(I8="AF",3,IF(I8="AS",4,IF(I8="AA",5,0))))+IF(J8="AI",4,IF(J8="AF",6,IF(J8="AS",8,IF(J8="AA",10,0))))+IF(K8="AI",2,IF(K8="AF",3,IF(K8="AS",4,IF(K8="AA",5,0))))) | M8: =IF(COUNTA(I8:K8)=0,"",SUM(G8,L8)) | Q8: =IF(COUNTA(N8:P8)=0,"",IF(N8="AI",2,IF(N8="AF",3,IF(N8="AS",4,IF(N8="AA",5,0))))+IF(O8="AI",4,IF(O8="AF",6,IF(O8="AS",8,IF(O8="AA",10,0))))+IF(P8="AI",2,IF(P8="AF",3,IF(P8="AS",4,IF(P8="AA",5,0))))) | R8: =IF(COUNTA(N8:P8)=0,"",SUM(G8,L8,Q8)) | V8: =IF(COUNTA(S8:U8)=0,"",IF(S8="AI",2,IF(S8="AF",3,IF(S8="AS",4,IF(S8="AA",5,0))))+IF(T8="AI",4,IF(T8="AF",6,IF(T8="AS",8,IF(T8="AA",10,0))))+IF(U8="AI",2,IF(U8="AF",3,IF(U8="AS",4,IF(U8="AA",5,0))))) | W8: =IF(COUNTA(S8:U8)=0,"",SUM(G8,L8,Q8,V8)) | AA8: =IF(COUNTA(X8:Z8)=0,"",IF(X8="AI",2,IF(X8="AF",3,IF(X8="AS",4,IF(X8="AA",5,0))))+IF(Y8="AI",4,IF(Y8="AF",6,IF(Y8="AS",8,IF(Y8="AA",10,0))))+IF(Z8="AI",2,IF(Z8="AF",3,IF(Z8="AS",4,IF(Z8="AA",5,0))))) | AB8: =IF(COUNTA(X8:Z8)=0,"",SUM(G8,L8,Q8,V8,AA8)) | AC8: =IF((COUNTA(D8:F8)+COUNTA(I8:K8)+COUNTA(N8:P8)+COUNTA(S8:U8)+COUNTA(X8:Z8))<15,"",AB8) | AD8: =IF(AC8="","",IF(AC8<60,"AI",IF(AC8<76,"AF",IF(AC8<90,"AS","AA")))) | AE8: =IF(B8="","",IF(COUNTA(N8:P8)<3,"",IF(IF(COUNTA(X8:Z8)>0,AB8,IF(COUNTA(S8:U8)>0,W8,R8))<60,"Prioritario",IF(AND(COUNTA(X8:Z8)=3,AB8<=75),"Preventivo","")))) | AF8: =IF(AE8="","",IF(AE8="Prioritario","Acumulado actual menor de 60","Nota final entre 60 y 75")) | AG8: =IF(B8="","",IF(COUNTA(D8:F8)=3,1,0)+IF(COUNTA(I8:K8)=3,1,0)+IF(COUNTA(N8:P8)=3,1,0)+IF(COUNTA(S8:U8)=3,1,0)+IF(COUNTA(X8:Z8)=3,1,0))
A9: =IF(Configuración!B12="","",Configuración!A12) | B9: =IF(Configuración!B12="","",Configuración!B12) | C9: =IF(Configuración!B12="","",Configuración!C12) | G9: =IF(COUNTA(D9:F9)=0,"",IF(D9="AI",2,IF(D9="AF",3,IF(D9="AS",4,IF(D9="AA",5,0))))+IF(E9="AI",4,IF(E9="AF",6,IF(E9="AS",8,IF(E9="AA",10,0))))+IF(F9="AI",2,IF(F9="AF",3,IF(F9="AS",4,IF(F9="AA",5,0))))) | H9: =IF(COUNTA(D9:F9)=0,"",G9) | L9: =IF(COUNTA(I9:K9)=0,"",IF(I9="AI",2,IF(I9="AF",3,IF(I9="AS",4,IF(I9="AA",5,0))))+IF(J9="AI",4,IF(J9="AF",6,IF(J9="AS",8,IF(J9="AA",10,0))))+IF(K9="AI",2,IF(K9="AF",3,IF(K9="AS",4,IF(K9="AA",5,0))))) | M9: =IF(COUNTA(I9:K9)=0,"",SUM(G9,L9)) | Q9: =IF(COUNTA(N9:P9)=0,"",IF(N9="AI",2,IF(N9="AF",3,IF(N9="AS",4,IF(N9="AA",5,0))))+IF(O9="AI",4,IF(O9="AF",6,IF(O9="AS",8,IF(O9="AA",10,0))))+IF(P9="AI",2,IF(P9="AF",3,IF(P9="AS",4,IF(P9="AA",5,0))))) | R9: =IF(COUNTA(N9:P9)=0,"",SUM(G9,L9,Q9)) | V9: =IF(COUNTA(S9:U9)=0,"",IF(S9="AI",2,IF(S9="AF",3,IF(S9="AS",4,IF(S9="AA",5,0))))+IF(T9="AI",4,IF(T9="AF",6,IF(T9="AS",8,IF(T9="AA",10,0))))+IF(U9="AI",2,IF(U9="AF",3,IF(U9="AS",4,IF(U9="AA",5,0))))) | W9: =IF(COUNTA(S9:U9)=0,"",SUM(G9,L9,Q9,V9)) | AA9: =IF(COUNTA(X9:Z9)=0,"",IF(X9="AI",2,IF(X9="AF",3,IF(X9="AS",4,IF(X9="AA",5,0))))+IF(Y9="AI",4,IF(Y9="AF",6,IF(Y9="AS",8,IF(Y9="AA",10,0))))+IF(Z9="AI",2,IF(Z9="AF",3,IF(Z9="AS",4,IF(Z9="AA",5,0))))) | AB9: =IF(COUNTA(X9:Z9)=0,"",SUM(G9,L9,Q9,V9,AA9)) | AC9: =IF((COUNTA(D9:F9)+COUNTA(I9:K9)+COUNTA(N9:P9)+COUNTA(S9:U9)+COUNTA(X9:Z9))<15,"",AB9) | AD9: =IF(AC9="","",IF(AC9<60,"AI",IF(AC9<76,"AF",IF(AC9<90,"AS","AA")))) | AE9: =IF(B9="","",IF(COUNTA(N9:P9)<3,"",IF(IF(COUNTA(X9:Z9)>0,AB9,IF(COUNTA(S9:U9)>0,W9,R9))<60,"Prioritario",IF(AND(COUNTA(X9:Z9)=3,AB9<=75),"Preventivo","")))) | AF9: =IF(AE9="","",IF(AE9="Prioritario","Acumulado actual menor de 60","Nota final entre 60 y 75")) | AG9: =IF(B9="","",IF(COUNTA(D9:F9)=3,1,0)+IF(COUNTA(I9:K9)=3,1,0)+IF(COUNTA(N9:P9)=3,1,0)+IF(COUNTA(S9:U9)=3,1,0)+IF(COUNTA(X9:Z9)=3,1,0))
A10: =IF(Configuración!B13="","",Configuración!A13) | B10: =IF(Configuración!B13="","",Configuración!B13) | C10: =IF(Configuración!B13="","",Configuración!C13) | G10: =IF(COUNTA(D10:F10)=0,"",IF(D10="AI",2,IF(D10="AF",3,IF(D10="AS",4,IF(D10="AA",5,0))))+IF(E10="AI",4,IF(E10="AF",6,IF(E10="AS",8,IF(E10="AA",10,0))))+IF(F10="AI",2,IF(F10="AF",3,IF(F10="AS",4,IF(F10="AA",5,0))))) | H10: =IF(COUNTA(D10:F10)=0,"",G10) | L10: =IF(COUNTA(I10:K10)=0,"",IF(I10="AI",2,IF(I10="AF",3,IF(I10="AS",4,IF(I10="AA",5,0))))+IF(J10="AI",4,IF(J10="AF",6,IF(J10="AS",8,IF(J10="AA",10,0))))+IF(K10="AI",2,IF(K10="AF",3,IF(K10="AS",4,IF(K10="AA",5,0))))) | M10: =IF(COUNTA(I10:K10)=0,"",SUM(G10,L10)) | Q10: =IF(COUNTA(N10:P10)=0,"",IF(N10="AI",2,IF(N10="AF",3,IF(N10="AS",4,IF(N10="AA",5,0))))+IF(O10="AI",4,IF(O10="AF",6,IF(O10="AS",8,IF(O10="AA",10,0))))+IF(P10="AI",2,IF(P10="AF",3,IF(P10="AS",4,IF(P10="AA",5,0))))) | R10: =IF(COUNTA(N10:P10)=0,"",SUM(G10,L10,Q10)) | V10: =IF(COUNTA(S10:U10)=0,"",IF(S10="AI",2,IF(S10="AF",3,IF(S10="AS",4,IF(S10="AA",5,0))))+IF(T10="AI",4,IF(T10="AF",6,IF(T10="AS",8,IF(T10="AA",10,0))))+IF(U10="AI",2,IF(U10="AF",3,IF(U10="AS",4,IF(U10="AA",5,0))))) | W10: =IF(COUNTA(S10:U10)=0,"",SUM(G10,L10,Q10,V10)) | AA10: =IF(COUNTA(X10:Z10)=0,"",IF(X10="AI",2,IF(X10="AF",3,IF(X10="AS",4,IF(X10="AA",5,0))))+IF(Y10="AI",4,IF(Y10="AF",6,IF(Y10="AS",8,IF(Y10="AA",10,0))))+IF(Z10="AI",2,IF(Z10="AF",3,IF(Z10="AS",4,IF(Z10="AA",5,0))))) | AB10: =IF(COUNTA(X10:Z10)=0,"",SUM(G10,L10,Q10,V10,AA10)) | AC10: =IF((COUNTA(D10:F10)+COUNTA(I10:K10)+COUNTA(N10:P10)+COUNTA(S10:U10)+COUNTA(X10:Z10))<15,"",AB10) | AD10: =IF(AC10="","",IF(AC10<60,"AI",IF(AC10<76,"AF",IF(AC10<90,"AS","AA")))) | AE10: =IF(B10="","",IF(COUNTA(N10:P10)<3,"",IF(IF(COUNTA(X10:Z10)>0,AB10,IF(COUNTA(S10:U10)>0,W10,R10))<60,"Prioritario",IF(AND(COUNTA(X10:Z10)=3,AB10<=75),"Preventivo","")))) | AF10: =IF(AE10="","",IF(AE10="Prioritario","Acumulado actual menor de 60","Nota final entre 60 y 75")) | AG10: =IF(B10="","",IF(COUNTA(D10:F10)=3,1,0)+IF(COUNTA(I10:K10)=3,1,0)+IF(COUNTA(N10:P10)=3,1,0)+IF(COUNTA(S10:U10)=3,1,0)+IF(COUNTA(X10:Z10)=3,1,0))
A11: =IF(Configuración!B14="","",Configuración!A14) | B11: =IF(Configuración!B14="","",Configuración!B14) | C11: =IF(Configuración!B14="","",Configuración!C14) | G11: =IF(COUNTA(D11:F11)=0,"",IF(D11="AI",2,IF(D11="AF",3,IF(D11="AS",4,IF(D11="AA",5,0))))+IF(E11="AI",4,IF(E11="AF",6,IF(E11="AS",8,IF(E11="AA",10,0))))+IF(F11="AI",2,IF(F11="AF",3,IF(F11="AS",4,IF(F11="AA",5,0))))) | H11: =IF(COUNTA(D11:F11)=0,"",G11) | L11: =IF(COUNTA(I11:K11)=0,"",IF(I11="AI",2,IF(I11="AF",3,IF(I11="AS",4,IF(I11="AA",5,0))))+IF(J11="AI",4,IF(J11="AF",6,IF(J11="AS",8,IF(J11="AA",10,0))))+IF(K11="AI",2,IF(K11="AF",3,IF(K11="AS",4,IF(K11="AA",5,0))))) | M11: =IF(COUNTA(I11:K11)=0,"",SUM(G11,L11)) | Q11: =IF(COUNTA(N11:P11)=0,"",IF(N11="AI",2,IF(N11="AF",3,IF(N11="AS",4,IF(N11="AA",5,0))))+IF(O11="AI",4,IF(O11="AF",6,IF(O11="AS",8,IF(O11="AA",10,0))))+IF(P11="AI",2,IF(P11="AF",3,IF(P11="AS",4,IF(P11="AA",5,0))))) | R11: =IF(COUNTA(N11:P11)=0,"",SUM(G11,L11,Q11)) | V11: =IF(COUNTA(S11:U11)=0,"",IF(S11="AI",2,IF(S11="AF",3,IF(S11="AS",4,IF(S11="AA",5,0))))+IF(T11="AI",4,IF(T11="AF",6,IF(T11="AS",8,IF(T11="AA",10,0))))+IF(U11="AI",2,IF(U11="AF",3,IF(U11="AS",4,IF(U11="AA",5,0))))) | W11: =IF(COUNTA(S11:U11)=0,"",SUM(G11,L11,Q11,V11)) | AA11: =IF(COUNTA(X11:Z11)=0,"",IF(X11="AI",2,IF(X11="AF",3,IF(X11="AS",4,IF(X11="AA",5,0))))+IF(Y11="AI",4,IF(Y11="AF",6,IF(Y11="AS",8,IF(Y11="AA",10,0))))+IF(Z11="AI",2,IF(Z11="AF",3,IF(Z11="AS",4,IF(Z11="AA",5,0))))) | AB11: =IF(COUNTA(X11:Z11)=0,"",SUM(G11,L11,Q11,V11,AA11)) | AC11: =IF((COUNTA(D11:F11)+COUNTA(I11:K11)+COUNTA(N11:P11)+COUNTA(S11:U11)+COUNTA(X11:Z11))<15,"",AB11) | AD11: =IF(AC11="","",IF(AC11<60,"AI",IF(AC11<76,"AF",IF(AC11<90,"AS","AA")))) | AE11: =IF(B11="","",IF(COUNTA(N11:P11)<3,"",IF(IF(COUNTA(X11:Z11)>0,AB11,IF(COUNTA(S11:U11)>0,W11,R11))<60,"Prioritario",IF(AND(COUNTA(X11:Z11)=3,AB11<=75),"Preventivo","")))) | AF11: =IF(AE11="","",IF(AE11="Prioritario","Acumulado actual menor de 60","Nota final entre 60 y 75")) | AG11: =IF(B11="","",IF(COUNTA(D11:F11)=3,1,0)+IF(COUNTA(I11:K11)=3,1,0)+IF(COUNTA(N11:P11)=3,1,0)+IF(COUNTA(S11:U11)=3,1,0)+IF(COUNTA(X11:Z11)=3,1,0))
A12: =IF(Configuración!B15="","",Configuración!A15) | B12: =IF(Configuración!B15="","",Configuración!B15) | C12: =IF(Configuración!B15="","",Configuración!C15) | G12: =IF(COUNTA(D12:F12)=0,"",IF(D12="AI",2,IF(D12="AF",3,IF(D12="AS",4,IF(D12="AA",5,0))))+IF(E12="AI",4,IF(E12="AF",6,IF(E12="AS",8,IF(E12="AA",10,0))))+IF(F12="AI",2,IF(F12="AF",3,IF(F12="AS",4,IF(F12="AA",5,0))))) | H12: =IF(COUNTA(D12:F12)=0,"",G12) | L12: =IF(COUNTA(I12:K12)=0,"",IF(I12="AI",2,IF(I12="AF",3,IF(I12="AS",4,IF(I12="AA",5,0))))+IF(J12="AI",4,IF(J12="AF",6,IF(J12="AS",8,IF(J12="AA",10,0))))+IF(K12="AI",2,IF(K12="AF",3,IF(K12="AS",4,IF(K12="AA",5,0))))) | M12: =IF(COUNTA(I12:K12)=0,"",SUM(G12,L12)) | Q12: =IF(COUNTA(N12:P12)=0,"",IF(N12="AI",2,IF(N12="AF",3,IF(N12="AS",4,IF(N12="AA",5,0))))+IF(O12="AI",4,IF(O12="AF",6,IF(O12="AS",8,IF(O12="AA",10,0))))+IF(P12="AI",2,IF(P12="AF",3,IF(P12="AS",4,IF(P12="AA",5,0))))) | R12: =IF(COUNTA(N12:P12)=0,"",SUM(G12,L12,Q12)) | V12: =IF(COUNTA(S12:U12)=0,"",IF(S12="AI",2,IF(S12="AF",3,IF(S12="AS",4,IF(S12="AA",5,0))))+IF(T12="AI",4,IF(T12="AF",6,IF(T12="AS",8,IF(T12="AA",10,0))))+IF(U12="AI",2,IF(U12="AF",3,IF(U12="AS",4,IF(U12="AA",5,0))))) | W12: =IF(COUNTA(S12:U12)=0,"",SUM(G12,L12,Q12,V12)) | AA12: =IF(COUNTA(X12:Z12)=0,"",IF(X12="AI",2,IF(X12="AF",3,IF(X12="AS",4,IF(X12="AA",5,0))))+IF(Y12="AI",4,IF(Y12="AF",6,IF(Y12="AS",8,IF(Y12="AA",10,0))))+IF(Z12="AI",2,IF(Z12="AF",3,IF(Z12="AS",4,IF(Z12="AA",5,0))))) | AB12: =IF(COUNTA(X12:Z12)=0,"",SUM(G12,L12,Q12,V12,AA12)) | AC12: =IF((COUNTA(D12:F12)+COUNTA(I12:K12)+COUNTA(N12:P12)+COUNTA(S12:U12)+COUNTA(X12:Z12))<15,"",AB12) | AD12: =IF(AC12="","",IF(AC12<60,"AI",IF(AC12<76,"AF",IF(AC12<90,"AS","AA")))) | AE12: =IF(B12="","",IF(COUNTA(N12:P12)<3,"",IF(IF(COUNTA(X12:Z12)>0,AB12,IF(COUNTA(S12:U12)>0,W12,R12))<60,"Prioritario",IF(AND(COUNTA(X12:Z12)=3,AB12<=75),"Preventivo","")))) | AF12: =IF(AE12="","",IF(AE12="Prioritario","Acumulado actual menor de 60","Nota final entre 60 y 75")) | AG12: =IF(B12="","",IF(COUNTA(D12:F12)=3,1,0)+IF(COUNTA(I12:K12)=3,1,0)+IF(COUNTA(N12:P12)=3,1,0)+IF(COUNTA(S12:U12)=3,1,0)+IF(COUNTA(X12:Z12)=3,1,0))
A13: =IF(Configuración!B16="","",Configuración!A16) | B13: =IF(Configuración!B16="","",Configuración!B16) | C13: =IF(Configuración!B16="","",Configuración!C16) | G13: =IF(COUNTA(D13:F13)=0,"",IF(D13="AI",2,IF(D13="AF",3,IF(D13="AS",4,IF(D13="AA",5,0))))+IF(E13="AI",4,IF(E13="AF",6,IF(E13="AS",8,IF(E13="AA",10,0))))+IF(F13="AI",2,IF(F13="AF",3,IF(F13="AS",4,IF(F13="AA",5,0))))) | H13: =IF(COUNTA(D13:F13)=0,"",G13) | L13: =IF(COUNTA(I13:K13)=0,"",IF(I13="AI",2,IF(I13="AF",3,IF(I13="AS",4,IF(I13="AA",5,0))))+IF(J13="AI",4,IF(J13="AF",6,IF(J13="AS",8,IF(J13="AA",10,0))))+IF(K13="AI",2,IF(K13="AF",3,IF(K13="AS",4,IF(K13="AA",5,0))))) | M13: =IF(COUNTA(I13:K13)=0,"",SUM(G13,L13)) | Q13: =IF(COUNTA(N13:P13)=0,"",IF(N13="AI",2,IF(N13="AF",3,IF(N13="AS",4,IF(N13="AA",5,0))))+IF(O13="AI",4,IF(O13="AF",6,IF(O13="AS",8,IF(O13="AA",10,0))))+IF(P13="AI",2,IF(P13="AF",3,IF(P13="AS",4,IF(P13="AA",5,0))))) | R13: =IF(COUNTA(N13:P13)=0,"",SUM(G13,L13,Q13)) | V13: =IF(COUNTA(S13:U13)=0,"",IF(S13="AI",2,IF(S13="AF",3,IF(S13="AS",4,IF(S13="AA",5,0))))+IF(T13="AI",4,IF(T13="AF",6,IF(T13="AS",8,IF(T13="AA",10,0))))+IF(U13="AI",2,IF(U13="AF",3,IF(U13="AS",4,IF(U13="AA",5,0))))) | W13: =IF(COUNTA(S13:U13)=0,"",SUM(G13,L13,Q13,V13)) | AA13: =IF(COUNTA(X13:Z13)=0,"",IF(X13="AI",2,IF(X13="AF",3,IF(X13="AS",4,IF(X13="AA",5,0))))+IF(Y13="AI",4,IF(Y13="AF",6,IF(Y13="AS",8,IF(Y13="AA",10,0))))+IF(Z13="AI",2,IF(Z13="AF",3,IF(Z13="AS",4,IF(Z13="AA",5,0))))) | AB13: =IF(COUNTA(X13:Z13)=0,"",SUM(G13,L13,Q13,V13,AA13)) | AC13: =IF((COUNTA(D13:F13)+COUNTA(I13:K13)+COUNTA(N13:P13)+COUNTA(S13:U13)+COUNTA(X13:Z13))<15,"",AB13) | AD13: =IF(AC13="","",IF(AC13<60,"AI",IF(AC13<76,"AF",IF(AC13<90,"AS","AA")))) | AE13: =IF(B13="","",IF(COUNTA(N13:P13)<3,"",IF(IF(COUNTA(X13:Z13)>0,AB13,IF(COUNTA(S13:U13)>0,W13,R13))<60,"Prioritario",IF(AND(COUNTA(X13:Z13)=3,AB13<=75),"Preventivo","")))) | AF13: =IF(AE13="","",IF(AE13="Prioritario","Acumulado actual menor de 60","Nota final entre 60 y 75")) | AG13: =IF(B13="","",IF(COUNTA(D13:F13)=3,1,0)+IF(COUNTA(I13:K13)=3,1,0)+IF(COUNTA(N13:P13)=3,1,0)+IF(COUNTA(S13:U13)=3,1,0)+IF(COUNTA(X13:Z13)=3,1,0))
A14: =IF(Configuración!B17="","",Configuración!A17) | B14: =IF(Configuración!B17="","",Configuración!B17) | C14: =IF(Configuración!B17="","",Configuración!C17) | G14: =IF(COUNTA(D14:F14)=0,"",IF(D14="AI",2,IF(D14="AF",3,IF(D14="AS",4,IF(D14="AA",5,0))))+IF(E14="AI",4,IF(E14="AF",6,IF(E14="AS",8,IF(E14="AA",10,0))))+IF(F14="AI",2,IF(F14="AF",3,IF(F14="AS",4,IF(F14="AA",5,0))))) | H14: =IF(COUNTA(D14:F14)=0,"",G14) | L14: =IF(COUNTA(I14:K14)=0,"",IF(I14="AI",2,IF(I14="AF",3,IF(I14="AS",4,IF(I14="AA",5,0))))+IF(J14="AI",4,IF(J14="AF",6,IF(J14="AS",8,IF(J14="AA",10,0))))+IF(K14="AI",2,IF(K14="AF",3,IF(K14="AS",4,IF(K14="AA",5,0))))) | M14: =IF(COUNTA(I14:K14)=0,"",SUM(G14,L14)) | Q14: =IF(COUNTA(N14:P14)=0,"",IF(N14="AI",2,IF(N14="AF",3,IF(N14="AS",4,IF(N14="AA",5,0))))+IF(O14="AI",4,IF(O14="AF",6,IF(O14="AS",8,IF(O14="AA",10,0))))+IF(P14="AI",2,IF(P14="AF",3,IF(P14="AS",4,IF(P14="AA",5,0))))) | R14: =IF(COUNTA(N14:P14)=0,"",SUM(G14,L14,Q14)) | V14: =IF(COUNTA(S14:U14)=0,"",IF(S14="AI",2,IF(S14="AF",3,IF(S14="AS",4,IF(S14="AA",5,0))))+IF(T14="AI",4,IF(T14="AF",6,IF(T14="AS",8,IF(T14="AA",10,0))))+IF(U14="AI",2,IF(U14="AF",3,IF(U14="AS",4,IF(U14="AA",5,0))))) | W14: =IF(COUNTA(S14:U14)=0,"",SUM(G14,L14,Q14,V14)) | AA14: =IF(COUNTA(X14:Z14)=0,"",IF(X14="AI",2,IF(X14="AF",3,IF(X14="AS",4,IF(X14="AA",5,0))))+IF(Y14="AI",4,IF(Y14="AF",6,IF(Y14="AS",8,IF(Y14="AA",10,0))))+IF(Z14="AI",2,IF(Z14="AF",3,IF(Z14="AS",4,IF(Z14="AA",5,0))))) | AB14: =IF(COUNTA(X14:Z14)=0,"",SUM(G14,L14,Q14,V14,AA14)) | AC14: =IF((COUNTA(D14:F14)+COUNTA(I14:K14)+COUNTA(N14:P14)+COUNTA(S14:U14)+COUNTA(X14:Z14))<15,"",AB14) | AD14: =IF(AC14="","",IF(AC14<60,"AI",IF(AC14<76,"AF",IF(AC14<90,"AS","AA")))) | AE14: =IF(B14="","",IF(COUNTA(N14:P14)<3,"",IF(IF(COUNTA(X14:Z14)>0,AB14,IF(COUNTA(S14:U14)>0,W14,R14))<60,"Prioritario",IF(AND(COUNTA(X14:Z14)=3,AB14<=75),"Preventivo","")))) | AF14: =IF(AE14="","",IF(AE14="Prioritario","Acumulado actual menor de 60","Nota final entre 60 y 75")) | AG14: =IF(B14="","",IF(COUNTA(D14:F14)=3,1,0)+IF(COUNTA(I14:K14)=3,1,0)+IF(COUNTA(N14:P14)=3,1,0)+IF(COUNTA(S14:U14)=3,1,0)+IF(COUNTA(X14:Z14)=3,1,0))
A15: =IF(Configuración!B18="","",Configuración!A18) | B15: =IF(Configuración!B18="","",Configuración!B18) | C15: =IF(Configuración!B18="","",Configuración!C18) | G15: =IF(COUNTA(D15:F15)=0,"",IF(D15="AI",2,IF(D15="AF",3,IF(D15="AS",4,IF(D15="AA",5,0))))+IF(E15="AI",4,IF(E15="AF",6,IF(E15="AS",8,IF(E15="AA",10,0))))+IF(F15="AI",2,IF(F15="AF",3,IF(F15="AS",4,IF(F15="AA",5,0))))) | H15: =IF(COUNTA(D15:F15)=0,"",G15) | L15: =IF(COUNTA(I15:K15)=0,"",IF(I15="AI",2,IF(I15="AF",3,IF(I15="AS",4,IF(I15="AA",5,0))))+IF(J15="AI",4,IF(J15="AF",6,IF(J15="AS",8,IF(J15="AA",10,0))))+IF(K15="AI",2,IF(K15="AF",3,IF(K15="AS",4,IF(K15="AA",5,0))))) | M15: =IF(COUNTA(I15:K15)=0,"",SUM(G15,L15)) | Q15: =IF(COUNTA(N15:P15)=0,"",IF(N15="AI",2,IF(N15="AF",3,IF(N15="AS",4,IF(N15="AA",5,0))))+IF(O15="AI",4,IF(O15="AF",6,IF(O15="AS",8,IF(O15="AA",10,0))))+IF(P15="AI",2,IF(P15="AF",3,IF(P15="AS",4,IF(P15="AA",5,0))))) | R15: =IF(COUNTA(N15:P15)=0,"",SUM(G15,L15,Q15)) | V15: =IF(COUNTA(S15:U15)=0,"",IF(S15="AI",2,IF(S15="AF",3,IF(S15="AS",4,IF(S15="AA",5,0))))+IF(T15="AI",4,IF(T15="AF",6,IF(T15="AS",8,IF(T15="AA",10,0))))+IF(U15="AI",2,IF(U15="AF",3,IF(U15="AS",4,IF(U15="AA",5,0))))) | W15: =IF(COUNTA(S15:U15)=0,"",SUM(G15,L15,Q15,V15)) | AA15: =IF(COUNTA(X15:Z15)=0,"",IF(X15="AI",2,IF(X15="AF",3,IF(X15="AS",4,IF(X15="AA",5,0))))+IF(Y15="AI",4,IF(Y15="AF",6,IF(Y15="AS",8,IF(Y15="AA",10,0))))+IF(Z15="AI",2,IF(Z15="AF",3,IF(Z15="AS",4,IF(Z15="AA",5,0))))) | AB15: =IF(COUNTA(X15:Z15)=0,"",SUM(G15,L15,Q15,V15,AA15)) | AC15: =IF((COUNTA(D15:F15)+COUNTA(I15:K15)+COUNTA(N15:P15)+COUNTA(S15:U15)+COUNTA(X15:Z15))<15,"",AB15) | AD15: =IF(AC15="","",IF(AC15<60,"AI",IF(AC15<76,"AF",IF(AC15<90,"AS","AA")))) | AE15: =IF(B15="","",IF(COUNTA(N15:P15)<3,"",IF(IF(COUNTA(X15:Z15)>0,AB15,IF(COUNTA(S15:U15)>0,W15,R15))<60,"Prioritario",IF(AND(COUNTA(X15:Z15)=3,AB15<=75),"Preventivo","")))) | AF15: =IF(AE15="","",IF(AE15="Prioritario","Acumulado actual menor de 60","Nota final entre 60 y 75")) | AG15: =IF(B15="","",IF(COUNTA(D15:F15)=3,1,0)+IF(COUNTA(I15:K15)=3,1,0)+IF(COUNTA(N15:P15)=3,1,0)+IF(COUNTA(S15:U15)=3,1,0)+IF(COUNTA(X15:Z15)=3,1,0))
A16: =IF(Configuración!B19="","",Configuración!A19) | B16: =IF(Configuración!B19="","",Configuración!B19) | C16: =IF(Configuración!B19="","",Configuración!C19) | G16: =IF(COUNTA(D16:F16)=0,"",IF(D16="AI",2,IF(D16="AF",3,IF(D16="AS",4,IF(D16="AA",5,0))))+IF(E16="AI",4,IF(E16="AF",6,IF(E16="AS",8,IF(E16="AA",10,0))))+IF(F16="AI",2,IF(F16="AF",3,IF(F16="AS",4,IF(F16="AA",5,0))))) | H16: =IF(COUNTA(D16:F16)=0,"",G16) | L16: =IF(COUNTA(I16:K16)=0,"",IF(I16="AI",2,IF(I16="AF",3,IF(I16="AS",4,IF(I16="AA",5,0))))+IF(J16="AI",4,IF(J16="AF",6,IF(J16="AS",8,IF(J16="AA",10,0))))+IF(K16="AI",2,IF(K16="AF",3,IF(K16="AS",4,IF(K16="AA",5,0))))) | M16: =IF(COUNTA(I16:K16)=0,"",SUM(G16,L16)) | Q16: =IF(COUNTA(N16:P16)=0,"",IF(N16="AI",2,IF(N16="AF",3,IF(N16="AS",4,IF(N16="AA",5,0))))+IF(O16="AI",4,IF(O16="AF",6,IF(O16="AS",8,IF(O16="AA",10,0))))+IF(P16="AI",2,IF(P16="AF",3,IF(P16="AS",4,IF(P16="AA",5,0))))) | R16: =IF(COUNTA(N16:P16)=0,"",SUM(G16,L16,Q16)) | V16: =IF(COUNTA(S16:U16)=0,"",IF(S16="AI",2,IF(S16="AF",3,IF(S16="AS",4,IF(S16="AA",5,0))))+IF(T16="AI",4,IF(T16="AF",6,IF(T16="AS",8,IF(T16="AA",10,0))))+IF(U16="AI",2,IF(U16="AF",3,IF(U16="AS",4,IF(U16="AA",5,0))))) | W16: =IF(COUNTA(S16:U16)=0,"",SUM(G16,L16,Q16,V16)) | AA16: =IF(COUNTA(X16:Z16)=0,"",IF(X16="AI",2,IF(X16="AF",3,IF(X16="AS",4,IF(X16="AA",5,0))))+IF(Y16="AI",4,IF(Y16="AF",6,IF(Y16="AS",8,IF(Y16="AA",10,0))))+IF(Z16="AI",2,IF(Z16="AF",3,IF(Z16="AS",4,IF(Z16="AA",5,0))))) | AB16: =IF(COUNTA(X16:Z16)=0,"",SUM(G16,L16,Q16,V16,AA16)) | AC16: =IF((COUNTA(D16:F16)+COUNTA(I16:K16)+COUNTA(N16:P16)+COUNTA(S16:U16)+COUNTA(X16:Z16))<15,"",AB16) | AD16: =IF(AC16="","",IF(AC16<60,"AI",IF(AC16<76,"AF",IF(AC16<90,"AS","AA")))) | AE16: =IF(B16="","",IF(COUNTA(N16:P16)<3,"",IF(IF(COUNTA(X16:Z16)>0,AB16,IF(COUNTA(S16:U16)>0,W16,R16))<60,"Prioritario",IF(AND(COUNTA(X16:Z16)=3,AB16<=75),"Preventivo","")))) | AF16: =IF(AE16="","",IF(AE16="Prioritario","Acumulado actual menor de 60","Nota final entre 60 y 75")) | AG16: =IF(B16="","",IF(COUNTA(D16:F16)=3,1,0)+IF(COUNTA(I16:K16)=3,1,0)+IF(COUNTA(N16:P16)=3,1,0)+IF(COUNTA(S16:U16)=3,1,0)+IF(COUNTA(X16:Z16)=3,1,0))
A17: =IF(Configuración!B20="","",Configuración!A20) | B17: =IF(Configuración!B20="","",Configuración!B20) | C17: =IF(Configuración!B20="","",Configuración!C20) | G17: =IF(COUNTA(D17:F17)=0,"",IF(D17="AI",2,IF(D17="AF",3,IF(D17="AS",4,IF(D17="AA",5,0))))+IF(E17="AI",4,IF(E17="AF",6,IF(E17="AS",8,IF(E17="AA",10,0))))+IF(F17="AI",2,IF(F17="AF",3,IF(F17="AS",4,IF(F17="AA",5,0))))) | H17: =IF(COUNTA(D17:F17)=0,"",G17) | L17: =IF(COUNTA(I17:K17)=0,"",IF(I17="AI",2,IF(I17="AF",3,IF(I17="AS",4,IF(I17="AA",5,0))))+IF(J17="AI",4,IF(J17="AF",6,IF(J17="AS",8,IF(J17="AA",10,0))))+IF(K17="AI",2,IF(K17="AF",3,IF(K17="AS",4,IF(K17="AA",5,0))))) | M17: =IF(COUNTA(I17:K17)=0,"",SUM(G17,L17)) | Q17: =IF(COUNTA(N17:P17)=0,"",IF(N17="AI",2,IF(N17="AF",3,IF(N17="AS",4,IF(N17="AA",5,0))))+IF(O17="AI",4,IF(O17="AF",6,IF(O17="AS",8,IF(O17="AA",10,0))))+IF(P17="AI",2,IF(P17="AF",3,IF(P17="AS",4,IF(P17="AA",5,0))))) | R17: =IF(COUNTA(N17:P17)=0,"",SUM(G17,L17,Q17)) | V17: =IF(COUNTA(S17:U17)=0,"",IF(S17="AI",2,IF(S17="AF",3,IF(S17="AS",4,IF(S17="AA",5,0))))+IF(T17="AI",4,IF(T17="AF",6,IF(T17="AS",8,IF(T17="AA",10,0))))+IF(U17="AI",2,IF(U17="AF",3,IF(U17="AS",4,IF(U17="AA",5,0))))) | W17: =IF(COUNTA(S17:U17)=0,"",SUM(G17,L17,Q17,V17)) | AA17: =IF(COUNTA(X17:Z17)=0,"",IF(X17="AI",2,IF(X17="AF",3,IF(X17="AS",4,IF(X17="AA",5,0))))+IF(Y17="AI",4,IF(Y17="AF",6,IF(Y17="AS",8,IF(Y17="AA",10,0))))+IF(Z17="AI",2,IF(Z17="AF",3,IF(Z17="AS",4,IF(Z17="AA",5,0))))) | AB17: =IF(COUNTA(X17:Z17)=0,"",SUM(G17,L17,Q17,V17,AA17)) | AC17: =IF((COUNTA(D17:F17)+COUNTA(I17:K17)+COUNTA(N17:P17)+COUNTA(S17:U17)+COUNTA(X17:Z17))<15,"",AB17) | AD17: =IF(AC17="","",IF(AC17<60,"AI",IF(AC17<76,"AF",IF(AC17<90,"AS","AA")))) | AE17: =IF(B17="","",IF(COUNTA(N17:P17)<3,"",IF(IF(COUNTA(X17:Z17)>0,AB17,IF(COUNTA(S17:U17)>0,W17,R17))<60,"Prioritario",IF(AND(COUNTA(X17:Z17)=3,AB17<=75),"Preventivo","")))) | AF17: =IF(AE17="","",IF(AE17="Prioritario","Acumulado actual menor de 60","Nota final entre 60 y 75")) | AG17: =IF(B17="","",IF(COUNTA(D17:F17)=3,1,0)+IF(COUNTA(I17:K17)=3,1,0)+IF(COUNTA(N17:P17)=3,1,0)+IF(COUNTA(S17:U17)=3,1,0)+IF(COUNTA(X17:Z17)=3,1,0))
A18: =IF(Configuración!B21="","",Configuración!A21) | B18: =IF(Configuración!B21="","",Configuración!B21) | C18: =IF(Configuración!B21="","",Configuración!C21) | G18: =IF(COUNTA(D18:F18)=0,"",IF(D18="AI",2,IF(D18="AF",3,IF(D18="AS",4,IF(D18="AA",5,0))))+IF(E18="AI",4,IF(E18="AF",6,IF(E18="AS",8,IF(E18="AA",10,0))))+IF(F18="AI",2,IF(F18="AF",3,IF(F18="AS",4,IF(F18="AA",5,0))))) | H18: =IF(COUNTA(D18:F18)=0,"",G18) | L18: =IF(COUNTA(I18:K18)=0,"",IF(I18="AI",2,IF(I18="AF",3,IF(I18="AS",4,IF(I18="AA",5,0))))+IF(J18="AI",4,IF(J18="AF",6,IF(J18="AS",8,IF(J18="AA",10,0))))+IF(K18="AI",2,IF(K18="AF",3,IF(K18="AS",4,IF(K18="AA",5,0))))) | M18: =IF(COUNTA(I18:K18)=0,"",SUM(G18,L18)) | Q18: =IF(COUNTA(N18:P18)=0,"",IF(N18="AI",2,IF(N18="AF",3,IF(N18="AS",4,IF(N18="AA",5,0))))+IF(O18="AI",4,IF(O18="AF",6,IF(O18="AS",8,IF(O18="AA",10,0))))+IF(P18="AI",2,IF(P18="AF",3,IF(P18="AS",4,IF(P18="AA",5,0))))) | R18: =IF(COUNTA(N18:P18)=0,"",SUM(G18,L18,Q18)) | V18: =IF(COUNTA(S18:U18)=0,"",IF(S18="AI",2,IF(S18="AF",3,IF(S18="AS",4,IF(S18="AA",5,0))))+IF(T18="AI",4,IF(T18="AF",6,IF(T18="AS",8,IF(T18="AA",10,0))))+IF(U18="AI",2,IF(U18="AF",3,IF(U18="AS",4,IF(U18="AA",5,0))))) | W18: =IF(COUNTA(S18:U18)=0,"",SUM(G18,L18,Q18,V18)) | AA18: =IF(COUNTA(X18:Z18)=0,"",IF(X18="AI",2,IF(X18="AF",3,IF(X18="AS",4,IF(X18="AA",5,0))))+IF(Y18="AI",4,IF(Y18="AF",6,IF(Y18="AS",8,IF(Y18="AA",10,0))))+IF(Z18="AI",2,IF(Z18="AF",3,IF(Z18="AS",4,IF(Z18="AA",5,0))))) | AB18: =IF(COUNTA(X18:Z18)=0,"",SUM(G18,L18,Q18,V18,AA18)) | AC18: =IF((COUNTA(D18:F18)+COUNTA(I18:K18)+COUNTA(N18:P18)+COUNTA(S18:U18)+COUNTA(X18:Z18))<15,"",AB18) | AD18: =IF(AC18="","",IF(AC18<60,"AI",IF(AC18<76,"AF",IF(AC18<90,"AS","AA")))) | AE18: =IF(B18="","",IF(COUNTA(N18:P18)<3,"",IF(IF(COUNTA(X18:Z18)>0,AB18,IF(COUNTA(S18:U18)>0,W18,R18))<60,"Prioritario",IF(AND(COUNTA(X18:Z18)=3,AB18<=75),"Preventivo","")))) | AF18: =IF(AE18="","",IF(AE18="Prioritario","Acumulado actual menor de 60","Nota final entre 60 y 75")) | AG18: =IF(B18="","",IF(COUNTA(D18:F18)=3,1,0)+IF(COUNTA(I18:K18)=3,1,0)+IF(COUNTA(N18:P18)=3,1,0)+IF(COUNTA(S18:U18)=3,1,0)+IF(COUNTA(X18:Z18)=3,1,0))
A19: =IF(Configuración!B22="","",Configuración!A22) | B19: =IF(Configuración!B22="","",Configuración!B22) | C19: =IF(Configuración!B22="","",Configuración!C22) | G19: =IF(COUNTA(D19:F19)=0,"",IF(D19="AI",2,IF(D19="AF",3,IF(D19="AS",4,IF(D19="AA",5,0))))+IF(E19="AI",4,IF(E19="AF",6,IF(E19="AS",8,IF(E19="AA",10,0))))+IF(F19="AI",2,IF(F19="AF",3,IF(F19="AS",4,IF(F19="AA",5,0))))) | H19: =IF(COUNTA(D19:F19)=0,"",G19) | L19: =IF(COUNTA(I19:K19)=0,"",IF(I19="AI",2,IF(I19="AF",3,IF(I19="AS",4,IF(I19="AA",5,0))))+IF(J19="AI",4,IF(J19="AF",6,IF(J19="AS",8,IF(J19="AA",10,0))))+IF(K19="AI",2,IF(K19="AF",3,IF(K19="AS",4,IF(K19="AA",5,0))))) | M19: =IF(COUNTA(I19:K19)=0,"",SUM(G19,L19)) | Q19: =IF(COUNTA(N19:P19)=0,"",IF(N19="AI",2,IF(N19="AF",3,IF(N19="AS",4,IF(N19="AA",5,0))))+IF(O19="AI",4,IF(O19="AF",6,IF(O19="AS",8,IF(O19="AA",10,0))))+IF(P19="AI",2,IF(P19="AF",3,IF(P19="AS",4,IF(P19="AA",5,0))))) | R19: =IF(COUNTA(N19:P19)=0,"",SUM(G19,L19,Q19)) | V19: =IF(COUNTA(S19:U19)=0,"",IF(S19="AI",2,IF(S19="AF",3,IF(S19="AS",4,IF(S19="AA",5,0))))+IF(T19="AI",4,IF(T19="AF",6,IF(T19="AS",8,IF(T19="AA",10,0))))+IF(U19="AI",2,IF(U19="AF",3,IF(U19="AS",4,IF(U19="AA",5,0))))) | W19: =IF(COUNTA(S19:U19)=0,"",SUM(G19,L19,Q19,V19)) | AA19: =IF(COUNTA(X19:Z19)=0,"",IF(X19="AI",2,IF(X19="AF",3,IF(X19="AS",4,IF(X19="AA",5,0))))+IF(Y19="AI",4,IF(Y19="AF",6,IF(Y19="AS",8,IF(Y19="AA",10,0))))+IF(Z19="AI",2,IF(Z19="AF",3,IF(Z19="AS",4,IF(Z19="AA",5,0))))) | AB19: =IF(COUNTA(X19:Z19)=0,"",SUM(G19,L19,Q19,V19,AA19)) | AC19: =IF((COUNTA(D19:F19)+COUNTA(I19:K19)+COUNTA(N19:P19)+COUNTA(S19:U19)+COUNTA(X19:Z19))<15,"",AB19) | AD19: =IF(AC19="","",IF(AC19<60,"AI",IF(AC19<76,"AF",IF(AC19<90,"AS","AA")))) | AE19: =IF(B19="","",IF(COUNTA(N19:P19)<3,"",IF(IF(COUNTA(X19:Z19)>0,AB19,IF(COUNTA(S19:U19)>0,W19,R19))<60,"Prioritario",IF(AND(COUNTA(X19:Z19)=3,AB19<=75),"Preventivo","")))) | AF19: =IF(AE19="","",IF(AE19="Prioritario","Acumulado actual menor de 60","Nota final entre 60 y 75")) | AG19: =IF(B19="","",IF(COUNTA(D19:F19)=3,1,0)+IF(COUNTA(I19:K19)=3,1,0)+IF(COUNTA(N19:P19)=3,1,0)+IF(COUNTA(S19:U19)=3,1,0)+IF(COUNTA(X19:Z19)=3,1,0))
... A57: =IF(Configuración!B60="","",Configuración!A60) | B57: =IF(Configuración!B60="","",Configuración!B60) | C57: =IF(Configuración!B60="","",Configuración!C60) | G57: =IF(COUNTA(D57:F57)=0,"",IF(D57="AI",2,IF(D57="AF",3,IF(D57="AS",4,IF(D57="AA",5,0))))+IF(E57="AI",4,IF(E57="AF",6,IF(E57="AS",8,IF(E57="AA",10,0))))+IF(F57="AI",2,IF(F57="AF",3,IF(F57="AS",4,IF(F57="AA",5,0))))) | H57: =IF(COUNTA(D57:F57)=0,"",G57) | L57: =IF(COUNTA(I57:K57)=0,"",IF(I57="AI",2,IF(I57="AF",3,IF(I57="AS",4,IF(I57="AA",5,0))))+IF(J57="AI",4,IF(J57="AF",6,IF(J57="AS",8,IF(J57="AA",10,0))))+IF(K57="AI",2,IF(K57="AF",3,IF(K57="AS",4,IF(K57="AA",5,0))))) | M57: =IF(COUNTA(I57:K57)=0,"",SUM(G57,L57)) | Q57: =IF(COUNTA(N57:P57)=0,"",IF(N57="AI",2,IF(N57="AF",3,IF(N57="AS",4,IF(N57="AA",5,0))))+IF(O57="AI",4,IF(O57="AF",6,IF(O57="AS",8,IF(O57="AA",10,0))))+IF(P57="AI",2,IF(P57="AF",3,IF(P57="AS",4,IF(P57="AA",5,0))))) | R57: =IF(COUNTA(N57:P57)=0,"",SUM(G57,L57,Q57)) | V57: =IF(COUNTA(S57:U57)=0,"",IF(S57="AI",2,IF(S57="AF",3,IF(S57="AS",4,IF(S57="AA",5,0))))+IF(T57="AI",4,IF(T57="AF",6,IF(T57="AS",8,IF(T57="AA",10,0))))+IF(U57="AI",2,IF(U57="AF",3,IF(U57="AS",4,IF(U57="AA",5,0))))) | W57: =IF(COUNTA(S57:U57)=0,"",SUM(G57,L57,Q57,V57)) | AA57: =IF(COUNTA(X57:Z57)=0,"",IF(X57="AI",2,IF(X57="AF",3,IF(X57="AS",4,IF(X57="AA",5,0))))+IF(Y57="AI",4,IF(Y57="AF",6,IF(Y57="AS",8,IF(Y57="AA",10,0))))+IF(Z57="AI",2,IF(Z57="AF",3,IF(Z57="AS",4,IF(Z57="AA",5,0))))) | AB57: =IF(COUNTA(X57:Z57)=0,"",SUM(G57,L57,Q57,V57,AA57)) | AC57: =IF((COUNTA(D57:F57)+COUNTA(I57:K57)+COUNTA(N57:P57)+COUNTA(S57:U57)+COUNTA(X57:Z57))<15,"",AB57) | AD57: =IF(AC57="","",IF(AC57<60,"AI",IF(AC57<76,"AF",IF(AC57<90,"AS","AA")))) | AE57: =IF(B57="","",IF(COUNTA(N57:P57)<3,"",IF(IF(COUNTA(X57:Z57)>0,AB57,IF(COUNTA(S57:U57)>0,W57,R57))<60,"Prioritario",IF(AND(COUNTA(X57:Z57)=3,AB57<=75),"Preventivo","")))) | AF57: =IF(AE57="","",IF(AE57="Prioritario","Acumulado actual menor de 60","Nota final entre 60 y 75")) | AG57: =IF(B57="","",IF(COUNTA(D57:F57)=3,1,0)+IF(COUNTA(I57:K57)=3,1,0)+IF(COUNTA(N57:P57)=3,1,0)+IF(COUNTA(S57:U57)=3,1,0)+IF(COUNTA(X57:Z57)=3,1,0))
A61: ESTUDIANTES QUE REQUIEREN SEGUIMIENTO
A62: La alerta inicia al completar el Indicador 3 si el acumulado es menor de 60 y se recalcula con cada indicador posterior.
A64: Nº | B64: Estudiante | C64: Sexo | D64: Acumulado actual | E64: Nivel/Estado | F64: Seguimiento | G64: Motivo
A65: =IF($AE8="","",A8) | B65: =IF($AE8="","",B8&" "&C8) | C65: =IF($AE8="","",Configuración!E11) | D65: =IF($AE8="","",IF(COUNTA(X8:Z8)>0,AB8,IF(COUNTA(S8:U8)>0,W8,IF(COUNTA(N8:P8)>0,R8,"")))) | E65: =IF($AE8="","",IF(AC8<>"",AD8,"En proceso")) | F65: =IF($AE8="","",AE8) | G65: =IF($AE8="","",AF8)
A66: =IF($AE9="","",A9) | B66: =IF($AE9="","",B9&" "&C9) | C66: =IF($AE9="","",Configuración!E12) | D66: =IF($AE9="","",IF(COUNTA(X9:Z9)>0,AB9,IF(COUNTA(S9:U9)>0,W9,IF(COUNTA(N9:P9)>0,R9,"")))) | E66: =IF($AE9="","",IF(AC9<>"",AD9,"En proceso")) | F66: =IF($AE9="","",AE9) | G66: =IF($AE9="","",AF9)
A67: =IF($AE10="","",A10) | B67: =IF($AE10="","",B10&" "&C10) | C67: =IF($AE10="","",Configuración!E13) | D67: =IF($AE10="","",IF(COUNTA(X10:Z10)>0,AB10,IF(COUNTA(S10:U10)>0,W10,IF(COUNTA(N10:P10)>0,R10,"")))) | E67: =IF($AE10="","",IF(AC10<>"",AD10,"En proceso")) | F67: =IF($AE10="","",AE10) | G67: =IF($AE10="","",AF10)
A68: =IF($AE11="","",A11) | B68: =IF($AE11="","",B11&" "&C11) | C68: =IF($AE11="","",Configuración!E14) | D68: =IF($AE11="","",IF(COUNTA(X11:Z11)>0,AB11,IF(COUNTA(S11:U11)>0,W11,IF(COUNTA(N11:P11)>0,R11,"")))) | E68: =IF($AE11="","",IF(AC11<>"",AD11,"En proceso")) | F68: =IF($AE11="","",AE11) | G68: =IF($AE11="","",AF11)
A69: =IF($AE12="","",A12) | B69: =IF($AE12="","",B12&" "&C12) | C69: =IF($AE12="","",Configuración!E15) | D69: =IF($AE12="","",IF(COUNTA(X12:Z12)>0,AB12,IF(COUNTA(S12:U12)>0,W12,IF(COUNTA(N12:P12)>0,R12,"")))) | E69: =IF($AE12="","",IF(AC12<>"",AD12,"En proceso")) | F69: =IF($AE12="","",AE12) | G69: =IF($AE12="","",AF12)
A70: =IF($AE13="","",A13) | B70: =IF($AE13="","",B13&" "&C13) | C70: =IF($AE13="","",Configuración!E16) | D70: =IF($AE13="","",IF(COUNTA(X13:Z13)>0,AB13,IF(COUNTA(S13:U13)>0,W13,IF(COUNTA(N13:P13)>0,R13,"")))) | E70: =IF($AE13="","",IF(AC13<>"",AD13,"En proceso")) | F70: =IF($AE13="","",AE13) | G70: =IF($AE13="","",AF13)
A71: =IF($AE14="","",A14) | B71: =IF($AE14="","",B14&" "&C14) | C71: =IF($AE14="","",Configuración!E17) | D71: =IF($AE14="","",IF(COUNTA(X14:Z14)>0,AB14,IF(COUNTA(S14:U14)>0,W14,IF(COUNTA(N14:P14)>0,R14,"")))) | E71: =IF($AE14="","",IF(AC14<>"",AD14,"En proceso")) | F71: =IF($AE14="","",AE14) | G71: =IF($AE14="","",AF14)
A72: =IF($AE15="","",A15) | B72: =IF($AE15="","",B15&" "&C15) | C72: =IF($AE15="","",Configuración!E18) | D72: =IF($AE15="","",IF(COUNTA(X15:Z15)>0,AB15,IF(COUNTA(S15:U15)>0,W15,IF(COUNTA(N15:P15)>0,R15,"")))) | E72: =IF($AE15="","",IF(AC15<>"",AD15,"En proceso")) | F72: =IF($AE15="","",AE15) | G72: =IF($AE15="","",AF15)
A73: =IF($AE16="","",A16) | B73: =IF($AE16="","",B16&" "&C16) | C73: =IF($AE16="","",Configuración!E19) | D73: =IF($AE16="","",IF(COUNTA(X16:Z16)>0,AB16,IF(COUNTA(S16:U16)>0,W16,IF(COUNTA(N16:P16)>0,R16,"")))) | E73: =IF($AE16="","",IF(AC16<>"",AD16,"En proceso")) | F73: =IF($AE16="","",AE16) | G73: =IF($AE16="","",AF16)
A74: =IF($AE17="","",A17) | B74: =IF($AE17="","",B17&" "&C17) | C74: =IF($AE17="","",Configuración!E20) | D74: =IF($AE17="","",IF(COUNTA(X17:Z17)>0,AB17,IF(COUNTA(S17:U17)>0,W17,IF(COUNTA(N17:P17)>0,R17,"")))) | E74: =IF($AE17="","",IF(AC17<>"",AD17,"En proceso")) | F74: =IF($AE17="","",AE17) | G74: =IF($AE17="","",AF17)
A75: =IF($AE18="","",A18) | B75: =IF($AE18="","",B18&" "&C18) | C75: =IF($AE18="","",Configuración!E21) | D75: =IF($AE18="","",IF(COUNTA(X18:Z18)>0,AB18,IF(COUNTA(S18:U18)>0,W18,IF(COUNTA(N18:P18)>0,R18,"")))) | E75: =IF($AE18="","",IF(AC18<>"",AD18,"En proceso")) | F75: =IF($AE18="","",AE18) | G75: =IF($AE18="","",AF18)
A76: =IF($AE19="","",A19) | B76: =IF($AE19="","",B19&" "&C19) | C76: =IF($AE19="","",Configuración!E22) | D76: =IF($AE19="","",IF(COUNTA(X19:Z19)>0,AB19,IF(COUNTA(S19:U19)>0,W19,IF(COUNTA(N19:P19)>0,R19,"")))) | E76: =IF($AE19="","",IF(AC19<>"",AD19,"En proceso")) | F76: =IF($AE19="","",AE19) | G76: =IF($AE19="","",AF19)
... A114: =IF($AE57="","",A57) | B114: =IF($AE57="","",B57&" "&C57) | C114: =IF($AE57="","",Configuración!E60) | D114: =IF($AE57="","",IF(COUNTA(X57:Z57)>0,AB57,IF(COUNTA(S57:U57)>0,W57,IF(COUNTA(N57:P57)>0,R57,"")))) | E114: =IF($AE57="","",IF(AC57<>"",AD57,"En proceso")) | F114: =IF($AE57="","",AE57) | G114: =IF($AE57="","",AF57)
A116: Autoría: Ing. Reynaldo R Castillo Martínez · IngNovaR · contacto@ingnovar.com · https://ingnovar.com/

Sheet II Semestre
A1: II SEMESTRE — CONSOLIDADO
A4: Nº | B4: Nombres | C4: Apellidos | D4: Sexo | E4: III Corte | F4: IV Corte | G4: II Semestre | H4: Nivel | I4: Estado
A5: =IF(Configuración!B11="","",Configuración!A11) | B5: =IF(Configuración!B11="","",Configuración!B11) | C5: =IF(Configuración!B11="","",Configuración!C11) | D5: =IF(Configuración!B11="","",Configuración!E11) | E5: =IF('III Corte'!AC8="","",'III Corte'!AC8) | F5: =IF('IV Corte'!AC8="","",'IV Corte'!AC8) | G5: =IF(COUNT(E5:F5)<2,"",ROUND(AVERAGE(E5:F5),0)) | H5: =IF(G5="","",IF(G5<60,"AI",IF(G5<76,"AF",IF(G5<90,"AS","AA")))) | I5: =IF(Configuración!B11="","",Configuración!D11)
A6: =IF(Configuración!B12="","",Configuración!A12) | B6: =IF(Configuración!B12="","",Configuración!B12) | C6: =IF(Configuración!B12="","",Configuración!C12) | D6: =IF(Configuración!B12="","",Configuración!E12) | E6: =IF('III Corte'!AC9="","",'III Corte'!AC9) | F6: =IF('IV Corte'!AC9="","",'IV Corte'!AC9) | G6: =IF(COUNT(E6:F6)<2,"",ROUND(AVERAGE(E6:F6),0)) | H6: =IF(G6="","",IF(G6<60,"AI",IF(G6<76,"AF",IF(G6<90,"AS","AA")))) | I6: =IF(Configuración!B12="","",Configuración!D12)
A7: =IF(Configuración!B13="","",Configuración!A13) | B7: =IF(Configuración!B13="","",Configuración!B13) | C7: =IF(Configuración!B13="","",Configuración!C13) | D7: =IF(Configuración!B13="","",Configuración!E13) | E7: =IF('III Corte'!AC10="","",'III Corte'!AC10) | F7: =IF('IV Corte'!AC10="","",'IV Corte'!AC10) | G7: =IF(COUNT(E7:F7)<2,"",ROUND(AVERAGE(E7:F7),0)) | H7: =IF(G7="","",IF(G7<60,"AI",IF(G7<76,"AF",IF(G7<90,"AS","AA")))) | I7: =IF(Configuración!B13="","",Configuración!D13)
A8: =IF(Configuración!B14="","",Configuración!A14) | B8: =IF(Configuración!B14="","",Configuración!B14) | C8: =IF(Configuración!B14="","",Configuración!C14) | D8: =IF(Configuración!B14="","",Configuración!E14) | E8: =IF('III Corte'!AC11="","",'III Corte'!AC11) | F8: =IF('IV Corte'!AC11="","",'IV Corte'!AC11) | G8: =IF(COUNT(E8:F8)<2,"",ROUND(AVERAGE(E8:F8),0)) | H8: =IF(G8="","",IF(G8<60,"AI",IF(G8<76,"AF",IF(G8<90,"AS","AA")))) | I8: =IF(Configuración!B14="","",Configuración!D14)
A9: =IF(Configuración!B15="","",Configuración!A15) | B9: =IF(Configuración!B15="","",Configuración!B15) | C9: =IF(Configuración!B15="","",Configuración!C15) | D9: =IF(Configuración!B15="","",Configuración!E15) | E9: =IF('III Corte'!AC12="","",'III Corte'!AC12) | F9: =IF('IV Corte'!AC12="","",'IV Corte'!AC12) | G9: =IF(COUNT(E9:F9)<2,"",ROUND(AVERAGE(E9:F9),0)) | H9: =IF(G9="","",IF(G9<60,"AI",IF(G9<76,"AF",IF(G9<90,"AS","AA")))) | I9: =IF(Configuración!B15="","",Configuración!D15)
A10: =IF(Configuración!B16="","",Configuración!A16) | B10: =IF(Configuración!B16="","",Configuración!B16) | C10: =IF(Configuración!B16="","",Configuración!C16) | D10: =IF(Configuración!B16="","",Configuración!E16) | E10: =IF('III Corte'!AC13="","",'III Corte'!AC13) | F10: =IF('IV Corte'!AC13="","",'IV Corte'!AC13) | G10: =IF(COUNT(E10:F10)<2,"",ROUND(AVERAGE(E10:F10),0)) | H10: =IF(G10="","",IF(G10<60,"AI",IF(G10<76,"AF",IF(G10<90,"AS","AA")))) | I10: =IF(Configuración!B16="","",Configuración!D16)
A11: =IF(Configuración!B17="","",Configuración!A17) | B11: =IF(Configuración!B17="","",Configuración!B17) | C11: =IF(Configuración!B17="","",Configuración!C17) | D11: =IF(Configuración!B17="","",Configuración!E17) | E11: =IF('III Corte'!AC14="","",'III Corte'!AC14) | F11: =IF('IV Corte'!AC14="","",'IV Corte'!AC14) | G11: =IF(COUNT(E11:F11)<2,"",ROUND(AVERAGE(E11:F11),0)) | H11: =IF(G11="","",IF(G11<60,"AI",IF(G11<76,"AF",IF(G11<90,"AS","AA")))) | I11: =IF(Configuración!B17="","",Configuración!D17)
A12: =IF(Configuración!B18="","",Configuración!A18) | B12: =IF(Configuración!B18="","",Configuración!B18) | C12: =IF(Configuración!B18="","",Configuración!C18) | D12: =IF(Configuración!B18="","",Configuración!E18) | E12: =IF('III Corte'!AC15="","",'III Corte'!AC15) | F12: =IF('IV Corte'!AC15="","",'IV Corte'!AC15) | G12: =IF(COUNT(E12:F12)<2,"",ROUND(AVERAGE(E12:F12),0)) | H12: =IF(G12="","",IF(G12<60,"AI",IF(G12<76,"AF",IF(G12<90,"AS","AA")))) | I12: =IF(Configuración!B18="","",Configuración!D18)
A13: =IF(Configuración!B19="","",Configuración!A19) | B13: =IF(Configuración!B19="","",Configuración!B19) | C13: =IF(Configuración!B19="","",Configuración!C19) | D13: =IF(Configuración!B19="","",Configuración!E19) | E13: =IF('III Corte'!AC16="","",'III Corte'!AC16) | F13: =IF('IV Corte'!AC16="","",'IV Corte'!AC16) | G13: =IF(COUNT(E13:F13)<2,"",ROUND(AVERAGE(E13:F13),0)) | H13: =IF(G13="","",IF(G13<60,"AI",IF(G13<76,"AF",IF(G13<90,"AS","AA")))) | I13: =IF(Configuración!B19="","",Configuración!D19)
A14: =IF(Configuración!B20="","",Configuración!A20) | B14: =IF(Configuración!B20="","",Configuración!B20) | C14: =IF(Configuración!B20="","",Configuración!C20) | D14: =IF(Configuración!B20="","",Configuración!E20) | E14: =IF('III Corte'!AC17="","",'III Corte'!AC17) | F14: =IF('IV Corte'!AC17="","",'IV Corte'!AC17) | G14: =IF(COUNT(E14:F14)<2,"",ROUND(AVERAGE(E14:F14),0)) | H14: =IF(G14="","",IF(G14<60,"AI",IF(G14<76,"AF",IF(G14<90,"AS","AA")))) | I14: =IF(Configuración!B20="","",Configuración!D20)
A15: =IF(Configuración!B21="","",Configuración!A21) | B15: =IF(Configuración!B21="","",Configuración!B21) | C15: =IF(Configuración!B21="","",Configuración!C21) | D15: =IF(Configuración!B21="","",Configuración!E21) | E15: =IF('III Corte'!AC18="","",'III Corte'!AC18) | F15: =IF('IV Corte'!AC18="","",'IV Corte'!AC18) | G15: =IF(COUNT(E15:F15)<2,"",ROUND(AVERAGE(E15:F15),0)) | H15: =IF(G15="","",IF(G15<60,"AI",IF(G15<76,"AF",IF(G15<90,"AS","AA")))) | I15: =IF(Configuración!B21="","",Configuración!D21)
A16: =IF(Configuración!B22="","",Configuración!A22) | B16: =IF(Configuración!B22="","",Configuración!B22) | C16: =IF(Configuración!B22="","",Configuración!C22) | D16: =IF(Configuración!B22="","",Configuración!E22) | E16: =IF('III Corte'!AC19="","",'III Corte'!AC19) | F16: =IF('IV Corte'!AC19="","",'IV Corte'!AC19) | G16: =IF(COUNT(E16:F16)<2,"",ROUND(AVERAGE(E16:F16),0)) | H16: =IF(G16="","",IF(G16<60,"AI",IF(G16<76,"AF",IF(G16<90,"AS","AA")))) | I16: =IF(Configuración!B22="","",Configuración!D22)
... A54: =IF(Configuración!B60="","",Configuración!A60) | B54: =IF(Configuración!B60="","",Configuración!B60) | C54: =IF(Configuración!B60="","",Configuración!C60) | D54: =IF(Configuración!B60="","",Configuración!E60) | E54: =IF('III Corte'!AC57="","",'III Corte'!AC57) | F54: =IF('IV Corte'!AC57="","",'IV Corte'!AC57) | G54: =IF(COUNT(E54:F54)<2,"",ROUND(AVERAGE(E54:F54),0)) | H54: =IF(G54="","",IF(G54<60,"AI",IF(G54<76,"AF",IF(G54<90,"AS","AA")))) | I54: =IF(Configuración!B60="","",Configuración!D60)
A58: ESTUDIANTES QUE REQUIEREN SEGUIMIENTO
A59: Seguimiento prioritario: nota semestral menor de 60 · Seguimiento preventivo: nota semestral entre 60 y 75.
A61: Nº | B61: Estudiante | C61: Sexo | D61: Nota semestral | E61: Nivel | F61: Seguimiento | G61: Motivo
A62: =IF(OR($G5="",$G5>75),"",A5) | B62: =IF(OR($G5="",$G5>75),"",B5&" "&C5) | C62: =IF(OR($G5="",$G5>75),"",D5) | D62: =IF(OR($G5="",$G5>75),"",G5) | E62: =IF(OR($G5="",$G5>75),"",H5) | F62: =IF(OR($G5="",$G5>75),"",IF(G5<60,"Prioritario","Preventivo")) | G62: =IF(OR($G5="",$G5>75),"",IF(G5<60,"Nota semestral menor de 60","Nota semestral entre 60 y 75"))
A63: =IF(OR($G6="",$G6>75),"",A6) | B63: =IF(OR($G6="",$G6>75),"",B6&" "&C6) | C63: =IF(OR($G6="",$G6>75),"",D6) | D63: =IF(OR($G6="",$G6>75),"",G6) | E63: =IF(OR($G6="",$G6>75),"",H6) | F63: =IF(OR($G6="",$G6>75),"",IF(G6<60,"Prioritario","Preventivo")) | G63: =IF(OR($G6="",$G6>75),"",IF(G6<60,"Nota semestral menor de 60","Nota semestral entre 60 y 75"))
A64: =IF(OR($G7="",$G7>75),"",A7) | B64: =IF(OR($G7="",$G7>75),"",B7&" "&C7) | C64: =IF(OR($G7="",$G7>75),"",D7) | D64: =IF(OR($G7="",$G7>75),"",G7) | E64: =IF(OR($G7="",$G7>75),"",H7) | F64: =IF(OR($G7="",$G7>75),"",IF(G7<60,"Prioritario","Preventivo")) | G64: =IF(OR($G7="",$G7>75),"",IF(G7<60,"Nota semestral menor de 60","Nota semestral entre 60 y 75"))
A65: =IF(OR($G8="",$G8>75),"",A8) | B65: =IF(OR($G8="",$G8>75),"",B8&" "&C8) | C65: =IF(OR($G8="",$G8>75),"",D8) | D65: =IF(OR($G8="",$G8>75),"",G8) | E65: =IF(OR($G8="",$G8>75),"",H8) | F65: =IF(OR($G8="",$G8>75),"",IF(G8<60,"Prioritario","Preventivo")) | G65: =IF(OR($G8="",$G8>75),"",IF(G8<60,"Nota semestral menor de 60","Nota semestral entre 60 y 75"))
A66: =IF(OR($G9="",$G9>75),"",A9) | B66: =IF(OR($G9="",$G9>75),"",B9&" "&C9) | C66: =IF(OR($G9="",$G9>75),"",D9) | D66: =IF(OR($G9="",$G9>75),"",G9) | E66: =IF(OR($G9="",$G9>75),"",H9) | F66: =IF(OR($G9="",$G9>75),"",IF(G9<60,"Prioritario","Preventivo")) | G66: =IF(OR($G9="",$G9>75),"",IF(G9<60,"Nota semestral menor de 60","Nota semestral entre 60 y 75"))
A67: =IF(OR($G10="",$G10>75),"",A10) | B67: =IF(OR($G10="",$G10>75),"",B10&" "&C10) | C67: =IF(OR($G10="",$G10>75),"",D10) | D67: =IF(OR($G10="",$G10>75),"",G10) | E67: =IF(OR($G10="",$G10>75),"",H10) | F67: =IF(OR($G10="",$G10>75),"",IF(G10<60,"Prioritario","Preventivo")) | G67: =IF(OR($G10="",$G10>75),"",IF(G10<60,"Nota semestral menor de 60","Nota semestral entre 60 y 75"))
A68: =IF(OR($G11="",$G11>75),"",A11) | B68: =IF(OR($G11="",$G11>75),"",B11&" "&C11) | C68: =IF(OR($G11="",$G11>75),"",D11) | D68: =IF(OR($G11="",$G11>75),"",G11) | E68: =IF(OR($G11="",$G11>75),"",H11) | F68: =IF(OR($G11="",$G11>75),"",IF(G11<60,"Prioritario","Preventivo")) | G68: =IF(OR($G11="",$G11>75),"",IF(G11<60,"Nota semestral menor de 60","Nota semestral entre 60 y 75"))
A69: =IF(OR($G12="",$G12>75),"",A12) | B69: =IF(OR($G12="",$G12>75),"",B12&" "&C12) | C69: =IF(OR($G12="",$G12>75),"",D12) | D69: =IF(OR($G12="",$G12>75),"",G12) | E69: =IF(OR($G12="",$G12>75),"",H12) | F69: =IF(OR($G12="",$G12>75),"",IF(G12<60,"Prioritario","Preventivo")) | G69: =IF(OR($G12="",$G12>75),"",IF(G12<60,"Nota semestral menor de 60","Nota semestral entre 60 y 75"))
A70: =IF(OR($G13="",$G13>75),"",A13) | B70: =IF(OR($G13="",$G13>75),"",B13&" "&C13) | C70: =IF(OR($G13="",$G13>75),"",D13) | D70: =IF(OR($G13="",$G13>75),"",G13) | E70: =IF(OR($G13="",$G13>75),"",H13) | F70: =IF(OR($G13="",$G13>75),"",IF(G13<60,"Prioritario","Preventivo")) | G70: =IF(OR($G13="",$G13>75),"",IF(G13<60,"Nota semestral menor de 60","Nota semestral entre 60 y 75"))
A71: =IF(OR($G14="",$G14>75),"",A14) | B71: =IF(OR($G14="",$G14>75),"",B14&" "&C14) | C71: =IF(OR($G14="",$G14>75),"",D14) | D71: =IF(OR($G14="",$G14>75),"",G14) | E71: =IF(OR($G14="",$G14>75),"",H14) | F71: =IF(OR($G14="",$G14>75),"",IF(G14<60,"Prioritario","Preventivo")) | G71: =IF(OR($G14="",$G14>75),"",IF(G14<60,"Nota semestral menor de 60","Nota semestral entre 60 y 75"))
A72: =IF(OR($G15="",$G15>75),"",A15) | B72: =IF(OR($G15="",$G15>75),"",B15&" "&C15) | C72: =IF(OR($G15="",$G15>75),"",D15) | D72: =IF(OR($G15="",$G15>75),"",G15) | E72: =IF(OR($G15="",$G15>75),"",H15) | F72: =IF(OR($G15="",$G15>75),"",IF(G15<60,"Prioritario","Preventivo")) | G72: =IF(OR($G15="",$G15>75),"",IF(G15<60,"Nota semestral menor de 60","Nota semestral entre 60 y 75"))
A73: =IF(OR($G16="",$G16>75),"",A16) | B73: =IF(OR($G16="",$G16>75),"",B16&" "&C16) | C73: =IF(OR($G16="",$G16>75),"",D16) | D73: =IF(OR($G16="",$G16>75),"",G16) | E73: =IF(OR($G16="",$G16>75),"",H16) | F73: =IF(OR($G16="",$G16>75),"",IF(G16<60,"Prioritario","Preventivo")) | G73: =IF(OR($G16="",$G16>75),"",IF(G16<60,"Nota semestral menor de 60","Nota semestral entre 60 y 75"))
... A111: =IF(OR($G54="",$G54>75),"",A54) | B111: =IF(OR($G54="",$G54>75),"",B54&" "&C54) | C111: =IF(OR($G54="",$G54>75),"",D54) | D111: =IF(OR($G54="",$G54>75),"",G54) | E111: =IF(OR($G54="",$G54>75),"",H54) | F111: =IF(OR($G54="",$G54>75),"",IF(G54<60,"Prioritario","Preventivo")) | G111: =IF(OR($G54="",$G54>75),"",IF(G54<60,"Nota semestral menor de 60","Nota semestral entre 60 y 75"))
A113: Autoría: Ing. Reynaldo R Castillo Martínez · IngNovaR · contacto@ingnovar.com · https://ingnovar.com/

Sheet Nota Final
A1: NOTA FINAL — CONSOLIDADO ANUAL
A4: Nº | B4: Nombres | C4: Apellidos | D4: Sexo | E4: I Semestre | F4: II Semestre | G4: Nota Final | H4: Nivel Final | I4: Estado
A5: =IF(Configuración!B11="","",Configuración!A11) | B5: =IF(Configuración!B11="","",Configuración!B11) | C5: =IF(Configuración!B11="","",Configuración!C11) | D5: =IF(Configuración!B11="","",Configuración!E11) | E5: =IF('I Semestre'!G5="","",'I Semestre'!G5) | F5: =IF('II Semestre'!G5="","",'II Semestre'!G5) | G5: =IF(COUNT(E5:F5)<2,"",ROUND(AVERAGE(E5:F5),0)) | H5: =IF(G5="","",IF(G5<60,"AI",IF(G5<76,"AF",IF(G5<90,"AS","AA")))) | I5: =IF(Configuración!B11="","",Configuración!D11)
A6: =IF(Configuración!B12="","",Configuración!A12) | B6: =IF(Configuración!B12="","",Configuración!B12) | C6: =IF(Configuración!B12="","",Configuración!C12) | D6: =IF(Configuración!B12="","",Configuración!E12) | E6: =IF('I Semestre'!G6="","",'I Semestre'!G6) | F6: =IF('II Semestre'!G6="","",'II Semestre'!G6) | G6: =IF(COUNT(E6:F6)<2,"",ROUND(AVERAGE(E6:F6),0)) | H6: =IF(G6="","",IF(G6<60,"AI",IF(G6<76,"AF",IF(G6<90,"AS","AA")))) | I6: =IF(Configuración!B12="","",Configuración!D12)
A7: =IF(Configuración!B13="","",Configuración!A13) | B7: =IF(Configuración!B13="","",Configuración!B13) | C7: =IF(Configuración!B13="","",Configuración!C13) | D7: =IF(Configuración!B13="","",Configuración!E13) | E7: =IF('I Semestre'!G7="","",'I Semestre'!G7) | F7: =IF('II Semestre'!G7="","",'II Semestre'!G7) | G7: =IF(COUNT(E7:F7)<2,"",ROUND(AVERAGE(E7:F7),0)) | H7: =IF(G7="","",IF(G7<60,"AI",IF(G7<76,"AF",IF(G7<90,"AS","AA")))) | I7: =IF(Configuración!B13="","",Configuración!D13)
A8: =IF(Configuración!B14="","",Configuración!A14) | B8: =IF(Configuración!B14="","",Configuración!B14) | C8: =IF(Configuración!B14="","",Configuración!C14) | D8: =IF(Configuración!B14="","",Configuración!E14) | E8: =IF('I Semestre'!G8="","",'I Semestre'!G8) | F8: =IF('II Semestre'!G8="","",'II Semestre'!G8) | G8: =IF(COUNT(E8:F8)<2,"",ROUND(AVERAGE(E8:F8),0)) | H8: =IF(G8="","",IF(G8<60,"AI",IF(G8<76,"AF",IF(G8<90,"AS","AA")))) | I8: =IF(Configuración!B14="","",Configuración!D14)
A9: =IF(Configuración!B15="","",Configuración!A15) | B9: =IF(Configuración!B15="","",Configuración!B15) | C9: =IF(Configuración!B15="","",Configuración!C15) | D9: =IF(Configuración!B15="","",Configuración!E15) | E9: =IF('I Semestre'!G9="","",'I Semestre'!G9) | F9: =IF('II Semestre'!G9="","",'II Semestre'!G9) | G9: =IF(COUNT(E9:F9)<2,"",ROUND(AVERAGE(E9:F9),0)) | H9: =IF(G9="","",IF(G9<60,"AI",IF(G9<76,"AF",IF(G9<90,"AS","AA")))) | I9: =IF(Configuración!B15="","",Configuración!D15)
A10: =IF(Configuración!B16="","",Configuración!A16) | B10: =IF(Configuración!B16="","",Configuración!B16) | C10: =IF(Configuración!B16="","",Configuración!C16) | D10: =IF(Configuración!B16="","",Configuración!E16) | E10: =IF('I Semestre'!G10="","",'I Semestre'!G10) | F10: =IF('II Semestre'!G10="","",'II Semestre'!G10) | G10: =IF(COUNT(E10:F10)<2,"",ROUND(AVERAGE(E10:F10),0)) | H10: =IF(G10="","",IF(G10<60,"AI",IF(G10<76,"AF",IF(G10<90,"AS","AA")))) | I10: =IF(Configuración!B16="","",Configuración!D16)
A11: =IF(Configuración!B17="","",Configuración!A17) | B11: =IF(Configuración!B17="","",Configuración!B17) | C11: =IF(Configuración!B17="","",Configuración!C17) | D11: =IF(Configuración!B17="","",Configuración!E17) | E11: =IF('I Semestre'!G11="","",'I Semestre'!G11) | F11: =IF('II Semestre'!G11="","",'II Semestre'!G11) | G11: =IF(COUNT(E11:F11)<2,"",ROUND(AVERAGE(E11:F11),0)) | H11: =IF(G11="","",IF(G11<60,"AI",IF(G11<76,"AF",IF(G11<90,"AS","AA")))) | I11: =IF(Configuración!B17="","",Configuración!D17)
A12: =IF(Configuración!B18="","",Configuración!A18) | B12: =IF(Configuración!B18="","",Configuración!B18) | C12: =IF(Configuración!B18="","",Configuración!C18) | D12: =IF(Configuración!B18="","",Configuración!E18) | E12: =IF('I Semestre'!G12="","",'I Semestre'!G12) | F12: =IF('II Semestre'!G12="","",'II Semestre'!G12) | G12: =IF(COUNT(E12:F12)<2,"",ROUND(AVERAGE(E12:F12),0)) | H12: =IF(G12="","",IF(G12<60,"AI",IF(G12<76,"AF",IF(G12<90,"AS","AA")))) | I12: =IF(Configuración!B18="","",Configuración!D18)
A13: =IF(Configuración!B19="","",Configuración!A19) | B13: =IF(Configuración!B19="","",Configuración!B19) | C13: =IF(Configuración!B19="","",Configuración!C19) | D13: =IF(Configuración!B19="","",Configuración!E19) | E13: =IF('I Semestre'!G13="","",'I Semestre'!G13) | F13: =IF('II Semestre'!G13="","",'II Semestre'!G13) | G13: =IF(COUNT(E13:F13)<2,"",ROUND(AVERAGE(E13:F13),0)) | H13: =IF(G13="","",IF(G13<60,"AI",IF(G13<76,"AF",IF(G13<90,"AS","AA")))) | I13: =IF(Configuración!B19="","",Configuración!D19)
A14: =IF(Configuración!B20="","",Configuración!A20) | B14: =IF(Configuración!B20="","",Configuración!B20) | C14: =IF(Configuración!B20="","",Configuración!C20) | D14: =IF(Configuración!B20="","",Configuración!E20) | E14: =IF('I Semestre'!G14="","",'I Semestre'!G14) | F14: =IF('II Semestre'!G14="","",'II Semestre'!G14) | G14: =IF(COUNT(E14:F14)<2,"",ROUND(AVERAGE(E14:F14),0)) | H14: =IF(G14="","",IF(G14<60,"AI",IF(G14<76,"AF",IF(G14<90,"AS","AA")))) | I14: =IF(Configuración!B20="","",Configuración!D20)
A15: =IF(Configuración!B21="","",Configuración!A21) | B15: =IF(Configuración!B21="","",Configuración!B21) | C15: =IF(Configuración!B21="","",Configuración!C21) | D15: =IF(Configuración!B21="","",Configuración!E21) | E15: =IF('I Semestre'!G15="","",'I Semestre'!G15) | F15: =IF('II Semestre'!G15="","",'II Semestre'!G15) | G15: =IF(COUNT(E15:F15)<2,"",ROUND(AVERAGE(E15:F15),0)) | H15: =IF(G15="","",IF(G15<60,"AI",IF(G15<76,"AF",IF(G15<90,"AS","AA")))) | I15: =IF(Configuración!B21="","",Configuración!D21)
A16: =IF(Configuración!B22="","",Configuración!A22) | B16: =IF(Configuración!B22="","",Configuración!B22) | C16: =IF(Configuración!B22="","",Configuración!C22) | D16: =IF(Configuración!B22="","",Configuración!E22) | E16: =IF('I Semestre'!G16="","",'I Semestre'!G16) | F16: =IF('II Semestre'!G16="","",'II Semestre'!G16) | G16: =IF(COUNT(E16:F16)<2,"",ROUND(AVERAGE(E16:F16),0)) | H16: =IF(G16="","",IF(G16<60,"AI",IF(G16<76,"AF",IF(G16<90,"AS","AA")))) | I16: =IF(Configuración!B22="","",Configuración!D22)
... A54: =IF(Configuración!B60="","",Configuración!A60) | B54: =IF(Configuración!B60="","",Configuración!B60) | C54: =IF(Configuración!B60="","",Configuración!C60) | D54: =IF(Configuración!B60="","",Configuración!E60) | E54: =IF('I Semestre'!G54="","",'I Semestre'!G54) | F54: =IF('II Semestre'!G54="","",'II Semestre'!G54) | G54: =IF(COUNT(E54:F54)<2,"",ROUND(AVERAGE(E54:F54),0)) | H54: =IF(G54="","",IF(G54<60,"AI",IF(G54<76,"AF",IF(G54<90,"AS","AA")))) | I54: =IF(Configuración!B60="","",Configuración!D60)
A56: Autoría: Ing. Reynaldo R Castillo Martínez · IngNovaR · contacto@ingnovar.com · https://ingnovar.com/
